Workbook
Name Verzió: #REF!
Name Verzió: #REF!
Name Verzió: #REF!
Name Verzió: #REF!
Name Verzió: #REF!
Name Verzió: #REF!
Name Verzió: #REF!
Name Verzió: #REF!
Name Verzió: #REF!
Name Verzió: #REF!

Sheet 1.összevont
B1: 1. melléklet a /2026.(………………) önkormányzati rendelethez
A2: Medgyesegyháza Városi Önkormányzat
A3: 2025. ÉVI KÖLTSÉGVETÉSÉNEK ÖSSZEVONT MÉRLEGE (forintban)
A4: BEVÉTELEK
B6: A | C6: B | D6: C | E6: D
B7: Sor- szám | C7: Bevételi jogcímek | D7: 2025. évi előirányzat | E7: 2025. évi mód. előir
B8: 1. | C8: Önkormányzatok működési támogatásai (1.1+……+1.6.) | D8: =SUM(D9:D14) -> 934726324 | E8: =SUM(E9:E14) -> 807430467
B9: 1.1. | C9: Helyi önkormányzatok működésének általános támogatása(B111) | D9: ='7.Önk bev.'!I13 -> 162189157 | E9: ='7.Önk bev.'!J13 -> 179250857
B10: 1.2. | C10: Önkormányzatok egyes köznevelési feladatainak támogatása(B112) | D10: ='7.Önk bev.'!I14 -> 159972470 | E10: ='7.Önk bev.'!J14 -> 191847139
B11: 1.3. | C11: Önkormányzatok szociális és gyermekjóléti feladatainak támogatása(B113) | D11: ='7.Önk bev.'!I15+'7.Önk bev.'!I16+'7.Önk bev.'!I17+'7.Önk bev.'!I18 -> 192419780 | E11: ='7.Önk bev.'!J15+'7.Önk bev.'!J16+'7.Önk bev.'!J17+'7.Önk bev.'!J18 -> 234546793
B12: 1.4. | C12: Önkormányzatok kulturális feladatainak támogatása(B114) | D12: ='7.Önk bev.'!I19 -> 12463522 | E12: ='7.Önk bev.'!J19 -> 12613522
B13: 1.5. | C13: Működési célú költségvetési támogatások és kiegészítő támogatások(B115) | D13: ='7.Önk bev.'!I20 -> 399841367 | E13: ='7.Önk bev.'!J20 -> 179616145
B14: 1.6. | C14: Elszámolásból származó bevételek(B16) | D14: ='7.Önk bev.'!I21 -> 7840028 | E14: ='7.Önk bev.'!J21 -> 9556011
B15: 2. | C15: Működési célú támogatások ÁHT-n belülről (2.1+2.2.) | D15: =SUM(D16:D17) -> 102194590 | E15: =SUM(E16:E17) -> 130336926
B16: 2.1. | C16: Elvonások és befizetések bevételei
B17: 2.2. | C17: Egyéb működési célú támogatások bevételei (B16) | D17: ='7.Önk bev.'!M44 -> 102194590 | E17: ='7.Önk bev.'!N61 -> 130336926
B18: 2.3. | C18: 2.2.-ből EU-s támogatás
B19: 3. | C19: Felhalmozási célú támogatások ÁHT-n belülről (3.1.+3.2.) | D19: =SUM(D20:D21) -> 696302361 | E19: =SUM(E20:E21) -> 231918360
B20: 3.1. | C20: Felhalmozási célú önkormányzati támogatások(B23)
B21: 3.2. | C21: Egyéb felhalmozási célú támogatások(B25) | D21: ='7.Önk bev.'!O44 -> 696302361 | E21: ='7.Önk bev.'!P44 -> 231918360
B22: 3.3. | C22: 3.2.-ből EU-s támogatás
B23: 4. | C23: Közhatalmi bevételek (4.1+4.2.+4.3.+4.4.) | D23: =D24 -> 198157000 | E23: =E24 -> 178576886
B24: 4.1. | C24: Helyi adók (4.1.1.+….+4.1.3) | D24: =SUM(D25:D31) -> 198157000 | E24: =SUM(E25:E31) -> 178576886
B25: 4.1.1. | C25: Jövedelemadók (Termőföld bérbeadás)(B35) | D25: ='7.Önk bev.'!G7 -> 180000 | E25: ='7.Önk bev.'!H7 -> 141894
B26: 4.1.2. | C26: Értékesítési és forgalmi adók (iparűzési adó) | D26: ='7.Önk bev.'!G6 -> 170000000 | E26: ='7.Önk bev.'!H6 -> 156029408
B27: 4.2. | C27: Építmény és telek adó | D27: ='7.Önk bev.'!G12 -> 25000000 | E27: ='7.Önk bev.'!H12 -> 19401860
B28: 4.3. | C28: Idegenforgalmi adó | D28: ='7.Önk bev.'!G11 -> 88000 | E28: ='7.Önk bev.'!H11 -> 111600
B29: 4.4. | C29: Talajterhelési díj | D29: ='7.Önk bev.'!G8 -> 1930000 | E29: ='7.Önk bev.'!H8 -> 1445704
B30: 4.5. | C30: Egyéb közhatalmi bevételek | D30: ='7.Önk bev.'!G9 -> 10000 | E30: ='7.Önk bev.'!H9 -> 0
B31: 4.6. | C31: Pőtlék, birság | D31: ='7.Önk bev.'!G10 -> 949000 | E31: ='7.Önk bev.'!H10 -> 1446420
B32: 5. | C32: Működési bevételek (B4) | D32: ='7.Önk bev.'!E61 -> 106740811 | E32: ='7.Önk bev.'!F66 -> 118934767
B33: 6. | C33: Felhalmozási bevételek | D33: ='7.Önk bev.'!S66 -> 0 | E33: ='7.Önk bev.'!T66 -> 1614961
B34: 7. | C34: Működési célú átvett pénzeszközök | D34: ='7.Önk bev.'!Q66 -> 0 | E34: ='7.Önk bev.'!R61 -> 0
B35: 8. | C35: Felhalmozási célú átvett pénzeszközök
B36: 9. | C36: KÖLTSÉGVETÉSI BEVÉTELEK ÖSSZESEN: (1+…+8) | D36: =D8+D15+D19+D23+D32+D33+D34+D35 -> 2038121086 | E36: =E8+E15+E19+E23+E32+E33+E34+E35 -> 1468812367
B37: 10. | C37: Hitel-, kölcsönfelévtel államháztartáson kívülről (10.1+…+10.3 | D37: =SUM(D38:D40) -> 50000000 | E37: =SUM(E38:E40) -> 287692011
B38: 10.1. | C38: Hosszú lejűratú hitelek, kölcsönök felvétele
B39: 10.2. | C39: Likviditási célú hitelek, kölcsönök felvétele pénzügyi vállalkozástól | D39: ='7.Önk bev.'!W37 -> 50000000 | E39: ='7.Önk bev.'!X37 -> 287692011
B40: 10.3. | C40: Rövid lejáratú hitelek, kölcsönök felvétele
B41: 11. | C41: Belföldi értékpapírok bevételei
...

Sheet 2.kötelező
A1: 2. melléklet a /2026.(………………) önkormányzati rendelethez
A2: Medgyesegyháza Városi Önkormányzat
A3: 2025. ÉVI KÖLTSÉGVETÉS KÖTELEZŐ FELADATAINAK MÉRLEGE (forintban)
A4: BEVÉTELEK
A6: A | B6: B | C6: C | D6: D
A7: Sor- szám | B7: Bevételi jogcímek | C7: 2025. évi előirányzat | D7: 2025. évi mód. előir
A8: 1. | B8: Önkormányzatok működési támogatásai (1.1+……+1.6.) | C8: =SUM(C9:C14) -> 829202016 | D8: =SUM(D9:D14) -> 710626949
A9: 1.1. | B9: Helyi önkormányzatok működésének általános támogatása(B11) | C9: ='1.összevont'!D9 -> 162189157 | D9: ='1.összevont'!E9 -> 179250857
A10: 1.2. | B10: Önkormányzatok egyes köznevelési feladatainak támogatása(B12) | C10: ='1.összevont'!D10 -> 159972470 | D10: ='1.összevont'!E10 -> 191847139
A11: 1.3. | B11: Önkormányzatok szociális és gyermekjóléti feladatainak támogatása(B13) | C11: ='7.Önk bev.'!I15+'7.Önk bev.'!I17+'7.Önk bev.'!I18 -> 86895472 | D11: ='7.Önk bev.'!J15+'7.Önk bev.'!J17+'7.Önk bev.'!J18 -> 137743275
A12: 1.4. | B12: Önkormányzatok kulturális feladatainak támogatása(B14) | C12: ='7.Önk bev.'!I19 -> 12463522 | D12: ='7.Önk bev.'!J19 -> 12613522
A13: 1.5. | B13: Működési célú költségvetési támogatások és kiegészítő támogatások(B15) | C13: ='7.Önk bev.'!I20 -> 399841367 | D13: ='7.Önk bev.'!J20 -> 179616145
A14: 1.6. | B14: Elszámolásból bevételek(B16) | C14: ='1.összevont'!D14 -> 7840028 | D14: ='1.összevont'!E14 -> 9556011
A15: 2. | B15: Működési célú támogatások ÁHT-n belülről (2.1+2.2.) | C15: =SUM(C16:C17) -> 101127790 | D15: =SUM(D16:D17) -> 109994126
A16: 2.1. | B16: Elvonások és befizetések bevételei
A17: 2.2. | B17: Egyéb működési célú támogatások bevételei(B16) | C17: ='7.Önk bev.'!M45 -> 101127790 | D17: ='7.Önk bev.'!N45 -> 109994126
A18: 2.3. | B18: 2.2.-ből EU-s támogatás
A19: 3. | B19: Felhalmozási célú támogatások ÁHT-n belülről (3.1.+3.2.) | C19: =SUM(C20:C21) -> 128398477 | D19: =SUM(D20:D21) -> 135445200
A20: 3.1. | B20: Felhalmozási célú önkormányzati támogatások(B22)
A21: 3.2. | B21: Egyéb felhalmozási célú támogatások(B25) | C21: ='7.Önk bev.'!O63 -> 128398477 | D21: ='7.Önk bev.'!P63 -> 135445200
A22: 3.3. | B22: 3.2.-ből EU-s támogatás
A23: 4. | B23: Közhatalmi bevételek (4.1+4.2.+4.3.+4.4.) | C23: =C24+C29+C30+C31 -> 198157000 | D23: =D24+D29+D30+D31 -> 178576886
A24: 4.1. | B24: Helyi adók (4.1.1.+….+4.1.3) | C24: =SUM(C25:C28) -> 195268000 | D24: =SUM(D25:D28) -> 175684762
A25: 4.1.1. | B25: Jövedelemadók (Termőföld bérbeadás) | C25: ='7.Önk bev.'!G7 -> 180000 | D25: ='7.Önk bev.'!H7 -> 141894
A26: 4.1.2. | B26: Értékesítési és forgalmi adók (iparűzési adó) | C26: ='7.Önk bev.'!G6 -> 170000000 | D26: ='7.Önk bev.'!H6 -> 156029408
A27: 4.2. | B27: Építmény és telek adó | C27: ='7.Önk bev.'!G12 -> 25000000 | D27: ='7.Önk bev.'!H12 -> 19401860
A28: 4.3. | B28: Idegenforgalmi adó | C28: ='7.Önk bev.'!G11 -> 88000 | D28: ='7.Önk bev.'!H11 -> 111600
A29: 4.4. | B29: Talajterhelési díj | C29: ='7.Önk bev.'!G8 -> 1930000 | D29: ='7.Önk bev.'!H8 -> 1445704
A30: 4.5. | B30: Egyéb közhatalmi bevételek | C30: ='7.Önk bev.'!G9 -> 10000 | D30: ='7.Önk bev.'!H9 -> 0
A31: 4.6. | B31: Pótlék, birság | C31: ='7.Önk bev.'!G10 -> 949000 | D31: ='7.Önk bev.'!H10 -> 1446420
A32: 5. | B32: Működési bevételek (B4) | C32: ='7.Önk bev.'!E63 -> 59397672 | D32: ='7.Önk bev.'!F63 -> 70505401
A33: 6. | B33: Felhalmozási bevételek | D33: ='7.Önk bev.'!T63 -> 1614961
A34: 7. | B34: Működési célú átvett pénzeszközök | C34: ='7.Önk bev.'!Q63 -> 0 | D34: ='7.Önk bev.'!R63 -> 0
A35: 8. | B35: Felhalmozási célú átvett pénzeszközök | C35: 0 | D35: 0
A36: 9. | B36: KÖLTSÉGVETÉSI BEVÉTELEK ÖSSZESEN: (1+…+8) | C36: =C8+C15+C19+C23+C32+C33+C34+C35 -> 1316282955 | D36: =D8+D15+D19+D23+D32+D33+D34+D35 -> 1206763523
A37: 10. | B37: Hitel-, kölcsönfelévtel államháztartáson kívülről (10.1+…+10.3 | C37: =SUM(C38:C40) -> 50000000 | D37: =SUM(D38:D40) -> 310789144
A38: 10.1. | B38: Hosszú lejűratú hitelek, kölcsönök felvétele
A39: 10.2. | B39: Likviditási célú hitelek, kölcsönök felvétele pénzügyi vállalkozástól | C39: ='7.Önk bev.'!W63 -> 50000000 | D39: ='7.Önk bev.'!X63 -> 310789144
A40: 10.3. | B40: Rövid lejáratú hitelek, kölcsönök felvétele
A41: 11. | B41: Belföldi értékpapírok bevételei
...

Sheet 3.önként
A1: 3. melléklet a /2026.(………………) önkormányzati rendelethez
A2: Medgyesegyháza Városi Önkormányzat
A3: 2025. ÉVI KÖLTSÉGVETÉS ÖNKÉNT VÁLLALT FELADATAINAK MÉRLEGE (forintban)
A4: BEVÉTELEK
A6: A | B6: B | C6: C | D6: D
A7: Sor- szám | B7: Bevételi jogcímek | C7: 2025. évi előirányzat | D7: 2025. évi mód. előir
A8: 1. | B8: Önkormányzatok működési támogatásai (1.1+……+1.6.) | C8: =SUM(C9:C14) -> 105524308 | D8: =SUM(D9:D14) -> 96803518
A9: 1.1. | B9: Helyi önkormányzatok működésének általános támogatása
A10: 1.2. | B10: Önkormányzatok egyes köznevelési feladatainak támogatása
A11: 1.3. | B11: Önkormányzatok szociális és gyermekjóléti feladatainak támogatása | C11: ='7.Önk bev.'!I16 -> 105524308 | D11: ='7.Önk bev.'!J16 -> 96803518
A12: 1.4. | B12: Önkormányzatok kulturális feladatainak támogatása
A13: 1.5. | B13: Működési célú költségvetési támogatások és kiegészítő támogatások
A14: 1.6. | B14: Elszámolásból származó bevételek
A15: 2. | B15: Működési célú támogatások ÁHT-n belülről (2.1+2.2.) | C15: =SUM(C16:C17) -> 1066800 | D15: =SUM(D16:D17) -> 20342800
A16: 2.1. | B16: Elvonások és befizetések bevételei
A17: 2.2. | B17: Egyéb működési célú támogatások bevételei(B16) | C17: ='7.Önk bev.'!M47 -> 1066800 | D17: ='7.Önk bev.'!N47 -> 20342800
A18: 2.3. | B18: 2.2.-ből EU-s támogatás
A19: 3. | B19: Felhalmozási célú támogatások ÁHT-n belülről (3.1.+3.2.) | C19: =SUM(C20:C21) -> 567903884 | D19: =SUM(D20:D21) -> 96473160
A20: 3.1. | B20: Felhalmozási célú önkormányzati támogatások | C20: ='7.Önk bev.'!K64 -> 0
A21: 3.2. | B21: Egyéb felhalmozási célú támogatások(B25) | C21: ='7.Önk bev.'!O47 -> 567903884 | D21: ='7.Önk bev.'!P47 -> 96473160
A22: 3.3. | B22: 3.2.-ből EU-s támogatás
A23: 4. | B23: Közhatalmi bevételek (4.1+4.2.+4.3.+4.4.) | C23: =C24+C27+C28+C29 -> 0 | D23: =D24+D27+D28+D29 -> 0
A24: 4.1. | B24: Helyi adók (4.1.1.+….+4.1.3) | C24: =C25+C26 -> 0
A25: 4.1.1. | B25: Vagyoni típusú adók
A26: 4.1.3. | B26: Értékesítési és forgalmi adók (iparűzési adó)
A27: 4.2. | B27: Gépjárműadó
A28: 4.3. | B28: Egyéb áruhasználati és szolgáltatási adók
A29: 4.4. | B29: Egyéb közhatalmi bevételek
A30: 5. | B30: Működési bevételek (B4) | C30: ='7.Önk bev.'!E64 -> 47343139 | D30: ='7.Önk bev.'!F64 -> 48429366
A31: 6. | B31: Felhalmozási bevételek
A32: 7. | B32: Működési célú átvett pénzeszközök
A33: 8. | B33: Felhalmozási célú átvett pénzeszközök
A34: 9. | B34: KÖLTSÉGVETÉSI BEVÉTELEK ÖSSZESEN: (1+…+8) | C34: =C8+C15+C19+C23+C30+C31+C32+C33 -> 721838131 | D34: =D8+D15+D19+D23+D30+D31+D32+D33 -> 262048844
A35: 10. | B35: Hitel-, kölcsönfelévtel államháztartáson kívülről (10.1+…+10.3 | C35: =SUM(C36:C38) -> 0 | D35: =SUM(D36:D38) -> 0
A36: 10.1. | B36: Hosszú lejűratú hitelek, kölcsönök felvétele
A37: 10.2. | B37: Likviditási célú hitelek, kölcsönök felvétele pénzügyi vállalkozástól
A38: 10.3. | B38: Rövid lejáratú hitelek, kölcsönök felvétele
A39: 11. | B39: Belföldi értékpapírok bevételei
A40: 12. | B40: Előző évi költségvetési maradvány igénybe vétele | C40: ='7.Önk bev.'!U64 -> 18616204 | D40: ='7.Önk bev.'!V64 -> 19065683
A41: 13. | B41: Belföldi finanszírozás bevételei (13.1.+13.2.) | C41: =C42+C43 -> 0 | D41: =D42+D43 -> 0
...

Sheet 4.államigazg
A1: 4. melléklet a …….../2026.(………………) önkormányzati rendelethez
A2: Medgyesegyháza Városi Önkormányzat
A3: 2025. ÉVI KÖLTSÉGVETÉS ÁLLAMIGAZGATÁSI FELADATAINAK MÉRLEGE forintban
A4: BEVÉTELEK
A6: A | B6: B | C6: C | D6: D
A7: Sor- szám | B7: Bevételi jogcímek | C7: 2025. évi előirányzat | D7: 2025. évi mód. előir
A8: 1. | B8: Önkormányzatok működési támogatásai (1.1+……+1.6.) | C8: =SUM(C9:C14) -> 0 | D8: =SUM(D9:D14) -> 0
A9: 1.1. | B9: Helyi önkormányzatok működésének általános támogatása
A10: 1.2. | B10: Önkormányzatok egyes köznevelési feladatainak támogatása
A11: 1.3. | B11: Önkormányzatok szociális és gyermjóléti feladatainak támogatása
A12: 1.4. | B12: Önkormányzatok kulturális feladatainak támogatása
A13: 1.5. | B13: Működési célú költségvetési támogatások és kiegészítő támogatások
A14: 1.6. | B14: Elszámolásból származő bevételek
A15: 2. | B15: Működési célú támogatások ÁHT-n belülről (2.1+2.2.) | C15: =SUM(C16:C18) -> 0 | D15: =SUM(D16:D18) -> 0
A16: 2.1. | B16: Elvonások és befizetések bevételei
A17: 2.2. | B17: Egyéb működési célú támogatások bevételei
A18: 2.3. | B18: 2.2.-ből EU-s támogatás
A19: 3. | B19: Felhalmozási célú támogatások ÁHT-n belülről (3.1.+3.2.) | C19: =SUM(C20:C21) -> 0 | D19: =SUM(D20:D21) -> 0
A20: 3.1. | B20: Felhalmozási célú önkormányzati támogatások
A21: 3.2. | B21: Egyéb felhalmozási célú támogatások
A22: 3.3. | B22: 3.2.-ből EU-s támogatás
A23: 4. | B23: Közhatalmi bevételek (4.1+4.2.+4.3.+4.4.) | C23: =C24+C27+C28+C29 -> 0 | D23: =D24+D27+D28+D29 -> 0
A24: 4.1. | B24: Helyi adók (4.1.1.+….+4.1.3)
A25: 4.1.1. | B25: Vagyoni típusú adók
A26: 4.1.3. | B26: Értékesítési és forgalmi adók (iparűzési adó)
A27: 4.2. | B27: Gépjárműadó
A28: 4.3. | B28: Egyéb áruhasználati és szolgáltatási adók
A29: 4.4. | B29: Egyéb közhatalmi bevételek
A30: 5. | B30: Működési bevételek
A31: 6. | B31: Felhalmozási bevételek
A32: 7. | B32: Működési célő átvett pénzeszközök
A33: 8. | B33: Felhalmozási célú átvett pénzeszközök
A34: 9. | B34: KÖLTSÉGVETÉSI BEVÉTELEK ÖSSZESEN: (1+…+8) | C34: =C8+C15+C19+C23+C30+C31+C32+C33 -> 0 | D34: =D8+D15+D19+D23+D30+D31+D32+D33 -> 0
A35: 10. | B35: Hitel-, kölcsönfelévtel államháztartáson kívülről (10.1+…+10.3 | C35: =SUM(C36:C38) -> 0 | D35: =SUM(D36:D38) -> 0
A36: 10.1. | B36: Hosszú lejűratú hitelek, kölcsönök felvétele
A37: 10.2. | B37: Likviditási célú hitelek, kölcsönök felvétele pénzügyi vállalkozástól
A38: 10.3. | B38: Rövid lejáratú hitelek, kölcsönök felvétele
A39: 11. | B39: Belföldi értékpapírok bevételei
A40: 12. | B40: Előző évi költségvetési maradvány igánybe vétele
A41: 13. | B41: Belföldi finanszírozás bevételei (13.1.+13.2.) | C41: =C42+C43 -> 0 | D41: =D42+D43 -> 0
...

Sheet 5.műkmérleg
B1: 5. melléklet a ………/2026.(………..) önkormányzati rendelethez
A2: I. Működési bevételek és kiadások mérlege
A3: (önkormányzati szinten)
A4: forintban
A5: Sor- szám | B5: Bevétel | C5: 2025. évi előirányzat | D5: 2025. évi mód. előir | E5: Kiadás | F5: 2025. évi előirányzat | G5: 2025. évi mód. előir
A6: A | B6: B | C6: C | D6: D | E6: E | F6: F | G6: G
A7: 1. | B7: Önkormányzatok működési támogatásai | C7: ='7.Önk bev.'!I66 -> 934726324 | D7: ='7.Önk bev.'!J66 -> 807430467 | E7: Személyi juttatások | F7: ='12.Önk kiad'!D80 -> 654058277 | G7: ='12.Önk kiad'!E80 -> 708957518
A8: 2. | B8: Működési célú támogatások ÁHT-n belülről | C8: ='7.Önk bev.'!M66 -> 102194590 | D8: ='7.Önk bev.'!N66 -> 130336926 | E8: Munkaadókat terhelő járulékok és SZOCHÓ | F8: ='12.Önk kiad'!F80 -> 80079073 | G8: ='12.Önk kiad'!G80 -> 88325705
A9: 3. | B9: 2.-ből EU-s támogatás | E9: Dologi Kiadások | F9: ='12.Önk kiad'!H80 -> 419347309 | G9: ='12.Önk kiad'!I80 -> 363606283
A10: 4. | B10: Közhatalmi bevételek | C10: ='7.Önk bev.'!G66 -> 198157000 | D10: ='7.Önk bev.'!H66 -> 178576886 | E10: Ellátottak pénzbeli juttatásai | F10: ='12.Önk kiad'!J80 -> 3900000 | G10: ='12.Önk kiad'!K80 -> 1942870
A11: 5. | B11: Működési bevételek | C11: ='7.Önk bev.'!E66 -> 106740811 | D11: ='7.Önk bev.'!F66 -> 118934767 | E11: Egyéb működési célú kiadások | F11: ='12.Önk kiad'!L80+'12.Önk kiad'!N80+'12.Önk kiad'!R80 -> 121382399 | G11: ='12.Önk kiad'!M80+'12.Önk kiad'!O80+'12.Önk kiad'!S80 -> 36149434
A12: 6. | B12: Működési célú átvett pénzeszközök | C12: ='7.Önk bev.'!Q66 -> 0 | D12: ='7.Önk bev.'!R66 -> 0 | E12: Tartalékok | F12: ='12.Önk kiad'!X80 -> 5000000 | G12: 66377647
A13: 7. | B13: 6.-ból EU-s támogatás (közvetlen)
A14: 8. | B14: Költségvetési bevételek összesen: (1.+…+6.) | C14: =C7+C8+C10+C11+C12 -> 1341818725 | D14: =D7+D8+D10+D11+D12 -> 1235279046 | E14: Költségvetési kiadások összesen: (1.+…+6) | F14: =SUM(F7:F13) -> 1.2837671e+09 | G14: =SUM(G7:G13) -> 1265359457
A15: 9. | B15: Hiány belső finanszírozásának bevételei (=10) | C15: =C16 -> 25750096 | D15: =D16 -> 41500354 | E15: Likviditási célú hitelek törlesztése | F15: 50000000 | G15: ='1.összevont'!E79 -> 287692011
A16: 10. | B16: Költségvetési maradvány igénybe vétele | C16: 25750096 | D16: 41500354 | E16: Államháztartáson belüli megelőlegezések visszafizetése | F16: ='12.Önk kiad'!Z20 -> 16898319 | G16: ='12.Önk kiad'!AA20 -> 17613632
A17: 11. | B17: Hiány külső finanszírozásának bevételei (=12) | C17: =SUM(C18) -> 0 | D17: =SUM(D18) -> 287692011 | E17: Éven túli célhitel törlesztő részlete | F17: ='12.Önk kiad'!Z22 -> 16903444 | G17: ='12.Önk kiad'!AA22 -> 16903444
A18: 12. | B18: Likviditási célú hitelek, kölcsönök felvétele | D18: ='7.Önk bev.'!X37 -> 287692011
A19: 13. | B19: Államháztartáson belüli megelőlegezés | D19: ='7.Önk bev.'!X40 -> 23097133
A20: 13. | B20: Működési célú finanszírozási bevételek összesen: (9.+11.) | C20: =C15+C17 -> 25750096 | D20: =D15+D17+D19 -> 352289498 | E20: Működési célú finanszírozási kiadások összesen: (=9.) | F20: =SUM(F15:F18) -> 83801763 | G20: =SUM(G15:G18) -> 322209087
A21: 14. | B21: BEVÉTELEK ÖSSZESEN: (8.+13.) | C21: =C14+C20 -> 1367568821 | D21: =D14+D20 -> 1587568544 | E21: KIADÁSOK ÖSSZESEN: (8.+13.) | F21: =F14+F20 -> 1.3675688e+09 | G21: =G14+G20 -> 1587568544
A22: 15. | B22: Költségvetési hiány: | C22: =F14-C14 -> -58051667 | D22: =G14-D14 -> 30080411 | E22: Költségvetési többlet: | F22: 0 | G22: 0
A23: 16. | B23: Tárgyévi hiány: | C23: =C21-F21 -> -0.28999996 | D23: =D21-G21 -> 0 | E23: Tárgyévi többlet: | F23: 0 | G23: 0

Sheet 6.felhmérleg
B1: 6. melléklet a ………/2026.(………..) önkormányzati rendelethez
A2: I .Felhalmozási célú bevételek és kiadások mérlege
A3: (önkormányzati szinten)
A4: forintban
A5: Sor- szám | B5: Bevétel | C5: 2025. évi előirányzat | D5: 2025. évi mód. előir | E5: Kiadás | F5: 2025. évi előirányzat | G5: 2025. évi mód. előir
A6: A | B6: B | C6: C | E6: D | F6: E | G6: F
A7: 1. | B7: Felhalmozási célú támogatások ÁHT-n belülről | C7: ='7.Önk bev.'!O66 -> 696302361 | D7: ='7.Önk bev.'!P66 -> 231918360 | E7: Beruházások | F7: ='12.Önk kiad'!T80 -> 507485197 | G7: ='12.Önk kiad'!U80 -> 8302359
A8: 2. | B8: 1.-ből EU-s támogatás | C8: 696302361 | D8: 231918360 | E8: 1.-ből EU-s forrásból megvalósuló beruházás | F8: 848849029
A9: 3. | B9: Felhalmozási bevételek | D9: ='1.összevont'!E33 -> 1614961 | E9: Felújítások | F9: ='12.Önk kiad'!V80 -> 244315758 | G9: ='12.Önk kiad'!W80 -> 162244318
A10: 4. | B10: Felhalmozási célú átvett pénzeszközök átvétele | E10: 3.-ból EU-s forrásból megvalósuló felújítás | F10: 237826629 | G10: 237826629
A11: 5. | B11: 4.-ből EU-s támogatás | E11: Egyéb felhalmozási kiadások | F11: ='12.Önk kiad'!P80 -> 1626435 | G11: ='12.Önk kiad'!Q80 -> 11191192
A12: 6. | B12: Egyéb felhalmozási célú bevételek | E12: Felhalmozási céltartalék | G12: 51795452
A13: 7. | B13: Önkormányzatok felhalmozási támogatása | C13: ='7.Önk bev.'!K66 -> 0
A14: 8. | B14: Költségvetési bevételek összesen: (1.+3.+4.+6.) | C14: =C7+C9+C12+C13 -> 696302361 | D14: =D7+D9+D12+D13 -> 233533321 | E14: Költségvetési kiadások összesen: (1.+3.+5.+6.) | F14: =F7+F9+F11+F12 -> 753427390 | G14: =G7+G9+G11+G12 -> 233533321
A15: 9. | B15: Hiány belső finanszírozásának bevételei (=10) | C15: =C16 -> 57125029 | D15: =D16 -> 0
A16: 10. | B16: Költségvetési maradvány igénybe vétele | C16: 57125029
A17: 11. | B17: Hiány külső finanszírozásának bevételei (=12) | C17: =C18 -> 0 | D17: =D18 -> 0
A18: 12. | B18: Hitelek, kölcsönök felvétele
A19: 13. | B19: Felhalmozási célú finanszírozási bevételek összesen: (9.+11.) | C19: =C15+C17 -> 57125029 | D19: =D15+D17 -> 0 | E19: Felhalmozási célú finanszírozási kiadások összesen: (9.+…+12)
A20: 14. | B20: BEVÉTELEK ÖSSZESEN: (8.+13.) | C20: =C14+C19 -> 753427390 | D20: =D14+D19 -> 233533321 | E20: KIADÁSOK ÖSSZESEN: (8.+13.) | F20: =F14+F19 -> 753427390 | G20: =G14+G19 -> 233533321
A21: 15. | B21: Költségvetési hiány: | C21: =F14-C14 -> 57125029 | D21: =G14-D14 -> 0 | E21: Költségvetési többlet: | F21: 0 | G21: 0
A22: 16. | B22: Tárgyévi hiány: | C22: =C20-F20 -> 0 | D22: =D20-G20 -> 0 | E22: Tárgyévi többlet: | F22: 0 | G22: =G20-D20 -> 0

Sheet 7.Önk bev.
Q1: 7. melléklet a ……./2026.(……………..) önkormányzati rendelethez
B2: 1 | D2: Medgyesegyháza Város Önkormányzat 2025. évi bevételeinek alakulása - Önkormányzat forintban
A3: A | C3: B | D3: C | E3: D | G3: E | I3: F | K3: G | M3: H | O3: I | Q3: J | S3: K | U3: L | W3: M | Y3: N
A4: 1. | B4: 2 | C4: kötelező/nem kötelező | D4: Kiemelt előirányzatok | E4: Működési bevételek | G4: Közhatalmi bevételek | I4: Önkormányzatok működési támogatása | K4: Önkormányzatok felhalmozási támogatása | M4: Működési célú támogatások államháztartáson belülről | O4: Felhalmozási célú támogatások államháztartáson belülről | Q4: Működési célra átvett pénzeszközök | S4: Felhalmozási bevételek | U4: Elző évi költségvetési maradvány | W4: Finanszírozási bevételek | Y4: Bevételek összesen
A5: 2. | B5: 3 | D5: Megnevezés | E5: 2025. évi előirányzat | F5: 2025. évi mód. előir | G5: 2025. évi előirányzat | H5: 2025. évi mód. előir | I5: 2025. évi előirányzat | J5: 2025. évi mód. előir | K5: 2025. évi előirányzat | L5: 2025. évi mód. előir | M5: 2025. évi előirányzat | N5: 2025. évi mód. előir | O5: 2025. évi előirányzat | P5: 2025. évi mód. előir | Q5: 2025. évi előirányzat | R5: 2025. évi mód. előir | S5: 2025. évi előirányzat | T5: 2025. évi mód. előir | U5: 2025. évi előirányzat | V5: 2025. évi mód. előir | W5: 2025. mód ei. | X5: 2025. évi mód. előir | Y5: 2025. mód ei. | Z5: 2025. évi mód. előir
A6: 3. | B6: kötelező | C6: kötelező | D6: Iparűzési adó | G6: 170000000 | H6: 156029408 | Y6: =E6+G6+I6+M6+O6+Q6+W6+K6+S6+U6 -> 170000000 | Z6: =F6+H6+J6+L6+N6+P6+R6+V6+X6 -> 156029408
A7: 4. | B7: kötelező | C7: kötelező | D7: Termőföld bérbeadás | G7: 180000 | H7: 141894 | Y7: =E7+G7+I7+M7+O7+Q7+W7+K7+S7+U7 -> 180000 | Z7: =F7+H7+J7+L7+N7+P7+R7+V7+X7 -> 141894
A8: 5. | B8: kötelező | C8: kötelező | D8: Talajterhelési díj | G8: 1930000 | H8: 1445704 | Y8: =E8+G8+I8+M8+O8+Q8+W8+K8+S8+U8 -> 1930000 | Z8: =F8+H8+J8+L8+N8+P8+R8+V8+X8 -> 1445704
A9: 6. | B9: kötelező | C9: kötelező | D9: Egyéb közhatalmi bevételek | G9: 10000 | H9: 0 | Y9: =E9+G9+I9+M9+O9+Q9+W9+K9+S9+U9 -> 10000 | Z9: =F9+H9+J9+L9+N9+P9+R9+V9+X9 -> 0
A10: 7. | B10: kötelező | C10: kötelező | D10: Pótlékok, bírságok | F10: 331027 | G10: 949000 | H10: 1446420 | Y10: =E10+G10+I10+M10+O10+Q10+W10+K10+S10+U10 -> 949000 | Z10: =F10+H10+J10+L10+N10+P10+R10+V10+X10 -> 1777447
A11: 8. | C11: kötelező | D11: Idegenforgalmi adó | G11: 88000 | H11: 111600 | Y11: =E11+G11+I11+M11+O11+Q11+W11+K11+S11+U11 -> 88000 | Z11: =F11+H11+J11+L11+N11+P11+R11+V11+X11 -> 111600
A12: 9. | C12: kötelező | D12: Építmény és telek adó | G12: 25000000 | H12: 19401860 | Y12: =E12+G12+I12+M12+O12+Q12+W12+K12+S12+U12 -> 25000000 | Z12: =F12+H12+J12+L12+N12+P12+R12+V12+X12 -> 19401860
A13: 10. | C13: kötelező | D13: Települési önkormányzatok működésének álatalános támogatása | I13: =148053665+1009678*14 -> 162189157 | J13: 179250857 | Y13: =E13+G13+I13+M13+O13+Q13+W13+K13+S13+U13 -> 162189157 | Z13: =F13+H13+J13+L13+N13+P13+R13+V13+X13 -> 179250857
A14: 11. | C14: kötelező | D14: Települési önkormányzatok egyes köznevelési feladat támogatása | I14: 159972470 | J14: 191847139 | Y14: =E14+G14+I14+M14+O14+Q14+W14+K14+S14+U14 -> 159972470 | Z14: =F14+H14+J14+L14+N14+P14+R14+V14+X14 -> 191847139
A15: 12. | C15: kötelező | D15: Települési önk. Egyes szociális és gyerm.jóléti felad. Támogatása(B1131) | I15: =9779178+7140000+1504840+125000+11017700+6343500+18345000+2095469+6334200 -> 62684887 | J15: 107444055 | Y15: =E15+G15+I15+M15+O15+Q15+W15+K15+S15+U15 -> 62684887 | Z15: =F15+H15+J15+L15+N15+P15+R15+V15+X15 -> 107444055
A16: 13. | C16: nem kötelező | D16: Telep.önk. Által biztosított egyes szoc. Szakosított ellátások (B1131) | I16: =62329600+43194708 -> 105524308 | J16: 96803518 | Y16: =E16+G16+I16+M16+O16+Q16+W16+K16+S16+U16 -> 105524308 | Z16: =F16+H16+J16+L16+N16+P16+R16+V16+X16 -> 96803518
A17: 14. | C17: kötelező | D17: Gyermekétkeztetés támogatása (B1132) | I17: =12792240+11220840 -> 24013080 | J17: 29887053 | Y17: =E17+G17+I17+M17+O17+Q17+W17+K17+S17+U17 -> 24013080 | Z17: =F17+H17+J17+L17+N17+P17+R17+V17+X17 -> 29887053
A18: 15. | C18: kötelező | D18: Rászoruló gyermekek szünidei étkeztetésének támogatása(B1132) | I18: 197505 | J18: 412167 | Y18: =E18+G18+I18+M18+O18+Q18+W18+K18+S18+U18 -> 197505 | Z18: =F18+H18+J18+L18+N18+P18+R18+V18+X18 -> 412167
A19: 16. | C19: kötelező | D19: Települési önkormányzatok kulturális feladatainak támogatása(B114) | I19: =7497644+4965878 -> 12463522 | J19: 12613522 | Y19: =E19+G19+I19+M19+O19+Q19+W19+K19+S19+U19 -> 12463522 | Z19: =F19+H19+J19+L19+N19+P19+R19+V19+X19 -> 12613522
A20: 17. | C20: kötelező | D20: Működési c. költ. Tám.és kieg. Tám. (B115) | I20: =384322937+15518430 -> 399841367 | J20: 179616145 | Y20: =E20+G20+I20+M20+O20+Q20+W20+K20+S20+U20 -> 399841367 | Z20: =F20+H20+J20+L20+N20+P20+R20+V20+X20 -> 179616145
A21: 18. | C21: kötelező | D21: Elszámolásból származó bevétel (B16) | I21: =4228035+3611993 -> 7840028 | J21: 9556011 | Y21: =E21+G21+I21+M21+O21+Q21+W21+K21+S21+U21 -> 7840028 | Z21: =F21+H21+J21+L21+N21+P21+R21+V21+X21 -> 9556011
A22: 19. | C22: kötelező | D22: Köztemető bevélelei | E22: 8000 | F22: 8000 | Y22: =E22+G22+I22+M22+O22+Q22+W22+K22+S22+U22 -> 8000 | Z22: =F22+H22+J22+L22+N22+P22+R22+V22+X22 -> 8000
A23: 20. | B23: kötelező | C23: kötelező | D23: Pénzeszköz átvétel munkaügyi Központtól START programra (B163) | M23: 91788885 | N23: 84406876 | P23: 883598 | Y23: =E23+G23+I23+M23+O23+Q23+W23+K23+S23+U23 -> 91788885 | Z23: =F23+H23+J23+L23+N23+P23+R23+V23+X23 -> 85290474
A24: 21. | B24: kötelező | C24: kötelező | D24: Pénzeszköz átvétel munkaügyi Központtól hosszabb távú közfoglalkoztatásra | M24: 4262130 | N24: 23998281 | Y24: =E24+G24+I24+M24+O24+Q24+W24+K24+S24+U24 -> 4262130 | Z24: =F24+H24+J24+L24+N24+P24+R24+V24+X24 -> 23998281
A25: 22. | B25: kötelező | C25: nem kötelező | D25: Pénzeszköz átvétel OEP-től | M25: =(50000+18900)*12+20000*12 -> 1066800 | N25: 942800 | Y25: =E25+G25+I25+M25+O25+Q25+W25+K25+S25+U25 -> 1066800 | Z25: =F25+H25+J25+L25+N25+P25+R25+V25+X25 -> 942800
A26: 23. | C26: kötelező | D26: Pénzeszköz átvétel Pusztaottlaka | M26: 5076775 | Y26: =E26+G26+I26+K26+M26+O26+Q26+U26+W26 -> 5076775 | Z26: =F26+H26+J26+L26+N26+P26+R26+V26+X26 -> 0
A27: 24. | B27: kötelező | C27: kötelező | D27: Önkormányzat bérbeadás, város és községgazdálkodás m.n.s. szolg. | E27: =2930000+7030000+460000+28300000+4000000+20000 -> 42740000 | F27: 53651580 | N27: 1588969 | T27: 1614961 | Y27: =E27+G27+I27+M27+O27+Q27+W27+K27+S27+U27 -> 42740000 | Z27: =F27+H27+J27+L27+N27+P27+R27+V27+X27+T27 -> 56855510
A28: 25. | B28: nem kötelező | C28: kötelező | D28: Startmunka program bevétele | E28: 6500000 | F28: 9286535 | U28: 7836718 | V28: 7836718 | Y28: =E28+G28+I28+M28+O28+Q28+W28+K28+S28+U28 -> 14336718 | Z28: =F28+H28+J28+L28+N28+P28+R28+V28+X28 -> 17123253
A29: 26. | C29: nem kötelező | D29: Uszoda bevétel | E29: =3718000+8662000 -> 12380000 | F29: 9222902 | Y29: =E29+G29+I29+M29+O29+Q29+W29+K29+S29+U29 -> 12380000 | Z29: =F29+H29+J29+L29+N29+P29+R29+V29+X29 -> 9222902
A30: 27. | B30: kötelező | C30: kötelező | D30: Költségvetési maradvány | U30: =4414661 -> 4414661 | V30: =4414661+5218110 -> 9632771 | Y30: =E30+G30+I30+M30+O30+Q30+W30+K30+S30+U30 -> 4414661 | Z30: =F30+H30+J30+L30+N30+P30+R30+V30+X30 -> 9632771
A31: 28. | C31: kötelező | D31: TOP-PLUSZ-3.3.2-21-BS1-2022-00002 Háziorvosi alapellátás infr.fejl. | O31: 48996854 | P31: 51352966 | U31: 724228 | V31: 724228 | Y31: =E31+G31+I31+M31+O31+Q31+W31+K31+S31+U31 -> 49721082 | Z31: =F31+H31+J31+L31+N31+P31+R31+V31+X31 -> 52077194
A32: 29. | C32: kötelező | D32: TOP-PLUSZ-3.3.2-21-BS1-2022-00030 Idősek Klubja ép.feluj. | O32: 79401623 | P32: 83208636 | U32: 1283314 | V32: 1283314 | Y32: =E32+G32+I32+M32+O32+Q32+W32+K32+S32+U32 -> 80684937 | Z32: =F32+H32+J32+L32+N32+P32+R32+V32+X32 -> 84491950
A33: 30. | C33: nem kötelező | D33: TOP_PLUSZ-1.1.1-21-BS1-2022-00002 Helyi gazdság fejlesztés | O33: 134638976 | U33: 2070067 | V33: 2070067 | Y33: =E33+G33+I33+M33+O33+Q33+W33+K33+S33+U33 -> 136709043 | Z33: =F33+H33+J33+L33+N33+P33+R33+V33+X33 -> 2070067
A34: 31. | C34: nem kötelező | D34: TOP_PLUSZ-1.2.3-21 Belterületi utak fejlesztése | U34: 208456 | V34: 208456 | Y34: =E34+G34+I34+M34+O34+Q34+W34+K34+S34+V34 -> 208456 | Z34: =F34+H34+J34+L34+N34+P34+R34+V34+X34 -> 208456
A35: 32. | C35: nem kötelező | D35: TOP-Plusz 1.2.1-21 Élhető települések | O35: 343055070 | U35: 6181953 | V35: 6181953 | Y35: =E35+G35+I35+M35+O35+Q35+W35+K35+S35+U35 -> 349237023 | Z35: =F35+H35+J35+L35+N35+P35+R35+V35+X35 -> 6181953
A36: 33. | C36: nem kötelező | D36: Top-Plusz 2.1.1-21 Önkormányzati épületek energetikai korszerűsítése | O36: 90209838 | P36: 90209837 | U36: 10155728 | V36: 10155728 | Y36: =E36+G36+I36+M36+O36+Q36+W36+K36+S36+U36 -> 100365566 | Z36: =F36+H36+J36+L36+N36+P36+R36+V36+X36 -> 100365565
A37: 34. | C37: kötelező | D37: Likvid hitel | W37: 50000000 | X37: 287692011 | Y37: =E37+G37+I37+M37+O37+Q37+W37+K37+S37+U37 -> 50000000 | Z37: =F37+H37+J37+N37+P37+R37+X37+L37+T37+V37 -> 287692011
A38: 35. | B38: kötelező | C38: kötelező | D38: Óvodai étkeztetés | E38: 1100000 | F38: 1160815 | Y38: =E38+G38+I38+M38+O38+Q38+W38+K38+S38+U38 -> 1100000 | Z38: =F38+H38+J38+L38+N38+P38+R38+V38+X38 -> 1160815
A39: 36. | C39: kötelező | D39: Bölcsődei étkeztetés | F39: 87781 | Y39: =E39+G39+I39+M39+O39+Q39+W39+K39+S39+U39 -> 0 | Z39: =F39+H39+J39+L39+N39+P39+R39+V39+X39 -> 87781
A40: 37. | C40: kötelező | D40: Államháztartáson belüli megelőlegezés | X40: 23097133 | Y40: =E40+G40+I40+M40+O40+Q40+W40+K40+S40+U40 -> 0 | Z40: =F40+H40+J40+L40+N40+P40+R40+V40+X40 -> 23097133
...

Sheet 8. PMH bev.
L1: 8. melléklet ..../2026. (…...) önkormányzati rendelethez
C2: Medgyesegyháza Város Önkormányzat 2025. évi bevételeinek alakulása - Medgyesegyházi Polgármesteri Hivatal forintban
A3: A | B3: B | C3: C | D3: D | F3: E | H3: F | J3: G | L3: H | N3: I | P3: J | R3: K | T3: L
A4: 1. | B4: kötelező/nem kötelező | C4: Kiemelt előirányzatok | D4: Működési bevételek | F4: Közhatalmi bevételek | H4: Működési célú támogatások államháztartáson belülről | J4: Felhalmozási célú támogatások államháztartáson belülről | L4: Működési célra átvett pénzeszközök | N4: Felhalmozási célra átvett pénzeszközök | P4: Finanszírozási bevételek - Támogatás működésre | R4: Költségvetési maradvány | T4: Bevételek összesen
A5: 2. | C5: Szakfeladat | D5: 2025. évi előirányzat | E5: 2025. évi mód. előir | F5: 2025. évi előirányzat | G5: 2025. évi mód. előir | H5: 2025. évi előirányzat | I5: 2025. évi mód. előir | J5: 2025. évi előirányzat | K5: 2025. évi mód. előir | L5: 2025. évi előirányzat | M5: 2025. évi mód. előir | N5: 2025. évi előirányzat | O5: 2025. évi mód. előir | P5: 2025. évi előirányzat | Q5: 2025. évi mód. előir | R5: 2025. évi előirányzat | S5: 2025. évi mód. előir | T5: 2025. évi előirányzat | U5: 2025. évi mód. előir | V5: 2025. mód ei. | W5: 2025. évi mód. előir
A6: 3. | B6: államigazgatási | C6: Államigazgatási feladatok | P6: 47008000 | Q6: 47008000 | T6: =D6+F6+H6+J6+L6+P6 -> 47008000 | U6: =E6+G6+I6+K6+M6+Q6 -> 47008000 | V6: =F6+H6+J6+L6+N6+R6 -> 0 | W6: =E6+G6+I6+K6+M6+O6+Q6+S6 -> 47008000
A7: 4. | B7: kötelező | C7: Önkormányzati igazgatási tevékenység | D7: 714000 | E7: 459003 | P7: 172148590 | Q7: 161559459 | S7: 2738265 | T7: =D7+F7+H7+J7+L7+P7+R7 -> 172862590 | U7: 218 | V7: =1673+87 -> 1760 | W7: =E7+G7+I7+K7+M7+O7+Q7+S7 -> 164756727
A8: 5. | B8: kötelező | C8: Önkormányzati választás | T8: =D8+F8+H8+J8+L8+P8+R8 -> 0 | U8: 219 | V8: =1673+87 -> 1760 | W8: =E8+G8+I8+K8+M8+O8+Q8+S8 -> 0
A9: 6. | C9: Alaptevékenység összesen | D9: =SUM(D7:D8) -> 714000 | E9: =SUM(E7:E8) -> 459003 | G9: =SUM(G6:G8) -> 0 | H9: =SUM(H6:H8) -> 0 | I9: =SUM(I6:I8) -> 0 | J9: =SUM(J6:J8) -> 0 | K9: =SUM(K6:K8) -> 0 | L9: =SUM(L6:L8) -> 0 | M9: =SUM(M6:M8) -> 0 | N9: =SUM(N6:N8) -> 0 | ... W9: =SUM(W6:W8) -> 211764727
A10: 7. | C10: Kötelező: | D10: =D7+D8 -> 714000 | E10: =E7+E8 -> 459003 | F10: =F7+F8 -> 0 | G10: =G7+G8 -> 0 | H10: =H7+H8 -> 0 | I10: =I7+I8 -> 0 | J10: =J7+J8 -> 0 | K10: =K7+K8 -> 0 | ... W10: =W7+W8 -> 164756727
A11: 8. | C11: Államigazgatási: | D11: =D6 -> 0 | E11: =E6 -> 0 | F11: =F6 -> 0 | G11: =G6 -> 0 | H11: =H6 -> 0 | I11: =I6 -> 0 | J11: =J6 -> 0 | K11: =K6 -> 0 | ... W11: =W6 -> 47008000

Sheet 9. GKP bev
T1: 9. melléklet a .../2026. (....) önkormányzati rendelethez
C2: Medgyesegyháza Város Önkormányzat 2025. évi bevételeinek alakulása - Gondozási Központ (forintban)
A3: A | B3: B | C3: C | D3: D | F3: E | H3: F | J3: G | L3: H | N3: I | P3: J | R3: K | T3: L
A4: 1 | B4: Kötelező/nem kötelező | C4: Kiemelt előirányzatok | D4: Működési bevételek | F4: Közhatalmi bevételek | H4: Működési célú támogatások államháztartáson belülről | J4: Felhalmozási célú támogatások államháztartáson belülről | L4: Működési célra átvett pénzeszközök | N4: Felhalmozási célra átvett pénzeszközök | P4: Finanszírozási bevételek - Támogatás működésre | R4: Költségvetési maradvány | T4: Bevételek összesen
A5: 2 | C5: Szakfeladat | D5: 2025. évi előirányzat | E5: 2025. évi mód. előir | F5: 2025. évi előirányzat | G5: 2025. évi mód. előir | H5: 2025. évi előirányzat | I5: 2025. évi mód. előir | J5: 2025. évi előirányzat | K5: 2025. évi mód. előir | L5: 2025. évi előirányzat | M5: 2025. évi mód. előir | N5: 2025. évi előirányzat | O5: 2025. évi mód. előir | P5: 2025. évi előirányzat | Q5: 2025. évi mód. előir | R5: 2025. évi előirányzat | S5: 2025. évi mód. előir | T5: 2025. évi előirányzat | U5: 2025. évi mód. előir | V5: 2025. mód ei.
A6: 3 | B6: nem kötelező | C6: Az önk.vagyonnal gazd. kapcs gazdálkodás | D6: 10000 | P6: 0 | Q6: 0 | T6: =D6+F6+H6+J6+L6+N6+P6+R6 -> 10000 | U6: =E6+G6+I6+K6+M6+O6+Q6+S6 -> 0 | V6: =E6+G6+I6+K6+M6+O6+Q6+S6 -> 0
A7: 4 | B7: kötelező | C7: Háziorvosi alapellátás | P7: =2788500-10000 -> 2778500 | Q7: 3717374 | T7: =D7+F7+H7+J7+L7+N7+P7+R7 -> 2778500 | U7: =E7+G7+I7+K7+M7+O7+Q7+S7 -> 3717374 | V7: =E7+G7+I7+K7+M7+O7+Q7+S7 -> 3717374
A8: 5 | B8: kötelező | C8: Fogorvosi alapellátás | P8: 785000 | Q8: 774308 | T8: =D8+F8+H8+J8+L8+N8+P8 -> 785000 | U8: =E8+G8+I8+K8+M8+O8+Q8 -> 774308 | V8: =E8+G8+I8+K8+M8+O8+Q8+S8 -> 774308
A9: 6 | B9: nem kötelező | C9: Egészségügyi labor | P9: 3510968 | Q9: 2900509 | T9: =D9+F9+H9+J9+L9+N9+P9 -> 3510968 | U9: =E9+G9+I9+K9+M9+O9+Q9 -> 2900509 | V9: =E9+G9+I9+K9+M9+O9+Q9+S9 -> 2900509
A10: 7 | B10: kötelező | C10: Család és nővédelmi eü. gondozás | D10: 1030672 | E10: 609785 | P10: 0 | Q10: 0 | T10: =D10+F10+H10+J10+L10+N10+P10 -> 1030672 | U10: =E10+G10+I10+K10+M10+O10+Q10 -> 609785 | V10: =E10+G10+I10+K10+M10+O10+Q10+S10 -> 609785
A11: 8 | B11: kötelező | C11: Ifjúsági- egészségügyi gondozás | P11: 1800000 | Q11: 1621151 | T11: =D11+F11+H11+J11+L11+N11+P11 -> 1800000 | U11: =E11+G11+I11+K11+M11+O11+Q11 -> 1621151 | V11: =E11+G11+I11+K11+M11+O11+Q11+S11 -> 1621151
A12: 9 | B12: nem kötelező | C12: Időskorúak bentlakásos szoc. ell. | D12: 34144139 | E12: 38264464 | P12: =197537793-D12 -> 163393654 | Q12: 149346557 | S12: 449264 | T12: =D12+F12+H12+J12+L12+N12+P12 -> 197537793 | U12: =E12+G12+I12+K12+M12+O12+Q12 -> 187611021 | V12: =E12+G12+I12+K12+M12+O12+Q12+S12 -> 188060285
A13: 10 | B13: kötelező | C13: Idősek nappali ellátása | E13: 995120 | P13: 21201131 | Q13: 21470914 | T13: =D13+F13+H13+J13+L13+N13+P13 -> 21201131 | U13: =E13+G13+I13+K13+M13+O13+Q13 -> 22466034 | V13: =E13+G13+I13+K13+M13+O13+Q13+S13 -> 22466034
A14: 11 | B14: kötelező | C14: Tanyagondok szolgáltatás | P14: 9104168 | Q14: 8672363 | T14: =D14+F14+H14+J14+L14+N14+P14 -> 9104168 | U14: =E14+G14+I14+K14+M14+O14+Q14 -> 8672363 | V14: =E14+G14+I14+K14+M14+O14+Q14+S14 -> 8672363
A15: 12 | B15: kötelező | C15: Család és gyermekjóléti szolgáltatás | P15: 17209345 | Q15: 21970689 | T15: =D15+F15+H15+J15+L15+N15+P15 -> 17209345 | U15: =E15+G15+I15+K15+M15+O15+Q15 -> 21970689 | V15: =E15+G15+I15+K15+M15+O15+Q15+S15 -> 21970689
A16: 13 | B16: kötelező | C16: Szociális étkeztetés | D16: 3966000 | E16: 3553395 | P16: =13239627-D16 -> 9273627 | Q16: 5847873 | T16: =D16+F16+H16+J16+L16+N16+P16 -> 13239627 | U16: =E16+G16+I16+K16+M16+O16+Q16 -> 9401268 | V16: =E16+G16+I16+K16+M16+O16+Q16+S16 -> 9401268
A17: 14 | B17: kötelező | C17: Házi segítségnyújtás | P17: 19734174 | Q17: 20191798 | T17: =D17+F17+H17+J17+L17+N17+P17 -> 19734174 | U17: =E17+G17+I17+K17+M17+O17+Q17 -> 20191798 | V17: =E17+G17+I17+K17+M17+O17+Q17+S17 -> 20191798
A18: 15 | C18: Alaptevékenység összesen | D18: =SUM(D6:D17) -> 39150811 | E18: =SUM(E6:E17) -> 43422764 | F18: =SUM(F7:F17) -> 0 | G18: =SUM(G7:G17) -> 0 | H18: =SUM(H7:H17) -> 0 | I18: =SUM(I7:I17) -> 0 | J18: =SUM(J7:J17) -> 0 | K18: =SUM(K7:K17) -> 0 | L18: =SUM(L7:L17) -> 0 | M18: =SUM(M7:M17) -> 0 | ... S18: =SUM(S7:S17) -> 449264 | T18: =SUM(T6:T17) -> 287941378 | U18: =SUM(U6:U17) -> 279936300 | V18: =SUM(V6:V17) -> 280385564
A19: 16 | C19: Kötelező | D19: =D17+D16+D15+D13+D11+D10+D8+D7 -> 4996672 | E19: =E17+E16+E15+E13+E11+E10+E8+E7 -> 5158300 | F19: =F17+F16+F15+F13+F11+F10+F8+F7 -> 0 | G19: =G17+G16+G15+G13+G11+G10+G8+G7 -> 0 | H19: =H17+H16+H15+H13+H11+H10+H8+H7 -> 0 | I19: =I17+I16+I15+I13+I11+I10+I8+I7 -> 0 | J19: =J17+J16+J15+J13+J11+J10+J8+J7 -> 0 | K19: =K17+K16+K15+K13+K11+K10+K8+K7 -> 0 | ... O19: =O17+O16+O15+O13+O11+O10+O8+O7 -> 0 | P19: =P17+P16+P15+P13+P11+P10+P8+P7+P14 -> 81885945 | Q19: =Q17+Q16+Q15+Q13+Q11+Q10+Q8+Q7+Q14 -> 84266470 | R19: =R17+R16+R15+R13+R11+R10+R8+R7 -> 0 | S19: =S17+S16+S15+S13+S11+S10+S8+S7 -> 0 | T19: =T17+T16+T15+T13+T11+T10+T8+T7 -> 77778449 | U19: =U17+U16+U15+U13+U11+U10+U8+U7 -> 80752407 | V19: =V17+V16+V15+V13+V11+V10+V8+V7 -> 80752407
A20: 17 | C20: Nem kötelező | D20: =D12+D9+D6 -> 34154139 | E20: =E12+E9+E6 -> 38264464 | F20: =F12+F9+F6 -> 0 | G20: =G12+G9+G6 -> 0 | H20: =H12+H9+H6 -> 0 | I20: =I12+I9+I6 -> 0 | J20: =J12+J9+J6 -> 0 | K20: =K12+K9+K6 -> 0 | ... V20: =V12+V9+V6 -> 190960794

Sheet 10. VE bev
L1: 10. melléklet a .../2026. (....) önkormányzati rendelethez
C2: Medgyesegyháza Város Önkormányzat 2025. évi bevételeinek alakulása - Varázserdő Óvoda forintban
A3: A | C3: B | D3: C | F3: D | H3: E | J3: F | L3: G | N3: H | P3: I | R3: J
A4: 1 | B4: Kötelező/nem kötelező | C4: Kiemelt előirányzatok | D4: Működési bevételek | F4: Közhatalmi bevételek | H4: Működési célú támogatások államháztartáson belülről | J4: Felhalmozási célú támogatások államháztartáson belülről | L4: Működési célra átvett pénzeszközök | N4: Költségvetési maradvány | P4: Finanszírozási bevételek - Támogatás működésre | R4: Bevételek összesen
A5: 2 | C5: Szakfeladat | D5: 2025. évi előirányzat | E5: 2025. évi mód. előir | F5: 2025. évi előirányzat | G5: 2025. évi mód. előir | H5: 2025. évi előirányzat | I5: 2025. évi mód. előir | J5: 2025. évi előirányzat | K5: 2025. évi mód. előir | L5: 2025. évi előirányzat | M5: 2025. évi mód. előir | N5: 2025. évi előirányzat | O5: 2025. évi mód. előir | P5: 2025. évi előirányzat | Q5: 2025. évi mód. előir | R5: 2025. évi előirányzat | S5: 2025. évi mód. előir
A6: 3 | B6: kötelező | C6: Óvodai nevelés, ellátás | D6: 10000 | E6: 6835 | O6: 219375 | P6: =180489410 -> 180489410 | Q6: 194689226 | R6: =D6+F6+H6+J6+L6+N6+P6 -> 180499410 | S6: =E6+G6+I6+K6+M6+O6+Q6 -> 194915436
A7: 4 | B7: kötelező | C7: Minibölcsőde | E7: 20 | P7: 21177417 | Q7: 37220783 | R7: =D7+F7+H7+J7+L7+N7+P7 -> 21177417 | S7: =E7+G7+I7+K7+M7+O7+Q7 -> 37220803
A8: 5 | C8: Alaptevékenység összesen | D8: =SUM(D6:D7) -> 10000 | E8: =SUM(E6:E7) -> 6855 | F8: =SUM(F6:F7) -> 0 | G8: =SUM(G6:G7) -> 0 | H8: =SUM(H6:H7) -> 0 | I8: =SUM(I6:I7) -> 0 | J8: =SUM(J6:J7) -> 0 | K8: =SUM(K6:K7) -> 0 | ... Q8: =SUM(Q6:Q7) -> 231910009 | R8: =D8+F8+H8+J8+L8+N8+P8 -> 201676827 | S8: =E8+G8+I8+K8+M8+O8+Q8 -> 232136239
A9: 6 | C9: Kötelező | D9: =SUMIF($B6:$B7,"kötelező",D6:D7) -> 10000 | E9: =SUMIF($B6:$B7,"kötelező",E6:E7) -> 6855 | F9: =SUMIF($B6:$B7,"kötelező",F6:F7) -> 0 | G9: =SUMIF($B6:$B7,"kötelező",G6:G7) -> 0 | H9: =SUMIF($B6:$B7,"kötelező",H6:H7) -> 0 | I9: =SUMIF($B6:$B7,"kötelező",I6:I7) -> 0 | J9: =SUMIF($B6:$B7,"kötelező",J6:J7) -> 0 | K9: =SUMIF($B6:$B7,"kötelező",K6:K7) -> 0 | ... S9: =SUMIF($B6:$B7,"kötelező",S6:S7) -> 232136239
A10: 7 | C10: Nem kötelező | D10: =SUMIF($B6:$B7,"nem kötelező",D6:D7) -> 0 | E10: =SUMIF($B6:$B7,"nem kötelező",E6:E7) -> 0 | F10: =SUMIF($B6:$B7,"nem kötelező",F6:F7) -> 0 | G10: =SUMIF($B6:$B7,"nem kötelező",G6:G7) -> 0 | H10: =SUMIF($B6:$B7,"nem kötelező",H6:H7) -> 0 | I10: =SUMIF($B6:$B7,"nem kötelező",I6:I7) -> 0 | J10: =SUMIF($B6:$B7,"nem kötelező",J6:J7) -> 0 | K10: =SUMIF($B6:$B7,"nem kötelező",K6:K7) -> 0 | ... S10: =SUMIF($B6:$B7,"nem kötelező",S6:S7) -> 0

Sheet 11. MH bev.
T1: 10. melléklet a .../2026. (....) önkormányzati rendelethez
D3: Medgyesegyháza Város Önkormányzat 2025. évi bevételeinek alakulása - Művelődési Ház és Könyvtár (forintban)
A5: A | B5: B | C5: C | D5: D | F5: E | H5: F | J5: G | L5: H | N5: I | P5: J | R5: K | T5: L
A6: 1. | B6: Kötelező/nem kötelező | C6: Kiemelt előirányzatok | D6: Működési bevételek | F6: Közhatalmi bevételek | H6: Működési célú támogatások államháztartáson belülről | J6: Felhalmozási célú támogatások államháztartáson belülről | L6: Működési célra átvett pénzeszközök | N6: Felhalmozási célra átvett pénzeszközök | P6: Előző évi költségvetési maradvány | R6: Finanszírozási bevételek - Támogatás működésre | T6: Bevételek összesen
A7: 2. | C7: Szakfeladat | D7: 2025. évi előirányzat | E7: 2025. évi mód. előir | F7: 2025. évi előirányzat | G7: 2025. évi mód. előir | H7: 2025. évi előirányzat | I7: 2025. évi mód. előir | J7: 2025. évi előirányzat | K7: 2025. évi mód. előir | L7: 2025. évi előirányzat | M7: 2025. évi mód. előir | N7: 2025. évi előirányzat | O7: 2025. évi mód. előir | P7: 2025. évi előirányzat | Q7: 2025. évi mód. előir | R7: 2025. évi előirányzat | S7: 2025. évi mód. előir | T7: 2025. évi előirányzat | U7: 2025. évi mód. előir | V7: 2025. évi előirányzat
A8: 3. | B8: kötelező | C8: Művelődési Ház és Könyvtár | D8: =329000+3000000 -> 3329000 | E8: 355505 | Q8: 215 | R8: =36094412+92000+1400000 -> 37586412 | S8: 40027086 | T8: =D8+F8+H8+J8+L8+N8+R8+P8 -> 40915412 | U8: 350 | V8: =E8+G8+I8+K8+M8+O8+S8+Q8 -> 40382806
A9: 4. | B9: nem kötelező | C9: Rendezvények | D9: 809000 | E9: 942000 | R9: 5191000 | S9: 3445991 | T9: =D9+F9+H9+J9+L9+N9+R9+P9 -> 6000000 | V9: =E9+G9+I9+K9+M9+O9+S9 -> 4387991
A10: 5. | C10: Alaptevékenység összesen | D10: =SUM(D8:D9) -> 4138000 | E10: =SUM(E8:E9) -> 1297505 | F10: =SUM(F8:F9) -> 0 | G10: =SUM(G8:G9) -> 0 | H10: =SUM(H8:H9) -> 0 | I10: =SUM(I8:I9) -> 0 | J10: =SUM(J8:J9) -> 0 | K10: =SUM(K8:K9) -> 0 | ... V10: =SUM(V8:V9) -> 44770797
A11: 6. | C11: Kötelező | D11: =SUMIF($B8:$B9,"kötelező",D8:D9) -> 3329000 | E11: =SUMIF($B8:$B9,"kötelező",E8:E9) -> 355505 | F11: =SUMIF($B8:$B9,"kötelező",F8:F9) -> 0 | G11: =SUMIF($B8:$B9,"kötelező",G8:G9) -> 0 | H11: =SUMIF($B8:$B9,"kötelező",H8:H9) -> 0 | I11: =SUMIF($B8:$B9,"kötelező",I8:I9) -> 0 | J11: =SUMIF($B8:$B9,"kötelező",J8:J9) -> 0 | K11: =SUMIF($B8:$B9,"kötelező",K8:K9) -> 0 | ... V11: =SUMIF($B8:$B9,"kötelező",V8:V9) -> 40382806
A12: 7. | C12: Nem kötelező | D12: =SUMIF($B8:$B9,"nem kötelező",D8:D9) -> 809000 | E12: =SUMIF($B8:$B9,"nem kötelező",E8:E9) -> 942000 | F12: =SUMIF($B8:$B9,"nem kötelező",F8:F9) -> 0 | G12: =SUMIF($B8:$B9,"nem kötelező",G8:G9) -> 0 | H12: =SUMIF($B8:$B9,"nem kötelező",H8:H9) -> 0 | I12: =SUMIF($B8:$B9,"nem kötelező",I8:I9) -> 0 | J12: =SUMIF($B8:$B9,"nem kötelező",J8:J9) -> 0 | K12: =SUMIF($B8:$B9,"nem kötelező",K8:K9) -> 0 | ... V12: =SUMIF($B8:$B9,"nem kötelező",V8:V9) -> 4387991

Sheet 12.Önk kiad
X1: 12. melléklet a ..../2026 (....) önkormányzati rendelethez
C2: Az Önkormányzat 2025. évi kiadások kiemelt előirányzatonként forintban
A3: A | B3: B | C3: C | D3: D | F3: E | H3: F | J3: G | L3: H | N3: I | P3: J | R3: L | T3: M | V3: N | X3: O | Z3: P | AB3: R | AD3: S | AG3: T
A4: 1. | B4: kötelező/nem kötelező | C4: Kiemelt előirányzatok | D4: Személyi juttatások | F4: Szociális hozzájárulási adó | H4: Dologi kiadások | J4: Önkormányzat által folyósított ellátások | L4: Egyéb működési célú kiadások ÁH-n kívülre | N4: Egyéb működési célú kiadás ÁH-n belülre | P4: Egyéb Felhalmozási célú kiadás ÁH-n belülre | R4: Elvonások, befizetések | T4: Beruházások | V4: Felújítások | X4: Tartalék | Z4: Finanszírozási kiadások | AB4: Összesen | AD4: Finanszírozási kiadás Ktgvetési szerveknek | AF4: Kiadások összesen | AG4: Kiadások összesen
A5: 2. | C5: Szakfeladat/Feladat | D5: 2025. évi előirányzat | E5: 2025. évi mód. előir | F5: 2025. évi előirányzat | G5: 2025. évi mód. előir | H5: 2025. évi előirányzat | I5: 2025. évi mód. előir | J5: 2025. évi előirányzat | K5: 2025. évi mód. előir | L5: 2025. évi előirányzat | M5: 2025. évi mód. előir | N5: 2025. évi előirányzat | O5: 2025. évi mód. előir | P5: 2025. évi előirányzat | Q5: 2025. évi mód. előir | R5: 2025. évi előirányzat | S5: 2025. évi mód. előir | T5: 2025. évi előirányzat | U5: 2025. évi mód. előir | V5: 2025. mód ei. | W5: 2025. évi előirányzat | X5: 2025. évi mód. előir | Y5: 2025. évi előirányzat | Z5: 2025. évi mód. előir | AA5: 2025. évi előirányzat | AB5: 2025. évi mód. előir | AC5: 2025. évi előirányzat | AD5: 2025. évi mód. előir | AE5: 2025. évi előirányzat | AF5: 2025. évi mód. előir | AG5: 2025. évi előirányzat | AH5: 2025. évi mód. előir | AI5: 2025. évi előirányzat
A6: 3. | B6: kötelező | C6: Képviselő-testület kiadásai | D6: =(50000+50000+90000+50000+1523750+90000+283820)*12+400000+626750*3+545500*2+81800*2+400000+40000*11+217180*9 -> 31980310 | E6: 28697440 | F6: =D6*0.9*13% -> 3741696.3 | G6: 3709515 | H6: 100000 | T6: 5000000 | AB6: =D6+F6+H6+J6+L6+N6+P6+R6+T6+V6+X6+Z6 -> 40822006 | AC6: =E6+G6+I6+K6+M6+O6+Q6+S6+U6+W6+Y6+AA6 -> 32406955 | AF6: =AB6+AD6 -> 40822006 | AG6: =AC6+AE6 -> 32406955 | AH6: =AD6+AF6 -> 40822006 | AI6: =AE6+AG6 -> 32406955
A7: 4. | B7: kötelező | C7: Lakóingatlan bérbeadása | I7: 50945 | W7: 1024330 | AB7: =D7+F7+H7+J7+L7+N7+P7+R7+T7+V7+X7+Z7 -> 0 | AC7: =E7+G7+I7+K7+M7+O7+Q7+S7+U7+W7+Y7+AA7 -> 1075275 | AF7: =AB7+AD7 -> 0 | AG7: =AC7+AE7 -> 1075275 | AH7: =AD7+AF7 -> 0 | AI7: =AE7+AG7 -> 1075275
A8: 5. | B8: kötelező | C8: Nem lakó ingatlan bérbe adása, üzemelése | E8: 237804 | H8: =4332000+20000+180000+1200000+64000+230000 -> 6026000 | I8: 2693247 | T8: =2400000+2000000 -> 4400000 | V8: 2000000 | W8: 1029639 | AB8: =D8+F8+H8+J8+L8+N8+P8+R8+T8+V8+X8+Z8 -> 12426000 | AC8: =E8+G8+I8+K8+M8+O8+Q8+S8+U8+W8+Y8+AA8 -> 3960690 | AF8: =AB8+AD8 -> 12426000 | AG8: =AC8+AE8 -> 3960690 | AH8: =AD8+AF8 -> 12426000 | AI8: =AE8+AG8 -> 3960690
A9: 6. | B9: kötelező | C9: Közvilágítás | H9: =21000000+15000000+3870000+3905000+9250000 -> 53025000 | I9: 55500121 | AB9: =D9+F9+H9+J9+L9+N9+P9+R9+T9+V9+X9+Z9 -> 53025000 | AC9: =E9+G9+I9+K9+M9+O9+Q9+S9+U9+W9+Y9+AA9 -> 55500121 | AF9: =AB9+AD9 -> 53025000 | AG9: =AC9+AE9 -> 55500121 | AH9: =AD9+AF9 -> 53025000 | AI9: =AE9+AG9 -> 55500121
A10: 7. | B10: kötelező | C10: Tartalék | X10: 5000000 | Y10: 118173099 | AB10: =D10+F10+H10+J10+L10+N10+P10+R10+T10+V10+X10+Z10 -> 5000000 | AC10: =E10+G10+I10+K10+M10+O10+Q10+S10+U10+W10+Y10+AA10 -> 118173099 | AF10: =AB10+AD10 -> 5000000 | AG10: =AC10+AE10 -> 118173099 | AH10: =AD10+AF10 -> 5000000 | AI10: =AE10+AG10 -> 118173099
A11: 8. | B11: kötelező | C11: Lakhatási támogatás | J11: 450000 | K11: 60000 | AB11: =D11+F11+H11+J11+L11+N11+P11+R11+T11+V11+X11+Z11 -> 450000 | AC11: =E11+G11+I11+K11+M11+O11+Q11+S11+U11+W11+Y11+AA11 -> 60000 | AF11: =AB11+AD11 -> 450000 | AG11: =AC11+AE11 -> 60000 | AH11: =AD11+AF11 -> 450000 | AI11: =AE11+AG11 -> 60000
A12: 9. | B12: kötelező | C12: Gyógyszer támogatás | I12: 60000 | J12: 300000 | K12: 118000 | AB12: =D12+F12+H12+J12+L12+N12+P12+R12+T12+V12+X12+Z12 -> 300000 | AC12: =E12+G12+I12+K12+M12+O12+Q12+S12+U12+W12+Y12+AA12 -> 178000 | AF12: =AB12+AD12 -> 300000 | AG12: =AC12+AE12 -> 178000 | AH12: =AD12+AF12 -> 300000 | AI12: =AE12+AG12 -> 178000
A13: 10. | B13: nem kötelező | C13: Bursa Támogatás | N13: 720000 | O13: 330000 | AB13: =D13+F13+H13+J13+L13+N13+P13+R13+T13+V13+X13+Z13 -> 720000 | AC13: =E13+G13+I13+K13+M13+O13+Q13+S13+U13+W13+Y13+AA13 -> 330000 | AF13: =AB13+AD13 -> 720000 | AG13: =AC13+AE13 -> 330000 | AH13: =AD13+AF13 -> 720000 | AI13: =AE13+AG13 -> 330000
A14: 11. | B14: kötelező | C14: Egyszeri támogatás | I14: 5228590 | J14: 2400000 | K14: 1358870 | M14: 200000 | AB14: =D14+F14+H14+J14+L14+N14+P14+R14+T14+V14+X14+Z14 -> 2400000 | AC14: =E14+G14+I14+K14+M14+O14+Q14+S14+U14+W14+Y14+AA14 -> 6787460 | AF14: =AB14+AD14 -> 2400000 | AG14: =AC14+AE14 -> 6787460 | AH14: =AD14+AF14 -> 2400000 | AI14: =AE14+AG14 -> 6787460
A15: 12. | B15: kötelező | C15: Krízis | J15: 250000 | K15: 210000 | AB15: =D15+F15+H15+J15+L15+N15+P15+R15+T15+V15+X15+Z15 -> 250000 | AC15: =E15+G15+I15+K15+M15+O15+Q15+S15+U15+W15+Y15+AA15 -> 210000 | AF15: =AB15+AD15 -> 250000 | AG15: =AC15+AE15 -> 210000 | AH15: =AD15+AF15 -> 250000 | AI15: =AE15+AG15 -> 210000
A16: 13. | B16: kötelező | C16: Köztemetés | J16: 400000 | K16: 188150 | AB16: =D16+F16+H16+J16+L16+N16+P16+R16+T16+V16+X16+Z16 -> 400000 | AC16: =E16+G16+I16+K16+M16+O16+Q16+S16+U16+W16+Y16+AA16 -> 188150 | AF16: =AB16+AD16 -> 400000 | AG16: =AC16+AE16 -> 188150 | AH16: =AD16+AF16 -> 400000 | AI16: =AE16+AG16 -> 188150
A17: 14. | B17: kötelező | C17: Hulladék szállítási kedvezmény | J17: 100000 | K17: 7850 | AB17: =D17+F17+H17+J17+L17+N17+P17+R17+T17+V17+X17+Z17 -> 100000 | AC17: =E17+G17+I17+K17+M17+O17+Q17+S17+U17+W17+Y17+AA17 -> 7850 | AF17: =AB17+AD17 -> 100000 | AG17: =AC17+AE17 -> 7850 | AH17: =AD17+AF17 -> 100000 | AI17: =AE17+AG17 -> 7850
A18: 15. | B18: kötelező | C18: Hosszabb távú közfoglakoztatás | D18: 4002000 | E18: 19919281 | F18: 260130 | G18: 1360228 | AB18: =D18+F18+H18+J18+L18+N18+P18+R18+T18+V18+X18+Z18 -> 4262130 | AC18: =E18+G18+I18+K18+M18+O18+Q18+S18+U18+W18+Y18+AA18 -> 21279509 | AF18: =AB18+AD18 -> 4262130 | AG18: =AC18+AE18 -> 21279509 | AH18: =AD18+AF18 -> 4262130 | AI18: =AE18+AG18 -> 21279509
A19: 16. | B19: kötelező | C19: Start mintaprogram | D19: =2623440+1956440+1676300+27390444+34760010+960000+240000+919200+600000+720000 -> 71845834 | E19: 71839479 | F19: =D19*6.5% -> 4669979.2 | G19: 4888992 | H19: =11759469+2783555 -> 14543024 | I19: 18021066 | T19: =600000+130048 -> 730048 | U19: 969358 | AB19: =D19+F19+H19+J19+L19+N19+P19+R19+T19+V19+X19+Z19 -> 91788885 | AC19: =E19+G19+I19+K19+M19+O19+Q19+S19+U19+W19+Y19+AA19 -> 95718895 | AF19: =AB19+AD19 -> 91788885 | AG19: =AC19+AE19 -> 95718895 | AH19: =AD19+AF19 -> 91788885 | AI19: =AE19+AG19 -> 95718895
A20: 17. | B20: kötelező | C20: Állami támogatások és megelőlegezések visszafizetése | H20: =301000*5 -> 1505000 | I20: 1053000 | R20: =1837430*5+11843488+6800000 -> 27830638 | S20: 23622879 | Z20: 16898319 | AA20: 17613632 | AB20: =D20+F20+H20+J20+L20+N20+P20+R20+T20+V20+X20+Z20 -> 46233957 | AC20: =E20+G20+I20+K20+M20+O20+Q20+S20+U20+W20+Y20+AA20 -> 42289511 | AF20: =AB20+AD20 -> 46233957 | AG20: =AC20+AE20 -> 42289511 | AH20: =AD20+AF20 -> 46233957 | AI20: =AE20+AG20 -> 42289511
A21: 18. | B21: kötelező | C21: Önkormányzati üzemeltetési feladatok | D21: =(47300+23530+350000+348800)*12 -> 9235560 | E21: 29472583 | F21: =D21*13% -> 1200622.8 | G21: 3527240 | H21: =37000000+72000+5500000+4390000+4290000 -> 51252000 | I21: 38567329 | U21: 1010470 | AB21: =D21+F21+H21+J21+L21+N21+P21+R21+T21+V21+X21+Z21 -> 61688183 | AC21: =E21+G21+I21+K21+M21+O21+Q21+S21+U21+W21+Y21+AA21 -> 72577622 | AF21: =AB21+AD21 -> 61688183 | AG21: =AC21+AE21 -> 72577622 | AH21: =AD21+AF21 -> 61688183 | AI21: =AE21+AG21 -> 72577622
A22: 19. | B22: kötelező | C22: Éven túli céllhitel törlesztése | I22: 8430459 | Z22: 16903444 | AA22: 16903444 | AB22: =D22+F22+H22+J22+L22+N22+P22+R22+T22+V22+X22+Z22 -> 16903444 | AC22: =E22+G22+I22+K22+M22+O22+Q22+S22+U22+W22+Y22+AA22 -> 25333903 | AF22: =AB22+AD22 -> 16903444 | AG22: =AC22+AE22 -> 25333903 | AH22: =AD22+AF22 -> 16903444 | AI22: =AE22+AG22 -> 25333903
A23: 20. | B23: kötelező | C23: Likvid hitel | I23: 2032782 | Z23: 50000000 | AA23: 287692011 | AB23: =D23+F23+H23+J23+L23+N23+P23+R23+T23+V23+X23+Z23 -> 50000000 | AC23: =E23+G23+I23+K23+M23+O23+Q23+S23+U23+W23+Y23+AA23 -> 289724793 | AF23: =AB23+AD23 -> 50000000 | AG23: =AC23+AE23 -> 289724793 | AH23: =AD23+AF23 -> 50000000 | AI23: =AE23+AG23 -> 289724793
A24: 21. | B24: kötelező | C24: Háziorvosi feladatok, alapellátás | H24: =2140000+360000 -> 2500000 | I24: 1700000 | AB24: =D24+F24+H24+J24+L24+N24+P24+R24+T24+V24+X24+Z24 -> 2500000 | AC24: =E24+G24+I24+K24+M24+O24+Q24+S24+U24+W24+Y24+AA24 -> 1700000 | AF24: =AB24+AD24 -> 2500000 | AG24: =AC24+AE24 -> 1700000 | AH24: =AD24+AF24 -> 2500000 | AI24: =AE24+AG24 -> 1700000
A25: 22. | B25: kötelező | C25: Köztemető fenntartás | H25: =125000+46000+20000 -> 191000 | I25: 324824 | AB25: =D25+F25+H25+J25+L25+N25+P25+R25+T25+V25+X25+Z25 -> 191000 | AC25: =E25+G25+I25+K25+M25+O25+Q25+S25+U25+W25+Y25+AA25 -> 324824 | AF25: =AB25+AD25 -> 191000 | AG25: =AC25+AE25 -> 324824 | AH25: =AD25+AF25 -> 191000 | AI25: =AE25+AG25 -> 324824
A26: 23. | B26: kötelező | C26: Medgyeesegyházi Településüzemeletetési Kft +Ipari park Kft támogatása | D26: =115607*12+450000*10+348800*4*10+1000000 -> 20839284 | F26: =D26*13% -> 2709106.9 | I26: 33000 | L26: =5500000+200000+4474112 -> 10174112 | M26: 11834055 | U26: 1000000 | AB26: =D26+F26+H26+J26+L26+N26+P26+R26+T26+V26+X26+Z26 -> 33722503 | AC26: =E26+G26+I26+K26+M26+O26+Q26+S26+U26+W26+Y26+AA26 -> 12867055 | AF26: =AB26+AD26 -> 33722503 | AG26: =AC26+AE26 -> 12867055 | AH26: =AD26+AF26 -> 33722503 | AI26: =AE26+AG26 -> 12867055
A27: 24. | B27: kötelező | C27: Óvodai gyermekétkeztetés | H27: 28454000 | I27: 30371523 | AB27: =D27+F27+H27+J27+L27+N27+P27+R27+T27+V27+X27+Z27 -> 28454000 | AC27: =E27+G27+I27+K27+M27+O27+Q27+S27+U27+W27+Y27+AA27 -> 30371523 | AF27: =AB27+AD27 -> 28454000 | AG27: =AC27+AE27 -> 30371523 | AH27: =AD27+AF27 -> 28454000 | AI27: =AE27+AG27 -> 30371523
A28: 25. | B28: kötelező | C28: Bölcsödei gyermekétkeztetés | E28: 67500 | H28: 2450000 | I28: 2665902 | AB28: =D28+F28+H28+J28+L28+N28+P28+R28+T28+V28+X28+Z28 -> 2450000 | AC28: =E28+G28+I28+K28+M28+O28+Q28+S28+U28+W28+Y28+AA28 -> 2733402 | AF28: =AB28+AD28 -> 2450000 | AG28: =AC28+AE28 -> 2733402 | AH28: =AD28+AF28 -> 2450000 | AI28: =AE28+AG28 -> 2733402
A29: 26. | B29: nem kötelező | C29: Tagdíj (Kistérség, Dareh) | D29: =500000*2 -> 1000000 | E29: 432500 | H29: 500000 | I29: 104700 | N29: =1202783+723660 -> 1926443 | O29: 162500 | AB29: =D29+F29+H29+J29+L29+N29+P29+R29+T29+V29+X29+Z29 -> 3426443 | AC29: =E29+G29+I29+K29+M29+O29+Q29+S29+U29+W29+Y29+AA29 -> 699700 | AF29: =AB29+AD29 -> 3426443 | AG29: =AC29+AE29 -> 699700 | AH29: =AD29+AF29 -> 3426443 | AI29: =AE29+AG29 -> 699700
A30: 27. | B30: kötelező | C30: Piac | H30: =600000+31000+137000 -> 768000 | I30: 240565 | AB30: =D30+F30+H30+J30+L30+N30+P30+R30+T30+V30+X30+Z30 -> 768000 | AC30: =E30+G30+I30+K30+M30+O30+Q30+S30+U30+W30+Y30+AA30 -> 240565 | AF30: =AB30+AD30 -> 768000 | AG30: =AC30+AE30 -> 240565 | AH30: =AD30+AF30 -> 768000 | AI30: =AE30+AG30 -> 240565
A31: 28. | B31: kötelező | C31: Közkifolyó kiadásai | H31: =690000+80000 -> 770000 | I31: 132136 | AB31: =D31+F31+H31+J31+L31+N31+P31+R31+T31+V31+X31+Z31 -> 770000 | AC31: =E31+G31+I31+K31+M31+O31+Q31+S31+U31+W31+Y31+AA31 -> 132136 | AF31: =AB31+AD31 -> 770000 | AG31: =AC31+AE31 -> 132136 | AH31: =AD31+AF31 -> 770000 | AI31: =AE31+AG31 -> 132136
A32: 29. | B32: kötelező | C32: Szennyvíz és ivóvíz befizetési kötelezettség | L32: =14627058 -> 14627058 | AB32: =D32+F32+H32+J32+L32+N32+P32+R32+T32+V32+X32+Z32 -> 14627058 | AC32: =E32+G32+I32+K32+M32+O32+Q32+S32+U32+W32+Y32+AA32 -> 0 | AF32: =AB32+AD32 -> 14627058 | AG32: =AC32+AE32 -> 0 | AH32: =AD32+AF32 -> 14627058 | AI32: =AE32+AG32 -> 0
A33: 30. | B33: kötelező | C33: Szünidei gyermekétkeztetés | H33: 609000 | I33: 291077 | AB33: =D33+F33+H33+J33+L33+N33+P33+R33+T33+V33+X33+Z33 -> 609000 | AC33: =E33+G33+I33+K33+M33+O33+Q33+S33+U33+W33+Y33+AA33 -> 291077 | AF33: =AB33+AD33 -> 609000 | AG33: =AC33+AE33 -> 291077 | AH33: =AD33+AF33 -> 609000 | AI33: =AE33+AG33 -> 291077
A34: 31. | B34: nem kötelező | C34: Sportcsarnok, uszoda használat | D34: =348800*2*12+1200000+348800*4 -> 10966400 | E34: 8375119 | F34: =D34*13% -> 1425632 | G34: 839046 | H34: =27600000+130000+2600000+2470000+7700000+422000+20535000 -> 61457000 | I34: 35284731 | AB34: =D34+F34+H34+J34+L34+N34+P34+R34+T34+V34+X34+Z34 -> 73849032 | AC34: =E34+G34+I34+K34+M34+O34+Q34+S34+U34+W34+Y34+AA34 -> 44498896 | AF34: =AB34+AD34 -> 73849032 | AG34: =AC34+AE34 -> 44498896 | AH34: =AD34+AF34 -> 73849032 | AI34: =AE34+AG34 -> 44498896
A35: 32. | B35: nem kötelező | C35: Eszköz beszerzés (Sátor) | T35: 2540000 | AB35: =D35+F35+H35+J35+L35+N35+P35+R35+T35+V35+X35+Z35 -> 2540000 | AC35: =E35+G35+I35+K35+M35+O35+Q35+S35+U35+W35+Y35+AA35 -> 0 | AF35: =AB35+AD35 -> 2540000 | AG35: =AC35+AE35 -> 0 | AH35: =AD35+AF35 -> 2540000 | AI35: =AE35+AG35 -> 0
A36: 36. | B36: nem kötelező | C36: TOP Plusz -1.1.1 Helyi gazdasági fejlesztés | H36: 5899046 | Q36: 5028067 | T36: =130810000+6935015+1409700 -> 139154715 | AB36: =D36+F36+H36+J36+L36+N36+P36+R36+T36+V36+X36+Z36 -> 145053761 | AC36: =E36+G36+I36+K36+M36+O36+Q36+S36+U36+W36+Y36+AA36 -> 5028067 | AF36: =AB36+AD36 -> 145053761 | AG36: =AC36+AE36 -> 5028067 | AH36: =AD36+AF36 -> 145053761 | AI36: =AE36+AG36 -> 5028067
A37: 37. | B37: nem kötelező | C37: TOP Plusz -3.3.2-21 Háziorvosi ellátás | H37: 724482 | I37: 251755 | Q37: 2356112 | V37: 48996600 | W37: 40980152 | AB37: =D37+F37+H37+J37+L37+N37+P37+R37+T37+V37+X37+Z37 -> 49721082 | AC37: =E37+G37+I37+K37+M37+O37+Q37+S37+U37+W37+Y37+AA37 -> 43588019 | AF37: =AB37+AD37 -> 49721082 | AG37: =AC37+AE37 -> 43588019 | AH37: =AD37+AF37 -> 49721082 | AI37: =AE37+AG37 -> 43588019
A38: 38. | B38: nem kötelező | C38: TOP Plusz -3.3.2-21 Idősek klubbja | H38: =1490581-170800 -> 1319781 | I38: 7815787 | Q38: 3807013 | T38: =4961007 -> 4961007 | V38: 74404149 | W38: 41986456 | AB38: =D38+F38+H38+J38+L38+N38+P38+R38+T38+V38+X38+Z38 -> 80684937 | AC38: =E38+G38+I38+K38+M38+O38+Q38+S38+U38+W38+Y38+AA38 -> 53609256 | AF38: =AB38+AD38 -> 80684937 | AG38: =AC38+AE38 -> 53609256 | AH38: =AD38+AF38 -> 80684937 | AI38: =AE38+AG38 -> 53609256
A39: 39. | B39: nem kötelező | C39: TOP Plusz -1.2.3 Belterületi utak | I39: 4516545 | P39: =667879+698500+260056 -> 1626435 | AB39: =D39+F39+H39+J39+L39+N39+P39+R39+T39+V39+X39+Z39 -> 1626435 | AC39: =E39+G39+I39+K39+M39+O39+Q39+S39+U39+W39+Y39+AA39 -> 4516545 | AF39: =AB39+AD39 -> 1626435 | AG39: =AC39+AE39 -> 4516545 | AH39: =AD39+AF39 -> 1626435 | AI39: =AE39+AG39 -> 4516545
A40: 40. | B40: nem kötelező | C40: TOP-Plusz 1.2.1-21 Élhető települések | H40: 3847596 | I40: 754380 | T40: 345389427 | AB40: =D40+F40+H40+J40+L40+N40+P40+R40+T40+V40+X40+Z40 -> 349237023 | AC40: =E40+G40+I40+K40+M40+O40+Q40+S40+U40+W40+Y40+AA40 -> 754380 | AF40: =AB40+AD40 -> 349237023 | AG40: =AC40+AE40 -> 754380 | AH40: =AD40+AF40 -> 349237023 | AI40: =AE40+AG40 -> 754380
...

Sheet 13.PMH kiad
N1: 13. melléklet .../2026. (...) önkormányzati rendelethez
C2: Medgyesegyházi Polgármesteri Hivatal 2025. évi kiadások kiemelt előirányzatonként forintban
A3: A | B3: B | C3: C | D3: D | F3: E | H3: F | J3: G | L3: H | N3: I | P3: J | R3: K | T3: L | V3: M
