Workbook
Name Verzió: #REF!
Name Verzió: #REF!
Name Verzió: #REF!
Name Verzió: #REF!
Name Verzió: #REF!
Name Verzió: #REF!
Name Verzió: #REF!
Name Verzió: #REF!
Name Verzió: #REF!
Name Verzió: #REF!

Sheet 1.összevont
B1: 1. melléklet a /2026.(………………) önkormányzati rendelethez
A2: Medgyesegyháza Városi Önkormányzat
A3: 2025. ÉVI KÖLTSÉGVETÉSÉNEK ÖSSZEVONT MÉRLEGE (forintban)
A4: BEVÉTELEK
B6: A | C6: B | D6: C | E6: D
B7: Sor- szám | C7: Bevételi jogcímek | D7: 2025. évi előirányzat | E7: 2025. évi mód. előir
B8: 1. | C8: Önkormányzatok működési támogatásai (1.1+……+1.6.) | D8: =SUM(D9:D14) -> 934726324 | E8: =SUM(E9:E14) -> 807430467
B9: 1.1. | C9: Helyi önkormányzatok működésének általános támogatása(B111) | D9: ='7.Önk bev.'!I13 -> 162189157 | E9: ='7.Önk bev.'!J13 -> 179250857
B10: 1.2. | C10: Önkormányzatok egyes köznevelési feladatainak támogatása(B112) | D10: ='7.Önk bev.'!I14 -> 159972470 | E10: ='7.Önk bev.'!J14 -> 191847139
B11: 1.3. | C11: Önkormányzatok szociális és gyermekjóléti feladatainak támogatása(B113) | D11: ='7.Önk bev.'!I15+'7.Önk bev.'!I16+'7.Önk bev.'!I17+'7.Önk bev.'!I18 -> 192419780 | E11: ='7.Önk bev.'!J15+'7.Önk bev.'!J16+'7.Önk bev.'!J17+'7.Önk bev.'!J18 -> 234546793
B12: 1.4. | C12: Önkormányzatok kulturális feladatainak támogatása(B114) | D12: ='7.Önk bev.'!I19 -> 12463522 | E12: ='7.Önk bev.'!J19 -> 12613522
B13: 1.5. | C13: Működési célú költségvetési támogatások és kiegészítő támogatások(B115) | D13: ='7.Önk bev.'!I20 -> 399841367 | E13: ='7.Önk bev.'!J20 -> 179616145
B14: 1.6. | C14: Elszámolásból származó bevételek(B16) | D14: ='7.Önk bev.'!I21 -> 7840028 | E14: ='7.Önk bev.'!J21 -> 9556011
B15: 2. | C15: Működési célú támogatások ÁHT-n belülről (2.1+2.2.) | D15: =SUM(D16:D17) -> 102194590 | E15: =SUM(E16:E17) -> 130336926
B16: 2.1. | C16: Elvonások és befizetések bevételei
B17: 2.2. | C17: Egyéb működési célú támogatások bevételei (B16) | D17: ='7.Önk bev.'!M44 -> 102194590 | E17: ='7.Önk bev.'!N61 -> 130336926
B18: 2.3. | C18: 2.2.-ből EU-s támogatás
B19: 3. | C19: Felhalmozási célú támogatások ÁHT-n belülről (3.1.+3.2.) | D19: =SUM(D20:D21) -> 696302361 | E19: =SUM(E20:E21) -> 231918360
B20: 3.1. | C20: Felhalmozási célú önkormányzati támogatások(B23)
B21: 3.2. | C21: Egyéb felhalmozási célú támogatások(B25) | D21: ='7.Önk bev.'!O44 -> 696302361 | E21: ='7.Önk bev.'!P44 -> 231918360
B22: 3.3. | C22: 3.2.-ből EU-s támogatás
B23: 4. | C23: Közhatalmi bevételek (4.1+4.2.+4.3.+4.4.) | D23: =D24 -> 198157000 | E23: =E24 -> 178576886
B24: 4.1. | C24: Helyi adók (4.1.1.+….+4.1.3) | D24: =SUM(D25:D31) -> 198157000 | E24: =SUM(E25:E31) -> 178576886
B25: 4.1.1. | C25: Jövedelemadók (Termőföld bérbeadás)(B35) | D25: ='7.Önk bev.'!G7 -> 180000 | E25: ='7.Önk bev.'!H7 -> 141894
B26: 4.1.2. | C26: Értékesítési és forgalmi adók (iparűzési adó) | D26: ='7.Önk bev.'!G6 -> 170000000 | E26: ='7.Önk bev.'!H6 -> 156029408
B27: 4.2. | C27: Építmény és telek adó | D27: ='7.Önk bev.'!G12 -> 25000000 | E27: ='7.Önk bev.'!H12 -> 19401860
B28: 4.3. | C28: Idegenforgalmi adó | D28: ='7.Önk bev.'!G11 -> 88000 | E28: ='7.Önk bev.'!H11 -> 111600
B29: 4.4. | C29: Talajterhelési díj | D29: ='7.Önk bev.'!G8 -> 1930000 | E29: ='7.Önk bev.'!H8 -> 1445704
B30: 4.5. | C30: Egyéb közhatalmi bevételek | D30: ='7.Önk bev.'!G9 -> 10000 | E30: ='7.Önk bev.'!H9 -> 0
B31: 4.6. | C31: Pőtlék, birság | D31: ='7.Önk bev.'!G10 -> 949000 | E31: ='7.Önk bev.'!H10 -> 1446420
B32: 5. | C32: Működési bevételek (B4) | D32: ='7.Önk bev.'!E61 -> 106740811 | E32: ='7.Önk bev.'!F66 -> 118934767
B33: 6. | C33: Felhalmozási bevételek | D33: ='7.Önk bev.'!S66 -> 0 | E33: ='7.Önk bev.'!T66 -> 1614961
B34: 7. | C34: Működési célú átvett pénzeszközök | D34: ='7.Önk bev.'!Q66 -> 0 | E34: ='7.Önk bev.'!R61 -> 0
B35: 8. | C35: Felhalmozási célú átvett pénzeszközök
B36: 9. | C36: KÖLTSÉGVETÉSI BEVÉTELEK ÖSSZESEN: (1+…+8) | D36: =D8+D15+D19+D23+D32+D33+D34+D35 -> 2038121086 | E36: =E8+E15+E19+E23+E32+E33+E34+E35 -> 1468812367
B37: 10. | C37: Hitel-, kölcsönfelévtel államháztartáson kívülről (10.1+…+10.3 | D37: =SUM(D38:D40) -> 50000000 | E37: =SUM(E38:E40) -> 287692011
B38: 10.1. | C38: Hosszú lejűratú hitelek, kölcsönök felvétele
B39: 10.2. | C39: Likviditási célú hitelek, kölcsönök felvétele pénzügyi vállalkozástól | D39: ='7.Önk bev.'!W37 -> 50000000 | E39: ='7.Önk bev.'!X37 -> 287692011
B40: 10.3. | C40: Rövid lejáratú hitelek, kölcsönök felvétele
B41: 11. | C41: Belföldi értékpapírok bevételei
B42: 12. | C42: Előző évi költségvetési maradvány igénybe vétele | D42: ='7.Önk bev.'!U66 -> 32875125 | E42: ='7.Önk bev.'!V61 -> 41500354
B43: 13. | C43: Belföldi finanszírozás bevételei (13.1.+13.2.) | D43: =D44+D45 -> 0 | E43: =SUM(E44:E45) -> 23097133
B44: 13.1. | C44: Államháztartáson belüli megelőlegezések | E44: ='7.Önk bev.'!X40 -> 23097133
B45: 13.2. | C45: Államháztartáson belüli megelőlegezések törlesztése
B46: 14. | C46: Külföldi finanszírozás bevételei
B47: 15. | C47: Adóssághoz nem kapcsolódó származékos ügyletek bevételei
B48: 16. | C48: FINANSZÍROZÁSI BEVÉTELEK ÖSSZESEN:(10.+…+16.) | D48: =D37+D41+D42+D43+D46+D47 -> 82875125 | E48: =E37+E41+E42+E43+E46+E47 -> 352289498
B49: 17. | C49: KÖLTSÉGVETÉSI ÉS FINANSZÍROZÁSI BEVÉTELEK ÖSSZESEN: (9.+17.) | D49: =D36+D48 -> 2120996211 | E49: =E36+E48 -> 1821101865
B51: KIADÁSOK
B52: 2. számú táblázat
B53: Sor- szám | C53: Kiadási jogcímek | D53: 2025. évi előirányzat | E53: 2025. évi mód. előir
B54: 1. | C54: Működési költségvetés kiadásai (1.1.+…+1.5.+1.11.) | D54: =D55+D56+D57+D58+D59+D65+D60 -> 1.2837671e+09 | E54: =E55+E56+E57+E58+E59+E65+E60 -> 1317154909
B55: 1.1. | C55: Személyi juttatások | D55: ='12.Önk kiad'!D80 -> 654058277 | E55: ='12.Önk kiad'!E80 -> 708957518
B56: 1.2. | C56: Munkaadókat terhelő járulékok és szochó | D56: ='12.Önk kiad'!F80 -> 80079073 | E56: ='12.Önk kiad'!G80 -> 88325705
B57: 1.3. | C57: Dologi kiadások | D57: ='12.Önk kiad'!H80 -> 419347309 | E57: ='12.Önk kiad'!I80 -> 363606283
B58: 1.4. | C58: Ellátottak pénzbeli juttatásai | D58: ='12.Önk kiad'!J80 -> 3900000 | E58: ='12.Önk kiad'!K80 -> 1942870
B59: 1.5. | C59: Egyéb működési célú kiadások | D59: ='12.Önk kiad'!L80+'12.Önk kiad'!N80 -> 93551761 | E59: ='12.Önk kiad'!M80+'12.Önk kiad'!O80 -> 12526555
B60: 1.6. | C60: 1.5.-ből Előző évi elszámolásből származó befizetések | D60: ='12.Önk kiad'!R80 -> 27830638 | E60: ='12.Önk kiad'!S80 -> 23622879
B61: 1.7. | C61: Törvényi előírásokon alapuló befizetések
B62: 1.8. | C62: Elvonások befizetések | D62: 16898319 | E62: 16898319
B63: 1.9. | C63: Egyéb működési célú támogatások ÁHT-n belülre
B64: 1.10. | C64: Egyéb működési célú támogatások ÁHT-n kívülre
B65: 1.11. | C65: Tartalékok | D65: ='12.Önk kiad'!X80 -> 5000000 | E65: ='12.Önk kiad'!Y80 -> 118173099
B66: 1.12. | C66: 1.11.-ből: Általános tartalék | D66: ='12.Önk kiad'!X10 -> 5000000 | E66: ='12.Önk kiad'!Y10 -> 118173099
B67: 1.13. | C67: Céltartalék
B68: 2. | C68: Felhalmozási költségvetési kiadások (2.1.+2.3.+2.5.) | D68: =D69+D71+D73 -> 753427390 | E68: =E69+E71+E73 -> 181737869
B69: 2.1. | C69: Beruházások | D69: ='12.Önk kiad'!T80 -> 507485197 | E69: ='12.Önk kiad'!U80 -> 8302359
B70: 2.2 | C70: 2.1.-ből EU-s forrásból megvalósuló beruházás
B71: 2.3. | C71: Felújítások | D71: ='12.Önk kiad'!V80 -> 244315758 | E71: ='12.Önk kiad'!W80 -> 162244318
B72: 2.4. | C72: 2.3.-ból EU-s forrásból megvalósuló felújítás
B73: 2.5. | C73: Egyéb felhalmozási kiadások | D73: ='12.Önk kiad'!P80 -> 1626435 | E73: ='12.Önk kiad'!Q80 -> 11191192
B74: 2.6. | C74: 2.5.-ből Egyéb felhalmozási kiadás ÁHT-n belülre
B75: 2.7. | C75: Egyéb felhalmozási kiadás ÁHT-n kívülre
B76: 3. | C76: KÖLTSÉGVETÉSI KIADÁSOK ÖSSZESEN: (1.+2.) | D76: =D54+D68 -> 2.0371944e+09 | E76: =E54+E68 -> 1498892778
B77: 4. | C77: Hitel-, kölcsöntörlesztés államháztartáson kívülre (4.1.+…+4.3.) | D77: =SUM(D78:D80) -> 66903444 | E77: =SUM(E78:E80) -> 304595455
B78: 4.1. | C78: Hosszú lejáratú hitelek, kölcsönök törlesztése pü vállalkozásoknak | D78: ='12.Önk kiad'!Z22 -> 16903444 | E78: ='12.Önk kiad'!AA22 -> 16903444
B79: 4.2. | C79: Likviditási célú hitelek, kölcsönök törlesztése pü vállalkozásoknak | D79: 50000000 | E79: ='12.Önk kiad'!AA23 -> 287692011
B80: 4.3. | C80: Rövid lejáratú hitelek, kölcsönök törlesztése pü vállalkozásoknak
B81: 5. | C81: Belföldi értékpapírok vásárlásai
B82: 6. | C82: Belföldi finanszírozás kiadásai (=6.1.) | D82: =D83 -> 16898319 | E82: =E83 -> 17613632
B83: 6.1. | C83: Államháztartáson belüli megelőlegezések visszafizetése | D83: ='12.Önk kiad'!Z20 -> 16898319 | E83: ='12.Önk kiad'!AA20 -> 17613632
B84: 7. | C84: Külföldi finanszírozás kiadásai
B85: 8. | C85: Adóssághoz nem kapcsolódó származékos ügyletek
B86: 9. | C86: Váltókiadások
B87: 10. | C87: FINANSZÍROZÁSI KIADÁSOK ÖSSZESEN: (4.+…+9.) | D87: =D77+D81+D82+D84+D85+D86 -> 83801763 | E87: =E77+E81+E82+E84+E85+E86 -> 322209087
B88: 11. | C88: KIADÁSOK ÖSSZESEN: (3+10) | D88: =D76+D87 -> 2.1209962e+09 | E88: =E76+E87 -> 1821101865
B90: KÖLTSÉGVETÉSI, FINANSZÍROZOZÁSI BEVÉTELEK ÉS KIADÁSOK EGYENLEGE
B91: 3. számú táblázat
B92: 1. | C92: Költségvetési hiány, többlet (költségvetési bevételek 9. sor - költségvetési kiadások 3. sor) (+/-) | D92: =D36-D76 -> 926637.71 | E92: =E36-E76 -> -30080411
B93: 2. | C93: Finanszírozási bevételek kiadások egyenlege (finanszírozási bevételek 17. sor - finanszírozási kiadások 10. sor) (+/-) | D93: =D48-D87 -> -926638 | E93: =E48-E87 -> 30080411
C96: 2025. január 1-én engedélyezett létszámkeret
C97: Medgyesegyháza Városi Önkormányzat
C98: 1 fő polgármester
C99: 6 fő képviselő
C100: 1 fő közalkalmazott
C103: 46 fő közmunkás
C104: 10 fő hosszabb távú közfoglalkoztatott
C107: Medgyesegyháza Polgármesteri Hivatal
C108: 16 fő köztisztviselő
C109: 1 fő munkatörvénykönyves 6 órás
...

Sheet 2.kötelező
A1: 2. melléklet a /2026.(………………) önkormányzati rendelethez
A2: Medgyesegyháza Városi Önkormányzat
A3: 2025. ÉVI KÖLTSÉGVETÉS KÖTELEZŐ FELADATAINAK MÉRLEGE (forintban)
A4: BEVÉTELEK
A6: A | B6: B | C6: C | D6: D
A7: Sor- szám | B7: Bevételi jogcímek | C7: 2025. évi előirányzat | D7: 2025. évi mód. előir
A8: 1. | B8: Önkormányzatok működési támogatásai (1.1+……+1.6.) | C8: =SUM(C9:C14) -> 829202016 | D8: =SUM(D9:D14) -> 710626949
A9: 1.1. | B9: Helyi önkormányzatok működésének általános támogatása(B11) | C9: ='1.összevont'!D9 -> 162189157 | D9: ='1.összevont'!E9 -> 179250857
A10: 1.2. | B10: Önkormányzatok egyes köznevelési feladatainak támogatása(B12) | C10: ='1.összevont'!D10 -> 159972470 | D10: ='1.összevont'!E10 -> 191847139
A11: 1.3. | B11: Önkormányzatok szociális és gyermekjóléti feladatainak támogatása(B13) | C11: ='7.Önk bev.'!I15+'7.Önk bev.'!I17+'7.Önk bev.'!I18 -> 86895472 | D11: ='7.Önk bev.'!J15+'7.Önk bev.'!J17+'7.Önk bev.'!J18 -> 137743275
A12: 1.4. | B12: Önkormányzatok kulturális feladatainak támogatása(B14) | C12: ='7.Önk bev.'!I19 -> 12463522 | D12: ='7.Önk bev.'!J19 -> 12613522
A13: 1.5. | B13: Működési célú költségvetési támogatások és kiegészítő támogatások(B15) | C13: ='7.Önk bev.'!I20 -> 399841367 | D13: ='7.Önk bev.'!J20 -> 179616145
A14: 1.6. | B14: Elszámolásból bevételek(B16) | C14: ='1.összevont'!D14 -> 7840028 | D14: ='1.összevont'!E14 -> 9556011
A15: 2. | B15: Működési célú támogatások ÁHT-n belülről (2.1+2.2.) | C15: =SUM(C16:C17) -> 101127790 | D15: =SUM(D16:D17) -> 109994126
A16: 2.1. | B16: Elvonások és befizetések bevételei
A17: 2.2. | B17: Egyéb működési célú támogatások bevételei(B16) | C17: ='7.Önk bev.'!M45 -> 101127790 | D17: ='7.Önk bev.'!N45 -> 109994126
A18: 2.3. | B18: 2.2.-ből EU-s támogatás
A19: 3. | B19: Felhalmozási célú támogatások ÁHT-n belülről (3.1.+3.2.) | C19: =SUM(C20:C21) -> 128398477 | D19: =SUM(D20:D21) -> 135445200
A20: 3.1. | B20: Felhalmozási célú önkormányzati támogatások(B22)
A21: 3.2. | B21: Egyéb felhalmozási célú támogatások(B25) | C21: ='7.Önk bev.'!O63 -> 128398477 | D21: ='7.Önk bev.'!P63 -> 135445200
A22: 3.3. | B22: 3.2.-ből EU-s támogatás
A23: 4. | B23: Közhatalmi bevételek (4.1+4.2.+4.3.+4.4.) | C23: =C24+C29+C30+C31 -> 198157000 | D23: =D24+D29+D30+D31 -> 178576886
A24: 4.1. | B24: Helyi adók (4.1.1.+….+4.1.3) | C24: =SUM(C25:C28) -> 195268000 | D24: =SUM(D25:D28) -> 175684762
A25: 4.1.1. | B25: Jövedelemadók (Termőföld bérbeadás) | C25: ='7.Önk bev.'!G7 -> 180000 | D25: ='7.Önk bev.'!H7 -> 141894
A26: 4.1.2. | B26: Értékesítési és forgalmi adók (iparűzési adó) | C26: ='7.Önk bev.'!G6 -> 170000000 | D26: ='7.Önk bev.'!H6 -> 156029408
A27: 4.2. | B27: Építmény és telek adó | C27: ='7.Önk bev.'!G12 -> 25000000 | D27: ='7.Önk bev.'!H12 -> 19401860
A28: 4.3. | B28: Idegenforgalmi adó | C28: ='7.Önk bev.'!G11 -> 88000 | D28: ='7.Önk bev.'!H11 -> 111600
A29: 4.4. | B29: Talajterhelési díj | C29: ='7.Önk bev.'!G8 -> 1930000 | D29: ='7.Önk bev.'!H8 -> 1445704
A30: 4.5. | B30: Egyéb közhatalmi bevételek | C30: ='7.Önk bev.'!G9 -> 10000 | D30: ='7.Önk bev.'!H9 -> 0
A31: 4.6. | B31: Pótlék, birság | C31: ='7.Önk bev.'!G10 -> 949000 | D31: ='7.Önk bev.'!H10 -> 1446420
A32: 5. | B32: Működési bevételek (B4) | C32: ='7.Önk bev.'!E63 -> 59397672 | D32: ='7.Önk bev.'!F63 -> 70505401
A33: 6. | B33: Felhalmozási bevételek | D33: ='7.Önk bev.'!T63 -> 1614961
A34: 7. | B34: Működési célú átvett pénzeszközök | C34: ='7.Önk bev.'!Q63 -> 0 | D34: ='7.Önk bev.'!R63 -> 0
A35: 8. | B35: Felhalmozási célú átvett pénzeszközök | C35: 0 | D35: 0
A36: 9. | B36: KÖLTSÉGVETÉSI BEVÉTELEK ÖSSZESEN: (1+…+8) | C36: =C8+C15+C19+C23+C32+C33+C34+C35 -> 1316282955 | D36: =D8+D15+D19+D23+D32+D33+D34+D35 -> 1206763523
A37: 10. | B37: Hitel-, kölcsönfelévtel államháztartáson kívülről (10.1+…+10.3 | C37: =SUM(C38:C40) -> 50000000 | D37: =SUM(D38:D40) -> 310789144
A38: 10.1. | B38: Hosszú lejűratú hitelek, kölcsönök felvétele
A39: 10.2. | B39: Likviditási célú hitelek, kölcsönök felvétele pénzügyi vállalkozástól | C39: ='7.Önk bev.'!W63 -> 50000000 | D39: ='7.Önk bev.'!X63 -> 310789144
A40: 10.3. | B40: Rövid lejáratú hitelek, kölcsönök felvétele
A41: 11. | B41: Belföldi értékpapírok bevételei
A42: 12. | B42: Előző évi költségvetési maradvány igénybe vétele | C42: ='7.Önk bev.'!U63 -> 14258921 | D42: ='7.Önk bev.'!V63 -> 22434671
A43: 13. | B43: Belföldi finanszírozás bevételei (13.1.+13.2.) | D43: =SUM(D44:D45) -> 0
A44: 13.1. | B44: Államháztartáson belüli megelőlegezések | D44: ='7.Önk bev.'!X30 -> 0
A45: 13.2. | B45: Államháztartáson belüli megelőlegezések törlesztése
A46: 14. | B46: Külföldi finanszírozás bevételei | C46: 0 | D46: 0
A47: 15. | B47: Váltóbevételek | C47: 0 | D47: 0
A48: 16. | B48: Adóssághoz nem kapcsolódó származékos ügyletek bevételei | C48: 0 | D48: 0
A49: 17. | B49: FINANSZÍROZÁSI BEVÉTELEK ÖSSZESEN:(10.+…+16.) | C49: =C37+C41+C42+C43+C46+C47+C48 -> 64258921 | D49: =D37+D41+D42+D43+D46+D47+D48 -> 333223815
A50: 18. | B50: KÖLTSÉGVETÉSI ÉS FINANSZÍROZÁSI BEVÉTELEK ÖSSZESEN: (9.+17.) | C50: =C36+C49 -> 1380541876 | D50: =D36+D49 -> 1539987338
A52: KIADÁSOK
A53: 2. számú táblázat
A54: Sor- szám | B54: Kiadási jogcímek | C54: 2025. évi előirányzat | D54: 2025. évi mód. előir
A55: 1. | B55: Működési költségvetés kiadásai (1.1.+…+1.5.+1.11.) | C55: =C56+C57+C58+C59+C60+C66+C61 -> 8.701548e+08 | D55: =D56+D57+D58+D59+D60+D66 -> 1011739170
A56: 1.1. | B56: Személyi juttatások | C56: ='12.Önk kiad'!D77 -> 507745628 | D56: ='12.Önk kiad'!E77 -> 552968342
A57: 1.2. | B57: Munkaadókat terhelő járulékok és szochó | C57: ='12.Önk kiad'!F77 -> 61188429 | D57: ='12.Önk kiad'!G77 -> 67701772
A58: 1.3. | B58: Dologi kiadások | C58: ='12.Önk kiad'!H77 -> 239658936 | D58: ='12.Önk kiad'!I77 -> 235296153
A59: 1.4. | B59: Ellátottak pénzbeli juttatásai | C59: ='12.Önk kiad'!J77 -> 3900000 | D59: ='12.Önk kiad'!K77 -> 1942870
A60: 1.5. | B60: Egyéb működési célú kiadások | C60: ='12.Önk kiad'!L77+'12.Önk kiad'!N77 -> 24831170 | D60: ='12.Önk kiad'!M77+'12.Önk kiad'!O77+D63 -> 35656934
A61: 1.6. | B61: 1.5.-ből Előző évi elszámolásból származó befizetések | C61: =SUM(C62:C64) -> 27830638 | D61: =SUM(D62:D64) -> 23622879
A62: 1.7. | B62: Törvényi előírásokon alapuló befizetések
A63: 1.8. | B63: Elvonások befizetések | C63: ='12.Önk kiad'!R61 -> 27830638 | D63: ='12.Önk kiad'!S61 -> 23622879
A64: 1.9. | B64: Egyéb működési célú támogatások ÁHT-n belülre | C64: ='12.Önk kiad'!N77 -> 0 | D64: ='12.Önk kiad'!O77 -> 0
A65: 1.10. | B65: Egyéb működési célú támogatások ÁHT-n kívülre
A66: 1.11. | B66: Tartalékok | C66: ='12.Önk kiad'!X77 -> 5000000 | D66: ='12.Önk kiad'!Y77 -> 118173099
A67: 1.12. | B67: 1.11.-ből: Általános tartalék | C67: 5000000 | D67: 5000000
A68: 1.13. | B68: Céltartalék
A69: 2. | B69: Felhalmozási költségvetési kiadások (2.1.+2.3.+2.5.) | C69: =C70+C72+C74 -> 15440048 | D69: =D70+D72+D74 -> 13654271
A70: 2.1. | B70: Beruházások | C70: ='12.Önk kiad'!T77 -> 13440048 | D70: ='12.Önk kiad'!U77 -> 7757979
A71: 2.2 | B71: 2.1.-ből EU-s forrásból megvalósuló beruházás
A72: 2.3. | B72: Felújítások | C72: ='12.Önk kiad'!V77 -> 2000000 | D72: ='12.Önk kiad'!W77 -> 5896292
A73: 2.4. | B73: 2.3.-ból EU-s forrásból megvalósuló felújítás
A74: 2.5. | B74: Egyéb felhalmozási kiadások
A75: 2.6. | B75: 2.5.-ből Egyéb felhalmozási kiadás ÁHT-n belülre
A76: 2.7. | B76: Egyéb felhalmozási kiadás ÁHT-n kívülre
A77: 3. | B77: KÖLTSÉGVETÉSI KIADÁSOK ÖSSZESEN: (1.+2.) | C77: =C55+C69 -> 8.8559485e+08 | D77: =D55+D69 -> 1025393441
A78: 4. | B78: Hitel-, kölcsöntörlesztés államháztartáson kívülre (4.1.+…+4.3.) | C78: =SUM(C79:C81) -> 66903444 | D78: =SUM(D79:D81) -> 304595455
A79: 4.1. | B79: Hosszú lejáratú hitelek, kölcsönök törlesztése pü vállalkozásoknak | C79: ='12.Önk kiad'!Z22 -> 16903444 | D79: ='12.Önk kiad'!AA22 -> 16903444
A80: 4.2. | B80: Likviditási célú hitelek, kölcsönök törlesztése pü vállalkozásoknak | C80: 50000000 | D80: ='12.Önk kiad'!AA23 -> 287692011
A81: 4.3. | B81: Rövid lejáratú hitelek, kölcsönök törlesztése pü vállalkozásoknak
A82: 5. | B82: Belföldi értékpapírok vásárlásai
A83: 6. | B83: Belföldi finanszírozás kiadásai (=6.1.) | C83: =C84 -> 16898319 | D83: =D84 -> 17613632
A84: 6.1. | B84: Államháztartáson belüli megelőlegezések visszafizetése | C84: ='12.Önk kiad'!Z20 -> 16898319 | D84: ='12.Önk kiad'!AA20 -> 17613632
A85: 7. | B85: Külföldi finanszírozás kiadásai
A86: 8. | B86: Adóssághoz nem kapcsolódó származékos ügyletek
A87: 9. | B87: Váltókiadások
A88: 10. | B88: FINANSZÍROZÁSI KIADÁSOK ÖSSZESEN: (4.+…+9.) | C88: =C78+C82+C83+C85+C86+C87 -> 83801763 | D88: =D78+D82+D83+D85+D86+D87 -> 322209087
A89: 11. | B89: KIADÁSOK ÖSSZESEN: (3+10) | C89: =C77+C88 -> 9.6939661e+08 | D89: =D77+D88 -> 1347602528 | E89: =D89-C89 -> 3.7820592e+08
A91: KÖLTSÉGVETÉSI, FINANSZÍROZOZÁSI BEVÉTELEK ÉS KIADÁSOK EGYENLEGE
A92: 3. számú táblázat
A93: 1. | B93: Költségvetési hiány, többlet (költségvetési bevételek 9. sor - költségvetési kiadások 3. sor) (+/-) | C93: =C36-C77 -> 4.3068811e+08 | D93: =D36-D77 -> 181370082
A94: 2. | B94: Finanszírozási bevételek kiadások egyenlege (finanszírozási bevételek 17. sor - finanszírozási kiadások 10. sor) (+/-) | C94: =C49-C88 -> -19542842 | D94: =D49-D88 -> 11014728

Sheet 3.önként
A1: 3. melléklet a /2026.(………………) önkormányzati rendelethez
A2: Medgyesegyháza Városi Önkormányzat
A3: 2025. ÉVI KÖLTSÉGVETÉS ÖNKÉNT VÁLLALT FELADATAINAK MÉRLEGE (forintban)
A4: BEVÉTELEK
A6: A | B6: B | C6: C | D6: D
A7: Sor- szám | B7: Bevételi jogcímek | C7: 2025. évi előirányzat | D7: 2025. évi mód. előir
A8: 1. | B8: Önkormányzatok működési támogatásai (1.1+……+1.6.) | C8: =SUM(C9:C14) -> 105524308 | D8: =SUM(D9:D14) -> 96803518
A9: 1.1. | B9: Helyi önkormányzatok működésének általános támogatása
A10: 1.2. | B10: Önkormányzatok egyes köznevelési feladatainak támogatása
A11: 1.3. | B11: Önkormányzatok szociális és gyermekjóléti feladatainak támogatása | C11: ='7.Önk bev.'!I16 -> 105524308 | D11: ='7.Önk bev.'!J16 -> 96803518
A12: 1.4. | B12: Önkormányzatok kulturális feladatainak támogatása
A13: 1.5. | B13: Működési célú költségvetési támogatások és kiegészítő támogatások
A14: 1.6. | B14: Elszámolásból származó bevételek
A15: 2. | B15: Működési célú támogatások ÁHT-n belülről (2.1+2.2.) | C15: =SUM(C16:C17) -> 1066800 | D15: =SUM(D16:D17) -> 20342800
A16: 2.1. | B16: Elvonások és befizetések bevételei
A17: 2.2. | B17: Egyéb működési célú támogatások bevételei(B16) | C17: ='7.Önk bev.'!M47 -> 1066800 | D17: ='7.Önk bev.'!N47 -> 20342800
A18: 2.3. | B18: 2.2.-ből EU-s támogatás
A19: 3. | B19: Felhalmozási célú támogatások ÁHT-n belülről (3.1.+3.2.) | C19: =SUM(C20:C21) -> 567903884 | D19: =SUM(D20:D21) -> 96473160
A20: 3.1. | B20: Felhalmozási célú önkormányzati támogatások | C20: ='7.Önk bev.'!K64 -> 0
A21: 3.2. | B21: Egyéb felhalmozási célú támogatások(B25) | C21: ='7.Önk bev.'!O47 -> 567903884 | D21: ='7.Önk bev.'!P47 -> 96473160
A22: 3.3. | B22: 3.2.-ből EU-s támogatás
A23: 4. | B23: Közhatalmi bevételek (4.1+4.2.+4.3.+4.4.) | C23: =C24+C27+C28+C29 -> 0 | D23: =D24+D27+D28+D29 -> 0
A24: 4.1. | B24: Helyi adók (4.1.1.+….+4.1.3) | C24: =C25+C26 -> 0
A25: 4.1.1. | B25: Vagyoni típusú adók
A26: 4.1.3. | B26: Értékesítési és forgalmi adók (iparűzési adó)
A27: 4.2. | B27: Gépjárműadó
A28: 4.3. | B28: Egyéb áruhasználati és szolgáltatási adók
A29: 4.4. | B29: Egyéb közhatalmi bevételek
A30: 5. | B30: Működési bevételek (B4) | C30: ='7.Önk bev.'!E64 -> 47343139 | D30: ='7.Önk bev.'!F64 -> 48429366
A31: 6. | B31: Felhalmozási bevételek
A32: 7. | B32: Működési célú átvett pénzeszközök
A33: 8. | B33: Felhalmozási célú átvett pénzeszközök
A34: 9. | B34: KÖLTSÉGVETÉSI BEVÉTELEK ÖSSZESEN: (1+…+8) | C34: =C8+C15+C19+C23+C30+C31+C32+C33 -> 721838131 | D34: =D8+D15+D19+D23+D30+D31+D32+D33 -> 262048844
A35: 10. | B35: Hitel-, kölcsönfelévtel államháztartáson kívülről (10.1+…+10.3 | C35: =SUM(C36:C38) -> 0 | D35: =SUM(D36:D38) -> 0
A36: 10.1. | B36: Hosszú lejűratú hitelek, kölcsönök felvétele
A37: 10.2. | B37: Likviditási célú hitelek, kölcsönök felvétele pénzügyi vállalkozástól
A38: 10.3. | B38: Rövid lejáratú hitelek, kölcsönök felvétele
A39: 11. | B39: Belföldi értékpapírok bevételei
A40: 12. | B40: Előző évi költségvetési maradvány igénybe vétele | C40: ='7.Önk bev.'!U64 -> 18616204 | D40: ='7.Önk bev.'!V64 -> 19065683
A41: 13. | B41: Belföldi finanszírozás bevételei (13.1.+13.2.) | C41: =C42+C43 -> 0 | D41: =D42+D43 -> 0
A42: 13.1. | B42: Államháztartáson belüli megelőlegezések
A43: 13.2. | B43: Államháztartáson belüli megelőlegezések törlesztése
A44: 14. | B44: Külföldi finanszírozás bevételei
A45: 15. | B45: Váltóbevételek
A46: 16. | B46: Adóssághoz nem kapcsolódó származékos ügyletek bevételei
A47: 17. | B47: FINANSZÍROZÁSI BEVÉTELEK ÖSSZESEN:(10.+…+16.) | C47: =C35+C39+C40+C41+C44+C45+C46 -> 18616204 | D47: =D35+D39+D40+D41+D44+D45+D46 -> 19065683
A48: 18. | B48: KÖLTSÉGVETÉSI ÉS FINANSZÍROZÁSI BEVÉTELEK ÖSSZESEN: (9.+17.) | C48: =C34+C47 -> 740454335 | D48: =D34+D47 -> 281114527
A50: KIADÁSOK
A51: 2. számú táblázat
A52: Sor- szám | B52: Kiadási jogcímek | C52: 2025. évi előirányzat | D52: 2025. évi mód. előir
A53: 1. | B53: Működési költségvetés kiadásai (1.1.+…+1.5.+1.11.) | C53: =C54+C55+C56+C57+C58+C64 -> 3.6660426e+08 | D53: =D54+D55+D56+D57+D58+D64 -> 258407739
A54: 1.1. | B54: Személyi juttatások | C54: ='12.Önk kiad'!D79 -> 104712649 | D54: ='12.Önk kiad'!E79 -> 114389176
A55: 1.2. | B55: Munkaadókat terhelő járulékok és szochó | C55: ='12.Önk kiad'!F79 -> 13482644 | D55: ='12.Önk kiad'!G79 -> 15215933
A56: 1.3. | B56: Dologi kiadások | C56: ='12.Önk kiad'!H79 -> 179688373 | D56: ='12.Önk kiad'!I79 -> 128310130
A57: 1.4. | B57: Ellátottak pénzbeli juttatásai
A58: 1.5. | B58: Egyéb működési célú kiadások | C58: =SUM(C59:C63) -> 68720591 | D58: =SUM(D59:D63) -> 492500
A59: 1.6. | B59: 1.5.-ből Előző évi elszámolásból származó befizetések
A60: 1.7. | B60: Törvényi előírásokon alapuló befizetések
A61: 1.8. | B61: Elvonások befizetések
A62: 1.9. | B62: Egyéb működési célú támogatások ÁHT-n belülre | C62: ='12.Önk kiad'!N79 -> 68720591 | D62: ='12.Önk kiad'!O79 -> 492500
A63: 1.10. | B63: Egyéb működési célú támogatások ÁHT-n kívülre | C63: ='12.Önk kiad'!L79 -> 0 | D63: ='12.Önk kiad'!M79 -> 0
A64: 1.11. | B64: Tartalékok | C64: 0 | D64: ='12.Önk kiad'!Y79 -> 0
A65: 1.12. | B65: 1.11.-ből: Általános tartalék | D65: 0
A66: 1.13. | B66: Céltartalék
A67: 2. | B67: Felhalmozási költségvetési kiadások (2.1.+2.3.+2.5.) | C67: =C68+C70+C72 -> 737987342 | D67: =D68+D70+D72 -> 168083598
A68: 2.1. | B68: Beruházások | C68: ='12.Önk kiad'!T79 -> 494045149 | D68: ='12.Önk kiad'!U79 -> 544380
A69: 2.2 | B69: 2.1.-ből EU-s forrásból megvalósuló beruházás
A70: 2.3. | B70: Felújítások | C70: ='12.Önk kiad'!V79 -> 242315758 | D70: ='12.Önk kiad'!W79 -> 156348026
A71: 2.4. | B71: 2.3.-ból EU-s forrásból megvalósuló felújítás
A72: 2.5. | B72: Egyéb felhalmozási kiadások | C72: ='12.Önk kiad'!P79 -> 1626435 | D72: ='12.Önk kiad'!Q79 -> 11191192
A73: 2.6. | B73: 2.5.-ből Egyéb felhalmozási kiadás ÁHT-n belülre | C73: ='12.Önk kiad'!R79 -> 0 | D73: ='12.Önk kiad'!S79 -> 0
A74: 2.7. | B74: Egyéb felhalmozási kiadás ÁHT-n kívülre
A75: 3. | B75: KÖLTSÉGVETÉSI KIADÁSOK ÖSSZESEN: (1.+2.) | C75: =C53+C67 -> 1.1045916e+09 | D75: =D53+D67 -> 426491337
A76: 4. | B76: Hitel-, kölcsöntörlesztés államháztartáson kívülre (4.1.+…+4.3.) | C76: =SUM(C77:C79) -> 0 | D76: =SUM(D77:D79) -> 0
A77: 4.1. | B77: Hosszú lejáratú hitelek, kölcsönök törlesztése pü vállalkozásoknak | C77: ='12.Önk kiad'!Z79 -> 0
A78: 4.2. | B78: Likviditási célú hitelek, kölcsönök törlesztése pü vállalkozásoknak
A79: 4.3. | B79: Rövid lejáratú hitelek, kölcsönök törlesztése pü vállalkozásoknak
A80: 5. | B80: Belföldi értékpapírok vásárlásai
A81: 6. | B81: Belföldi finanszírozás kiadásai (=6.1.) | C81: =C82 -> 0 | D81: =D82 -> 0
A82: 6.1. | B82: Államháztartáson belüli megelőlegezések visszafizetése
A83: 7. | B83: Külföldi finanszírozás kiadásai
A84: 8. | B84: Adóssághoz nem kapcsolódó származékos ügyletek
A85: 9. | B85: Váltókiadások
A86: 10. | B86: FINANSZÍROZÁSI KIADÁSOK ÖSSZESEN: (4.+…+9.) | C86: =C76+C80+C81+C83+C84+C85 -> 0 | D86: =D76+D80+D81+D83+D84+D85 -> 0
A87: 11. | B87: KIADÁSOK ÖSSZESEN: (3+10) | C87: =C75+C86 -> 1.1045916e+09 | D87: =D75+D86 -> 426491337 | E87: =1104591599-D87 -> 678100262
A89: KÖLTSÉGVETÉSI, FINANSZÍROZOZÁSI BEVÉTELEK ÉS KIADÁSOK EGYENLEGE
A90: 3. számú táblázat
A91: 1. | B91: Költségvetési hiány, többlet (költségvetési bevételek 9. sor - költségvetési kiadások 3. sor) (+/-) | C91: =C34-C75 -> -3.8275347e+08 | D91: =D34-D75 -> -164442493
A92: 2. | B92: Finanszírozási bevételek kiadások egyenlege (finanszírozási bevételek 17. sor - finanszírozási kiadások 10. sor) (+/-) | C92: =C47-C86 -> 18616204 | D92: =D47-D86 -> 19065683

Sheet 4.államigazg
A1: 4. melléklet a …….../2026.(………………) önkormányzati rendelethez
A2: Medgyesegyháza Városi Önkormányzat
A3: 2025. ÉVI KÖLTSÉGVETÉS ÁLLAMIGAZGATÁSI FELADATAINAK MÉRLEGE forintban
A4: BEVÉTELEK
A6: A | B6: B | C6: C | D6: D
A7: Sor- szám | B7: Bevételi jogcímek | C7: 2025. évi előirányzat | D7: 2025. évi mód. előir
A8: 1. | B8: Önkormányzatok működési támogatásai (1.1+……+1.6.) | C8: =SUM(C9:C14) -> 0 | D8: =SUM(D9:D14) -> 0
A9: 1.1. | B9: Helyi önkormányzatok működésének általános támogatása
A10: 1.2. | B10: Önkormányzatok egyes köznevelési feladatainak támogatása
A11: 1.3. | B11: Önkormányzatok szociális és gyermjóléti feladatainak támogatása
A12: 1.4. | B12: Önkormányzatok kulturális feladatainak támogatása
A13: 1.5. | B13: Működési célú költségvetési támogatások és kiegészítő támogatások
A14: 1.6. | B14: Elszámolásból származő bevételek
A15: 2. | B15: Működési célú támogatások ÁHT-n belülről (2.1+2.2.) | C15: =SUM(C16:C18) -> 0 | D15: =SUM(D16:D18) -> 0
A16: 2.1. | B16: Elvonások és befizetések bevételei
A17: 2.2. | B17: Egyéb működési célú támogatások bevételei
A18: 2.3. | B18: 2.2.-ből EU-s támogatás
A19: 3. | B19: Felhalmozási célú támogatások ÁHT-n belülről (3.1.+3.2.) | C19: =SUM(C20:C21) -> 0 | D19: =SUM(D20:D21) -> 0
A20: 3.1. | B20: Felhalmozási célú önkormányzati támogatások
A21: 3.2. | B21: Egyéb felhalmozási célú támogatások
A22: 3.3. | B22: 3.2.-ből EU-s támogatás
A23: 4. | B23: Közhatalmi bevételek (4.1+4.2.+4.3.+4.4.) | C23: =C24+C27+C28+C29 -> 0 | D23: =D24+D27+D28+D29 -> 0
A24: 4.1. | B24: Helyi adók (4.1.1.+….+4.1.3)
A25: 4.1.1. | B25: Vagyoni típusú adók
A26: 4.1.3. | B26: Értékesítési és forgalmi adók (iparűzési adó)
A27: 4.2. | B27: Gépjárműadó
A28: 4.3. | B28: Egyéb áruhasználati és szolgáltatási adók
A29: 4.4. | B29: Egyéb közhatalmi bevételek
A30: 5. | B30: Működési bevételek
A31: 6. | B31: Felhalmozási bevételek
A32: 7. | B32: Működési célő átvett pénzeszközök
A33: 8. | B33: Felhalmozási célú átvett pénzeszközök
A34: 9. | B34: KÖLTSÉGVETÉSI BEVÉTELEK ÖSSZESEN: (1+…+8) | C34: =C8+C15+C19+C23+C30+C31+C32+C33 -> 0 | D34: =D8+D15+D19+D23+D30+D31+D32+D33 -> 0
A35: 10. | B35: Hitel-, kölcsönfelévtel államháztartáson kívülről (10.1+…+10.3 | C35: =SUM(C36:C38) -> 0 | D35: =SUM(D36:D38) -> 0
A36: 10.1. | B36: Hosszú lejűratú hitelek, kölcsönök felvétele
A37: 10.2. | B37: Likviditási célú hitelek, kölcsönök felvétele pénzügyi vállalkozástól
A38: 10.3. | B38: Rövid lejáratú hitelek, kölcsönök felvétele
A39: 11. | B39: Belföldi értékpapírok bevételei
A40: 12. | B40: Előző évi költségvetési maradvány igánybe vétele
A41: 13. | B41: Belföldi finanszírozás bevételei (13.1.+13.2.) | C41: =C42+C43 -> 0 | D41: =D42+D43 -> 0
A42: 13.1. | B42: Államháztartáson belüli megelőlegezések
A43: 13.2. | B43: Államháztartáson belüli megelőlegezések törlesztése
A44: 14. | B44: Külföldi finanszírozás bevételei
A45: 15. | B45: Váltóbevételek
A46: 16. | B46: Adóssághoz nem kapcsolódó származékos ügyletek bevételei
A47: 17. | B47: FINANSZÍROZÁSI BEVÉTELEK ÖSSZESEN:(10.+…+16.) | C47: =C35+C39+C40+C41+C44+C45+C46 -> 0 | D47: =D35+D39+D40+D41+D44+D45+D46 -> 0
A48: 18. | B48: KÖLTSÉGVETÉSI ÉS FINANSZÍROZÁSI BEVÉTELEK ÖSSZESEN: (9.+17.) | C48: =C34+C47 -> 0 | D48: =D34+D47 -> 0
A50: KIADÁSOK
A51: 2. számú táblázat
A52: Sor- szám | B52: Kiadási jogcímek | C52: 2025. évi előirányzat | D52: 2025. évi mód. előir
A53: 1. | B53: Működési költségvetés kiadásai (1.1.+…+1.5.+1.11.) | C53: =C54+C55+C56+C57+C58+C64 -> 47008000 | D53: =D54+D55+D56+D57+D58+D64 -> 47008000
A54: 1.1. | B54: Személyi juttatások | C54: ='13.PMH kiad'!D6 -> 41600000 | D54: ='13.PMH kiad'!E6 -> 41600000
A55: 1.2. | B55: Munkaadókat terhelő járulékok és szochó | C55: ='13.PMH kiad'!F6 -> 5408000 | D55: ='13.PMH kiad'!G6 -> 5408000
A56: 1.3. | B56: Dologi kiadások | C56: ='13.PMH kiad'!H6 -> 0
A57: 1.4. | B57: Ellátottak pénzbeli juttatásai
A58: 1.5. | B58: Egyéb működési célú kiadások
A59: 1.6. | B59: 1.5.-ből Előző évi elszámolásből származó befizetések
A60: 1.7. | B60: Törvényi előírásokon alapuló befizetések
A61: 1.8. | B61: Elvonások befizetések
A62: 1.9. | B62: Egyéb működési célú támogatások ÁHT-n belülre
A63: 1.10. | B63: Egyéb működési célú támogatások ÁHT-n kívülre
A64: 1.11. | B64: Tartalékok
A65: 1.12. | B65: 1.11.-ből: Általános tartalék
A66: 1.13. | B66: Céltartalék
A67: 2. | B67: Felhalmozási költségvetési kiadások (2.1.+2.3.+2.5.) | C67: =C68+C70+C72 -> 0 | D67: =D68+D70+D72 -> 0
A68: 2.1. | B68: Beruházások
A69: 2.2 | B69: 2.1.-ből EU-s forrásból megvalósuló beruházás
A70: 2.3. | B70: Felújítások
A71: 2.4. | B71: 2.3.-ból EU-s forrásból megvalósuló felújítás
A72: 2.5. | B72: Egyéb felhalmozási kiadások
A73: 2.6. | B73: 2.5.-ből Egyéb felhalmozási kiadás ÁHT-n belülre
A74: 2.7. | B74: Egyéb felhalmozási kiadás ÁHT-n kívülre
A75: 3. | B75: KÖLTSÉGVETÉSI KIADÁSOK ÖSSZESEN: (1.+2.) | C75: =C53+C67 -> 47008000 | D75: =D53+D67 -> 47008000
A76: 4. | B76: Hitel-, kölcsöntörlesztés államháztartáson kívülre (4.1.+…+4.3.) | C76: =SUM(C77:C79) -> 0 | D76: =SUM(D77:D79) -> 0
A77: 4.1. | B77: Hosszú lejáratú hitelek, kölcsönök törlesztése pü vállalkozásoknak
A78: 4.2. | B78: Likviditási célú hitelek, kölcsönök törlesztése pü vállalkozásoknak
A79: 4.3. | B79: Rövid lejáratú hitelek, kölcsönök törlesztése pü vállalkozásoknak
A80: 5. | B80: Belföldi értékpapírok vásárlásai
A81: 6. | B81: Belföldi finanszírozás kiadásai (=6.1.) | C81: =C82 -> 0 | D81: =D82 -> 0
A82: 6.1. | B82: Államháztartáson belüli megelőlegezések visszafizetése
A83: 7. | B83: Külföldi finanszírozás kiadásai
A84: 8. | B84: Adóssághoz nem kapcsolódó származékos ügyletek
A85: 9. | B85: Váltókiadások
A86: 10. | B86: FINANSZÍROZÁSI KIADÁSOK ÖSSZESEN: (4.+…+9.) | C86: =C76+C80+C81+C83+C84+C85 -> 0 | D86: =D76+D80+D81+D83+D84+D85 -> 0
A87: 11. | B87: KIADÁSOK ÖSSZESEN: (3+10) | C87: =C75+C86 -> 47008000 | D87: =D75+D86 -> 47008000
A89: KÖLTSÉGVETÉSI, FINANSZÍROZOZÁSI BEVÉTELEK ÉS KIADÁSOK EGYENLEGE
A90: 3. számú táblázat
A91: 1. | B91: Költségvetési hiány, többlet (költségvetési bevételek 9. sor - költségvetési kiadások 3. sor) (+/-) | C91: =C34-C75 -> -47008000 | D91: =D34-D75 -> -47008000
A92: 2. | B92: Finanszírozási bevételek kiadások egyenlege (finanszírozási bevételek 17. sor - finanszírozási kiadások 10. sor) (+/-) | C92: =C47-C86 -> 0 | D92: =D47-D86 -> 0

Sheet 5.műkmérleg
B1: 5. melléklet a ………/2026.(………..) önkormányzati rendelethez
A2: I. Működési bevételek és kiadások mérlege
A3: (önkormányzati szinten)
A4: forintban
A5: Sor- szám | B5: Bevétel | C5: 2025. évi előirányzat | D5: 2025. évi mód. előir | E5: Kiadás | F5: 2025. évi előirányzat | G5: 2025. évi mód. előir
A6: A | B6: B | C6: C | D6: D | E6: E | F6: F | G6: G
A7: 1. | B7: Önkormányzatok működési támogatásai | C7: ='7.Önk bev.'!I66 -> 934726324 | D7: ='7.Önk bev.'!J66 -> 807430467 | E7: Személyi juttatások | F7: ='12.Önk kiad'!D80 -> 654058277 | G7: ='12.Önk kiad'!E80 -> 708957518
A8: 2. | B8: Működési célú támogatások ÁHT-n belülről | C8: ='7.Önk bev.'!M66 -> 102194590 | D8: ='7.Önk bev.'!N66 -> 130336926 | E8: Munkaadókat terhelő járulékok és SZOCHÓ | F8: ='12.Önk kiad'!F80 -> 80079073 | G8: ='12.Önk kiad'!G80 -> 88325705
A9: 3. | B9: 2.-ből EU-s támogatás | E9: Dologi Kiadások | F9: ='12.Önk kiad'!H80 -> 419347309 | G9: ='12.Önk kiad'!I80 -> 363606283
A10: 4. | B10: Közhatalmi bevételek | C10: ='7.Önk bev.'!G66 -> 198157000 | D10: ='7.Önk bev.'!H66 -> 178576886 | E10: Ellátottak pénzbeli juttatásai | F10: ='12.Önk kiad'!J80 -> 3900000 | G10: ='12.Önk kiad'!K80 -> 1942870
A11: 5. | B11: Működési bevételek | C11: ='7.Önk bev.'!E66 -> 106740811 | D11: ='7.Önk bev.'!F66 -> 118934767 | E11: Egyéb működési célú kiadások | F11: ='12.Önk kiad'!L80+'12.Önk kiad'!N80+'12.Önk kiad'!R80 -> 121382399 | G11: ='12.Önk kiad'!M80+'12.Önk kiad'!O80+'12.Önk kiad'!S80 -> 36149434
A12: 6. | B12: Működési célú átvett pénzeszközök | C12: ='7.Önk bev.'!Q66 -> 0 | D12: ='7.Önk bev.'!R66 -> 0 | E12: Tartalékok | F12: ='12.Önk kiad'!X80 -> 5000000 | G12: 66377647
A13: 7. | B13: 6.-ból EU-s támogatás (közvetlen)
A14: 8. | B14: Költségvetési bevételek összesen: (1.+…+6.) | C14: =C7+C8+C10+C11+C12 -> 1341818725 | D14: =D7+D8+D10+D11+D12 -> 1235279046 | E14: Költségvetési kiadások összesen: (1.+…+6) | F14: =SUM(F7:F13) -> 1.2837671e+09 | G14: =SUM(G7:G13) -> 1265359457
A15: 9. | B15: Hiány belső finanszírozásának bevételei (=10) | C15: =C16 -> 25750096 | D15: =D16 -> 41500354 | E15: Likviditási célú hitelek törlesztése | F15: 50000000 | G15: ='1.összevont'!E79 -> 287692011
A16: 10. | B16: Költségvetési maradvány igénybe vétele | C16: 25750096 | D16: 41500354 | E16: Államháztartáson belüli megelőlegezések visszafizetése | F16: ='12.Önk kiad'!Z20 -> 16898319 | G16: ='12.Önk kiad'!AA20 -> 17613632
A17: 11. | B17: Hiány külső finanszírozásának bevételei (=12) | C17: =SUM(C18) -> 0 | D17: =SUM(D18) -> 287692011 | E17: Éven túli célhitel törlesztő részlete | F17: ='12.Önk kiad'!Z22 -> 16903444 | G17: ='12.Önk kiad'!AA22 -> 16903444
A18: 12. | B18: Likviditási célú hitelek, kölcsönök felvétele | D18: ='7.Önk bev.'!X37 -> 287692011
A19: 13. | B19: Államháztartáson belüli megelőlegezés | D19: ='7.Önk bev.'!X40 -> 23097133
A20: 13. | B20: Működési célú finanszírozási bevételek összesen: (9.+11.) | C20: =C15+C17 -> 25750096 | D20: =D15+D17+D19 -> 352289498 | E20: Működési célú finanszírozási kiadások összesen: (=9.) | F20: =SUM(F15:F18) -> 83801763 | G20: =SUM(G15:G18) -> 322209087
A21: 14. | B21: BEVÉTELEK ÖSSZESEN: (8.+13.) | C21: =C14+C20 -> 1367568821 | D21: =D14+D20 -> 1587568544 | E21: KIADÁSOK ÖSSZESEN: (8.+13.) | F21: =F14+F20 -> 1.3675688e+09 | G21: =G14+G20 -> 1587568544
A22: 15. | B22: Költségvetési hiány: | C22: =F14-C14 -> -58051667 | D22: =G14-D14 -> 30080411 | E22: Költségvetési többlet: | F22: 0 | G22: 0
A23: 16. | B23: Tárgyévi hiány: | C23: =C21-F21 -> -0.28999996 | D23: =D21-G21 -> 0 | E23: Tárgyévi többlet: | F23: 0 | G23: 0

Sheet 6.felhmérleg
B1: 6. melléklet a ………/2026.(………..) önkormányzati rendelethez
A2: I .Felhalmozási célú bevételek és kiadások mérlege
A3: (önkormányzati szinten)
A4: forintban
A5: Sor- szám | B5: Bevétel | C5: 2025. évi előirányzat | D5: 2025. évi mód. előir | E5: Kiadás | F5: 2025. évi előirányzat | G5: 2025. évi mód. előir
A6: A | B6: B | C6: C | E6: D | F6: E | G6: F
A7: 1. | B7: Felhalmozási célú támogatások ÁHT-n belülről | C7: ='7.Önk bev.'!O66 -> 696302361 | D7: ='7.Önk bev.'!P66 -> 231918360 | E7: Beruházások | F7: ='12.Önk kiad'!T80 -> 507485197 | G7: ='12.Önk kiad'!U80 -> 8302359
A8: 2. | B8: 1.-ből EU-s támogatás | C8: 696302361 | D8: 231918360 | E8: 1.-ből EU-s forrásból megvalósuló beruházás | F8: 848849029
A9: 3. | B9: Felhalmozási bevételek | D9: ='1.összevont'!E33 -> 1614961 | E9: Felújítások | F9: ='12.Önk kiad'!V80 -> 244315758 | G9: ='12.Önk kiad'!W80 -> 162244318
A10: 4. | B10: Felhalmozási célú átvett pénzeszközök átvétele | E10: 3.-ból EU-s forrásból megvalósuló felújítás | F10: 237826629 | G10: 237826629
A11: 5. | B11: 4.-ből EU-s támogatás | E11: Egyéb felhalmozási kiadások | F11: ='12.Önk kiad'!P80 -> 1626435 | G11: ='12.Önk kiad'!Q80 -> 11191192
A12: 6. | B12: Egyéb felhalmozási célú bevételek | E12: Felhalmozási céltartalék | G12: 51795452
A13: 7. | B13: Önkormányzatok felhalmozási támogatása | C13: ='7.Önk bev.'!K66 -> 0
A14: 8. | B14: Költségvetési bevételek összesen: (1.+3.+4.+6.) | C14: =C7+C9+C12+C13 -> 696302361 | D14: =D7+D9+D12+D13 -> 233533321 | E14: Költségvetési kiadások összesen: (1.+3.+5.+6.) | F14: =F7+F9+F11+F12 -> 753427390 | G14: =G7+G9+G11+G12 -> 233533321
A15: 9. | B15: Hiány belső finanszírozásának bevételei (=10) | C15: =C16 -> 57125029 | D15: =D16 -> 0
A16: 10. | B16: Költségvetési maradvány igénybe vétele | C16: 57125029
A17: 11. | B17: Hiány külső finanszírozásának bevételei (=12) | C17: =C18 -> 0 | D17: =D18 -> 0
A18: 12. | B18: Hitelek, kölcsönök felvétele
A19: 13. | B19: Felhalmozási célú finanszírozási bevételek összesen: (9.+11.) | C19: =C15+C17 -> 57125029 | D19: =D15+D17 -> 0 | E19: Felhalmozási célú finanszírozási kiadások összesen: (9.+…+12)
A20: 14. | B20: BEVÉTELEK ÖSSZESEN: (8.+13.) | C20: =C14+C19 -> 753427390 | D20: =D14+D19 -> 233533321 | E20: KIADÁSOK ÖSSZESEN: (8.+13.) | F20: =F14+F19 -> 753427390 | G20: =G14+G19 -> 233533321
A21: 15. | B21: Költségvetési hiány: | C21: =F14-C14 -> 57125029 | D21: =G14-D14 -> 0 | E21: Költségvetési többlet: | F21: 0 | G21: 0
A22: 16. | B22: Tárgyévi hiány: | C22: =C20-F20 -> 0 | D22: =D20-G20 -> 0 | E22: Tárgyévi többlet: | F22: 0 | G22: =G20-D20 -> 0

Sheet 7.Önk bev.
Q1: 7. melléklet a ……./2026.(……………..) önkormányzati rendelethez
B2: 1 | D2: Medgyesegyháza Város Önkormányzat 2025. évi bevételeinek alakulása - Önkormányzat forintban
A3: A | C3: B | D3: C | E3: D | G3: E | I3: F | K3: G | M3: H | O3: I | Q3: J | S3: K | U3: L | W3: M | Y3: N
A4: 1. | B4: 2 | C4: kötelező/nem kötelező | D4: Kiemelt előirányzatok | E4: Működési bevételek | G4: Közhatalmi bevételek | I4: Önkormányzatok működési támogatása | K4: Önkormányzatok felhalmozási támogatása | M4: Működési célú támogatások államháztartáson belülről | O4: Felhalmozási célú támogatások államháztartáson belülről | Q4: Működési célra átvett pénzeszközök | S4: Felhalmozási bevételek | U4: Elző évi költségvetési maradvány | W4: Finanszírozási bevételek | Y4: Bevételek összesen
A5: 2. | B5: 3 | D5: Megnevezés | E5: 2025. évi előirányzat | F5: 2025. évi mód. előir | G5: 2025. évi előirányzat | H5: 2025. évi mód. előir | I5: 2025. évi előirányzat | J5: 2025. évi mód. előir | K5: 2025. évi előirányzat | L5: 2025. évi mód. előir | M5: 2025. évi előirányzat | N5: 2025. évi mód. előir | O5: 2025. évi előirányzat | P5: 2025. évi mód. előir | Q5: 2025. évi előirányzat | R5: 2025. évi mód. előir | S5: 2025. évi előirányzat | T5: 2025. évi mód. előir | U5: 2025. évi előirányzat | V5: 2025. évi mód. előir | W5: 2025. mód ei. | X5: 2025. évi mód. előir | Y5: 2025. mód ei. | Z5: 2025. évi mód. előir
A6: 3. | B6: kötelező | C6: kötelező | D6: Iparűzési adó | G6: 170000000 | H6: 156029408 | Y6: =E6+G6+I6+M6+O6+Q6+W6+K6+S6+U6 -> 170000000 | Z6: =F6+H6+J6+L6+N6+P6+R6+V6+X6 -> 156029408
A7: 4. | B7: kötelező | C7: kötelező | D7: Termőföld bérbeadás | G7: 180000 | H7: 141894 | Y7: =E7+G7+I7+M7+O7+Q7+W7+K7+S7+U7 -> 180000 | Z7: =F7+H7+J7+L7+N7+P7+R7+V7+X7 -> 141894
A8: 5. | B8: kötelező | C8: kötelező | D8: Talajterhelési díj | G8: 1930000 | H8: 1445704 | Y8: =E8+G8+I8+M8+O8+Q8+W8+K8+S8+U8 -> 1930000 | Z8: =F8+H8+J8+L8+N8+P8+R8+V8+X8 -> 1445704
A9: 6. | B9: kötelező | C9: kötelező | D9: Egyéb közhatalmi bevételek | G9: 10000 | H9: 0 | Y9: =E9+G9+I9+M9+O9+Q9+W9+K9+S9+U9 -> 10000 | Z9: =F9+H9+J9+L9+N9+P9+R9+V9+X9 -> 0
A10: 7. | B10: kötelező | C10: kötelező | D10: Pótlékok, bírságok | F10: 331027 | G10: 949000 | H10: 1446420 | Y10: =E10+G10+I10+M10+O10+Q10+W10+K10+S10+U10 -> 949000 | Z10: =F10+H10+J10+L10+N10+P10+R10+V10+X10 -> 1777447
A11: 8. | C11: kötelező | D11: Idegenforgalmi adó | G11: 88000 | H11: 111600 | Y11: =E11+G11+I11+M11+O11+Q11+W11+K11+S11+U11 -> 88000 | Z11: =F11+H11+J11+L11+N11+P11+R11+V11+X11 -> 111600
A12: 9. | C12: kötelező | D12: Építmény és telek adó | G12: 25000000 | H12: 19401860 | Y12: =E12+G12+I12+M12+O12+Q12+W12+K12+S12+U12 -> 25000000 | Z12: =F12+H12+J12+L12+N12+P12+R12+V12+X12 -> 19401860
A13: 10. | C13: kötelező | D13: Települési önkormányzatok működésének álatalános támogatása | I13: =148053665+1009678*14 -> 162189157 | J13: 179250857 | Y13: =E13+G13+I13+M13+O13+Q13+W13+K13+S13+U13 -> 162189157 | Z13: =F13+H13+J13+L13+N13+P13+R13+V13+X13 -> 179250857
A14: 11. | C14: kötelező | D14: Települési önkormányzatok egyes köznevelési feladat támogatása | I14: 159972470 | J14: 191847139 | Y14: =E14+G14+I14+M14+O14+Q14+W14+K14+S14+U14 -> 159972470 | Z14: =F14+H14+J14+L14+N14+P14+R14+V14+X14 -> 191847139
A15: 12. | C15: kötelező | D15: Települési önk. Egyes szociális és gyerm.jóléti felad. Támogatása(B1131) | I15: =9779178+7140000+1504840+125000+11017700+6343500+18345000+2095469+6334200 -> 62684887 | J15: 107444055 | Y15: =E15+G15+I15+M15+O15+Q15+W15+K15+S15+U15 -> 62684887 | Z15: =F15+H15+J15+L15+N15+P15+R15+V15+X15 -> 107444055
A16: 13. | C16: nem kötelező | D16: Telep.önk. Által biztosított egyes szoc. Szakosított ellátások (B1131) | I16: =62329600+43194708 -> 105524308 | J16: 96803518 | Y16: =E16+G16+I16+M16+O16+Q16+W16+K16+S16+U16 -> 105524308 | Z16: =F16+H16+J16+L16+N16+P16+R16+V16+X16 -> 96803518
A17: 14. | C17: kötelező | D17: Gyermekétkeztetés támogatása (B1132) | I17: =12792240+11220840 -> 24013080 | J17: 29887053 | Y17: =E17+G17+I17+M17+O17+Q17+W17+K17+S17+U17 -> 24013080 | Z17: =F17+H17+J17+L17+N17+P17+R17+V17+X17 -> 29887053
A18: 15. | C18: kötelező | D18: Rászoruló gyermekek szünidei étkeztetésének támogatása(B1132) | I18: 197505 | J18: 412167 | Y18: =E18+G18+I18+M18+O18+Q18+W18+K18+S18+U18 -> 197505 | Z18: =F18+H18+J18+L18+N18+P18+R18+V18+X18 -> 412167
A19: 16. | C19: kötelező | D19: Települési önkormányzatok kulturális feladatainak támogatása(B114) | I19: =7497644+4965878 -> 12463522 | J19: 12613522 | Y19: =E19+G19+I19+M19+O19+Q19+W19+K19+S19+U19 -> 12463522 | Z19: =F19+H19+J19+L19+N19+P19+R19+V19+X19 -> 12613522
A20: 17. | C20: kötelező | D20: Működési c. költ. Tám.és kieg. Tám. (B115) | I20: =384322937+15518430 -> 399841367 | J20: 179616145 | Y20: =E20+G20+I20+M20+O20+Q20+W20+K20+S20+U20 -> 399841367 | Z20: =F20+H20+J20+L20+N20+P20+R20+V20+X20 -> 179616145
A21: 18. | C21: kötelező | D21: Elszámolásból származó bevétel (B16) | I21: =4228035+3611993 -> 7840028 | J21: 9556011 | Y21: =E21+G21+I21+M21+O21+Q21+W21+K21+S21+U21 -> 7840028 | Z21: =F21+H21+J21+L21+N21+P21+R21+V21+X21 -> 9556011
A22: 19. | C22: kötelező | D22: Köztemető bevélelei | E22: 8000 | F22: 8000 | Y22: =E22+G22+I22+M22+O22+Q22+W22+K22+S22+U22 -> 8000 | Z22: =F22+H22+J22+L22+N22+P22+R22+V22+X22 -> 8000
A23: 20. | B23: kötelező | C23: kötelező | D23: Pénzeszköz átvétel munkaügyi Központtól START programra (B163) | M23: 91788885 | N23: 84406876 | P23: 883598 | Y23: =E23+G23+I23+M23+O23+Q23+W23+K23+S23+U23 -> 91788885 | Z23: =F23+H23+J23+L23+N23+P23+R23+V23+X23 -> 85290474
A24: 21. | B24: kötelező | C24: kötelező | D24: Pénzeszköz átvétel munkaügyi Központtól hosszabb távú közfoglalkoztatásra | M24: 4262130 | N24: 23998281 | Y24: =E24+G24+I24+M24+O24+Q24+W24+K24+S24+U24 -> 4262130 | Z24: =F24+H24+J24+L24+N24+P24+R24+V24+X24 -> 23998281
A25: 22. | B25: kötelező | C25: nem kötelező | D25: Pénzeszköz átvétel OEP-től | M25: =(50000+18900)*12+20000*12 -> 1066800 | N25: 942800 | Y25: =E25+G25+I25+M25+O25+Q25+W25+K25+S25+U25 -> 1066800 | Z25: =F25+H25+J25+L25+N25+P25+R25+V25+X25 -> 942800
A26: 23. | C26: kötelező | D26: Pénzeszköz átvétel Pusztaottlaka | M26: 5076775 | Y26: =E26+G26+I26+K26+M26+O26+Q26+U26+W26 -> 5076775 | Z26: =F26+H26+J26+L26+N26+P26+R26+V26+X26 -> 0
A27: 24. | B27: kötelező | C27: kötelező | D27: Önkormányzat bérbeadás, város és községgazdálkodás m.n.s. szolg. | E27: =2930000+7030000+460000+28300000+4000000+20000 -> 42740000 | F27: 53651580 | N27: 1588969 | T27: 1614961 | Y27: =E27+G27+I27+M27+O27+Q27+W27+K27+S27+U27 -> 42740000 | Z27: =F27+H27+J27+L27+N27+P27+R27+V27+X27+T27 -> 56855510
A28: 25. | B28: nem kötelező | C28: kötelező | D28: Startmunka program bevétele | E28: 6500000 | F28: 9286535 | U28: 7836718 | V28: 7836718 | Y28: =E28+G28+I28+M28+O28+Q28+W28+K28+S28+U28 -> 14336718 | Z28: =F28+H28+J28+L28+N28+P28+R28+V28+X28 -> 17123253
A29: 26. | C29: nem kötelező | D29: Uszoda bevétel | E29: =3718000+8662000 -> 12380000 | F29: 9222902 | Y29: =E29+G29+I29+M29+O29+Q29+W29+K29+S29+U29 -> 12380000 | Z29: =F29+H29+J29+L29+N29+P29+R29+V29+X29 -> 9222902
A30: 27. | B30: kötelező | C30: kötelező | D30: Költségvetési maradvány | U30: =4414661 -> 4414661 | V30: =4414661+5218110 -> 9632771 | Y30: =E30+G30+I30+M30+O30+Q30+W30+K30+S30+U30 -> 4414661 | Z30: =F30+H30+J30+L30+N30+P30+R30+V30+X30 -> 9632771
A31: 28. | C31: kötelező | D31: TOP-PLUSZ-3.3.2-21-BS1-2022-00002 Háziorvosi alapellátás infr.fejl. | O31: 48996854 | P31: 51352966 | U31: 724228 | V31: 724228 | Y31: =E31+G31+I31+M31+O31+Q31+W31+K31+S31+U31 -> 49721082 | Z31: =F31+H31+J31+L31+N31+P31+R31+V31+X31 -> 52077194
A32: 29. | C32: kötelező | D32: TOP-PLUSZ-3.3.2-21-BS1-2022-00030 Idősek Klubja ép.feluj. | O32: 79401623 | P32: 83208636 | U32: 1283314 | V32: 1283314 | Y32: =E32+G32+I32+M32+O32+Q32+W32+K32+S32+U32 -> 80684937 | Z32: =F32+H32+J32+L32+N32+P32+R32+V32+X32 -> 84491950
A33: 30. | C33: nem kötelező | D33: TOP_PLUSZ-1.1.1-21-BS1-2022-00002 Helyi gazdság fejlesztés | O33: 134638976 | U33: 2070067 | V33: 2070067 | Y33: =E33+G33+I33+M33+O33+Q33+W33+K33+S33+U33 -> 136709043 | Z33: =F33+H33+J33+L33+N33+P33+R33+V33+X33 -> 2070067
A34: 31. | C34: nem kötelező | D34: TOP_PLUSZ-1.2.3-21 Belterületi utak fejlesztése | U34: 208456 | V34: 208456 | Y34: =E34+G34+I34+M34+O34+Q34+W34+K34+S34+V34 -> 208456 | Z34: =F34+H34+J34+L34+N34+P34+R34+V34+X34 -> 208456
A35: 32. | C35: nem kötelező | D35: TOP-Plusz 1.2.1-21 Élhető települések | O35: 343055070 | U35: 6181953 | V35: 6181953 | Y35: =E35+G35+I35+M35+O35+Q35+W35+K35+S35+U35 -> 349237023 | Z35: =F35+H35+J35+L35+N35+P35+R35+V35+X35 -> 6181953
A36: 33. | C36: nem kötelező | D36: Top-Plusz 2.1.1-21 Önkormányzati épületek energetikai korszerűsítése | O36: 90209838 | P36: 90209837 | U36: 10155728 | V36: 10155728 | Y36: =E36+G36+I36+M36+O36+Q36+W36+K36+S36+U36 -> 100365566 | Z36: =F36+H36+J36+L36+N36+P36+R36+V36+X36 -> 100365565
A37: 34. | C37: kötelező | D37: Likvid hitel | W37: 50000000 | X37: 287692011 | Y37: =E37+G37+I37+M37+O37+Q37+W37+K37+S37+U37 -> 50000000 | Z37: =F37+H37+J37+N37+P37+R37+X37+L37+T37+V37 -> 287692011
A38: 35. | B38: kötelező | C38: kötelező | D38: Óvodai étkeztetés | E38: 1100000 | F38: 1160815 | Y38: =E38+G38+I38+M38+O38+Q38+W38+K38+S38+U38 -> 1100000 | Z38: =F38+H38+J38+L38+N38+P38+R38+V38+X38 -> 1160815
A39: 36. | C39: kötelező | D39: Bölcsődei étkeztetés | F39: 87781 | Y39: =E39+G39+I39+M39+O39+Q39+W39+K39+S39+U39 -> 0 | Z39: =F39+H39+J39+L39+N39+P39+R39+V39+X39 -> 87781
A40: 37. | C40: kötelező | D40: Államháztartáson belüli megelőlegezés | X40: 23097133 | Y40: =E40+G40+I40+M40+O40+Q40+W40+K40+S40+U40 -> 0 | Z40: =F40+H40+J40+L40+N40+P40+R40+V40+X40 -> 23097133
A41: 38. | C41: nem kötelező | D41: TTP-KP-1-2025/1-000187 Testvértelepülés páláyzat | N41: 1400000 | Y41: =E41+G41+I41+M41+O41+Q41+W41+K41+S41+U41 -> 0 | Z41: =F41+H41+J41+L41+N41+P41+R41+V41+X41 -> 1400000
A42: 39. | C42: nem kötelező | D42: 4034430060-Versenyképes pr. Energiaközösség | N42: 18000000 | Y42: =E42+G42+I42+M42+O42+Q42+W42+K42+S42+U42 -> 0 | Z42: =F42+H42+J42+L42+N42+P42+R42+V42+X42 -> 18000000
A43: 40. | C43: nem kötelező | D43: 4034981504- Versenyképes pr. Térfigyelőrendszer | P43: 6263323 | Y43: =E43+G43+I43+M43+O43+Q43+W43+K43+S43+U43 -> 0 | Z43: =F43+H43+J43+L43+N43+P43+R43+V43+X43 -> 6263323
A44: 41. | D44: Alaptevékenység bevételei összesen | E44: =SUM(E6:E43) -> 62728000 | F44: =SUM(F6:F43) -> 73748640 | G44: =SUM(G6:G43) -> 198157000 | H44: =SUM(H6:H43) -> 178576886 | I44: =SUM(I6:I43) -> 934726324 | J44: =SUM(J6:J43) -> 807430467 | K44: =SUM(K6:K43) -> 0 | L44: =SUM(L6:L43) -> 0 | ... Z44: =SUM(Z6:Z43) -> 1772508619 | AA44: =+Y44 -> 2076983400
A45: 42. | D45: Kötelező feladatok: | E45: =E6+E7+E8+E9+E10+E13+E14+E15+E17+E18+E19+E20+E22+E23+E24+E26+E27+E28+E30+E38+E31+E32+E12+E39 -> 50348000 | F45: =F6+F7+F8+F9+F10+F13+F14+F15+F17+F18+F19+F20+F22+F23+F24+F26+F27+F28+F30+F38+F31+F32+F12+F39 -> 64525738 | G45: =G6+G7+G8+G9+G10+G11+G13+G14+G15+G17+G18+G19+G20+G22+G23+G24+G26+G27+G28+G30+G38+G31+G32+G12+G39 -> 198157000 | H45: =H6+H7+H8+H9+H10+H11+H13+H14+H15+H17+H18+H19+H20+H22+H23+H24+H26+H27+H28+H30+H38+H31+H32+H12+H39 -> 178576886 | I45: =I6+I7+I8+I9+I10+I13+I14+I15+I17+I18+I19+I20+I22+I23+I24+I26+I27+I28+I30+I38+I31+I32+I12+I39+I21 -> 829202016 | J45: =J6+J7+J8+J9+J10+J13+J14+J15+J17+J18+J19+J20+J22+J23+J24+J26+J27+J28+J30+J38+J31+J32+J12+J39+J21 -> 710626949 | K45: =K6+K7+K8+K9+K10+K13+K14+K15+K17+K18+K19+K20+K22+K23+K24+K26+K27+K28+K30+K38+K31+K32+K12+K39 -> 0 | L45: =L6+L7+L8+L9+L10+L13+L14+L15+L17+L18+L19+L20+L22+L23+L24+L26+L27+L28+L30+L38+L31+L32+L12+L39 -> 0 | M45: =M6+M7+M8+M9+M10+M13+M14+M15+M17+M18+M19+M20+M22+M23+M24+M26+M27+M28+M30+M38+M31+M32+M12+M39 -> 101127790 | N45: =N6+N7+N8+N9+N10+N13+N14+N15+N17+N18+N19+N20+N22+N23+N24+N26+N27+N28+N30+N38+N31+N32+N12+N39 -> 109994126 | O45: =O6+O7+O8+O9+O10+O13+O14+O15+O17+O18+O19+O20+O22+O23+O24+O26+O27+O28+O30+O38+O31+O32+O12+O39 -> 128398477 | P45: =P6+P7+P8+P9+P10+P13+P14+P15+P17+P18+P19+P20+P22+P23+P24+P26+P27+P28+P30+P38+P31+P32+P12+P39 -> 135445200 | Q45: =Q6+Q7+Q8+Q9+Q10+Q13+Q14+Q15+Q17+Q18+Q19+Q20+Q22+Q23+Q24+Q26+Q27+Q28+Q30+Q38+Q31+Q32+Q12+Q39 -> 0 | R45: =R6+R7+R8+R9+R10+R13+R14+R15+R17+R18+R19+R20+R22+R23+R24+R26+R27+R28+R30+R38+R31+R32+R12+R39 -> 0 | ... V45: =V6+V7+V8+V9+V10+V13+V14+V15+V17+V18+V19+V20+V22+V23+V24+V26+V27+V28+V30+V38+V31+V32+V12+V39 -> 19477031 | W45: =W6+W7+W8+W9+W10+W13+W14+W15+W17+W18+W19+W20+W22+W23+W24+W26+W27+W28+W30+W38+W31+W32+W12+W39+W37 -> 50000000 | X45: =X6+X7+X8+X9+X10+X13+X14+X15+X17+X18+X19+X20+X22+X23+X24+X26+X27+X28+X30+X38+X31+X32+X12+X39+X37+X40 -> 310789144 | Y45: =Y6+Y7+Y8+Y9+Y10+Y13+Y14+Y15+Y17+Y18+Y19+Y20+Y22+Y23+Y24+Y26+Y27+Y28++Y11+Y21+Y37+Y30+Y38+Y31+Y32+Y12+Y39 -> 1371492204 | Z45: =Z6+Z7+Z8+Z9+Z10+Z13+Z14+Z15+Z17+Z18+Z19+Z20+Z22+Z23+Z24+Z26+Z27+Z28+Z30+Z38+Z31+Z32+Z12+Z39+Z11+Z21+Z37+Z40 -> 1531050035 | AA45: =+'12.Önk kiad'!AF50 -> 1.364592e+09
A46: 43. | D46: Államigazgatási feladatok | Y46: =SUM(E46:X46) -> 0 | Z46: =F46+H46+J46+N46+P46+R46+X46+L46+V46 -> 0 | AA46: =+'8. PMH bev.'!P9 -> 219156590
A47: 44. | D47: Nem kötelező: | E47: =E16+E25+E35+E36+E29+E33+E34 -> 12380000 | F47: =F16+F25+F35+F36+F29+F33+F34 -> 9222902 | G47: =G16+G25+G35+G36+G29+G33+G34 -> 0 | H47: =H16+H25+H35+H36+H29+H33+H34 -> 0 | I47: =I16+I25+I35+I36+I29+I33+I34 -> 105524308 | J47: =J16+J25+J35+J36+J29+J33+J34 -> 96803518 | K47: =K16+K25+K35+K36+K29+K33+K34 -> 0 | L47: =L16+L25+L35+L36+L29+L33+L34 -> 0 | M47: =M16+M25+M35+M36+M29+M33+M34 -> 1066800 | N47: =N16+N25+N35+N36+N29+N33+N34+N41+N42 -> 20342800 | O47: =O16+O25+O35+O36+O29+O33+O34 -> 567903884 | P47: =P16+P25+P35+P36+P29+P33+P34+P43 -> 96473160 | Q47: =Q16+Q25+Q35+Q36+Q29+Q33+Q34 -> 0 | R47: =R16+R25+R35+R36+R29+R33+R34 -> 0 | S47: =S16+S25+S35+S36+S29+S33+S34 -> 0 | T47: =T16+T25+T35+T36+T29+T33+T34 -> 0 | U47: =U16+U25+U35+U36+U29+U33+U34 -> 18616204 | V47: =V16+V25+V35+V36+V29+V33+V34 -> 18616204 | W47: =W16+W25+W35+W36+W29+W33+W34 -> 0 | X47: =X16+X25+X35+X36+X29+X33+X34 -> 0 | Y47: =Y16+Y25+Y35+Y36+Y29+Y33+Y34 -> 705491196 | Z47: =Z16+Z25+Z35+Z36+Z29+Z33+Z34+Z41+Z42+Z43 -> 241458584 | AA47: =+'9. GKP bev'!P18 -> 248790567
A48: 45. | D48: Medgyesegyházi Polgármesteri Hivatal | E48: =SUM(E49:E51) -> 714000 | F48: =SUM(F49:F51) -> 459003 | G48: =SUM(G49:G51) -> 0 | H48: =SUM(H49:H51) -> 0 | I48: =SUM(I49:I51) -> 0 | J48: =SUM(J49:J51) -> 0 | K48: =SUM(K49:K51) -> 0 | L48: =SUM(L49:L51) -> 0 | ... V48: =SUM(V49:V51) -> 2738265 | Y48: =SUM(Y49:Y51) -> 714000 | Z48: =SUM(Z49:Z51) -> 3197268 | AA48: =+'10. VE bev'!P8 -> 201666827
A49: 46. | C49: kötelező | D49: Kötelező | E49: ='8. PMH bev.'!D10 -> 714000 | F49: ='8. PMH bev.'!E10 -> 459003 | U49: ='8. PMH bev.'!R7 -> 0 | V49: ='8. PMH bev.'!S10 -> 2738265 | Y49: =E49+G49+I49+M49+O49+Q49+W49+U49 -> 714000 | Z49: =F49+H49+J49+N49+P49+R49+X49+V49 -> 3197268 | AA49: =+'11. MH bev.'!R10 -> 42777412
A50: 47. | C50: nem kötelező | D50: Nem kötelező | Y50: =E50+G50+I50+M50+O50+Q50+W50+U50 -> 0 | Z50: =F50+H50+J50+N50+P50+R50+X50+V50 -> 0 | AA50: =+AA44-AA45-AA46-AA47-AA48-AA49 -> -0.20000005 | AB50: 0 jó
A51: 48. | C51: államigazgatási | D51: Államigazgatási feladatok | Y51: =E51+G51+I51+M51+O51+Q51+W51+U51 -> 0 | Z51: =F51+H51+J51+N51+P51+R51+X51+V51 -> 0
A52: 49. | D52: Varázserdő Óvoda Medgyesegyháza | E52: =SUM(E53:E54) -> 10000 | F52: =SUM(F53:F54) -> 6855 | G52: =SUM(G53:G54) -> 0 | H52: =SUM(H53:H54) -> 0 | I52: =SUM(I53:I54) -> 0 | J52: =SUM(J53:J54) -> 0 | K52: =SUM(K53:K54) -> 0 | L52: =SUM(L53:L54) -> 0 | ... V52: =SUM(V53:V54) -> 219375 | Y52: =SUM(Y53:Y54) -> 10000 | Z52: =SUM(Z53:Z54) -> 226230 | AA52: =Z44 -> 1772508619
A53: 50. | C53: kötelező | D53: Kötelező | E53: =+'10. VE bev'!D9 -> 10000 | F53: =+'10. VE bev'!E9 -> 6855 | V53: ='10. VE bev'!O9 -> 219375 | Y53: =E53+G53+I53+K53+M53+O53+Q53+W53+U53 -> 10000 | Z53: =F53+H53+J53+L53+N53+P53+R53+X53+V53 -> 226230 | AA53: ='12.Önk kiad'!AG50 -> 1052044538
A54: 51. | C54: nem kötelező | D54: Nem kötelező | Y54: =E54+G54+I54+K54+M54+O54+Q54+W54+U54 -> 0 | Z54: =F54+H54+J54+L54+N54+P54+R54+X54+V54 -> 0 | AA54: ='8. PMH bev.'!Q9 -> 208567459
A55: 52. | D55: Gondozási Központ Medgyesegyháza | E55: =E56+E57 -> 39150811 | F55: =F56+F57 -> 43422764 | G55: =G56+G57 -> 0 | H55: =H56+H57 -> 0 | I55: =I56+I57 -> 0 | J55: =J56+J57 -> 0 | K55: =K56+K57 -> 0 | L55: =L56+L57 -> 0 | ... V55: =V56+V57 -> 449264 | Y55: =SUM(Y56:Y57) -> 39150811 | Z55: =SUM(Z56:Z57) -> 43872028 | AA55: ='9. GKP bev'!Q18 -> 236513536
A56: 53. | C56: kötelező | D56: Kötelező | E56: ='9. GKP bev'!D19 -> 4996672 | F56: ='9. GKP bev'!E19 -> 5158300 | U56: ='9. GKP bev'!R19 -> 0 | V56: 0 | Y56: =E56+G56+I56+M56+O56+Q56+W56+U56 -> 4996672 | Z56: =F56+H56+J56+N56+P56+R56+X56+V56 -> 5158300 | AA56: ='10. VE bev'!Q8 -> 231910009
A57: 54. | C57: nem kötelező | D57: Nem kötelező | E57: ='9. GKP bev'!D20 -> 34154139 | F57: ='9. GKP bev'!E20 -> 38264464 | V57: ='9. GKP bev'!S20 -> 449264 | Y57: =E57+G57+I57+M57+O57+Q57+W57+U57 -> 34154139 | Z57: =F57+H57+J57+N57+P57+R57+X57+V57 -> 38713728 | AA57: ='11. MH bev.'!S10 -> 43473077
A58: 55. | D58: Művelődési Ház és Könyvtár | E58: =SUM(E59:E60) -> 4138000 | F58: =SUM(F59:F60) -> 1297505 | G58: =SUM(G59:G60) -> 0 | H58: =SUM(H59:H60) -> 0 | I58: =SUM(I59:I60) -> 0 | J58: =SUM(J59:J60) -> 0 | K58: =SUM(K59:K60) -> 0 | L58: =SUM(L59:L60) -> 0 | ... V58: =SUM(V59:V60) -> 215 | Y58: =SUM(Y59:Y60) -> 4138000 | Z58: =SUM(Z59:Z60) -> 1297720 | AA58: =AA52-AA53-AA54-AA55-AA56-AA57 -> 0
A59: 56. | C59: kötelező | D59: Kötelező | E59: ='11. MH bev.'!D11 -> 3329000 | F59: ='11. MH bev.'!E11 -> 355505 | Y59: =E59+G59+I59+K59+M59+O59+Q59+W59+U59 -> 3329000 | Z59: =F59+H59+J59+L59+N59+P59+R59+X59+V59 -> 355505
A60: 57. | C60: nem kötelező | D60: Nem kötelező | E60: ='11. MH bev.'!D12 -> 809000 | F60: ='11. MH bev.'!E12 -> 942000 | Q60: ='11. MH bev.'!L12 -> 0 | R60: ='11. MH bev.'!M12 -> 0 | U60: ='11. MH bev.'!P11 -> 0 | V60: ='11. MH bev.'!Q11 -> 215 | Y60: =E60+G60+I60+K60+M60+O60+Q60+W60+U60 -> 809000 | Z60: =F60+H60+J60+L60+N60+P60+R60+X60+V60 -> 942215
A61: 58. | D61: Összesen | E61: =E48+E52+E55+E44+E58 -> 106740811 | F61: =F48+F52+F55+F44+F58 -> 118934767 | G61: =G48+G52+G55+G44+G58 -> 198157000 | H61: =H48+H52+H55+H44+H58 -> 178576886 | I61: =I48+I52+I55+I44+I58 -> 934726324 | J61: =J48+J52+J55+J44+J58 -> 807430467 | K61: =K48+K52+K55+K44+K58 -> 0 | L61: =L48+L52+L55+L44+L58 -> 0 | ... Z61: =Z48+Z52+Z55+Z44+Z58 -> 1821101865
A62: 59.
A63: 60. | D63: Kötelező mindösszesen: | E63: =E45+E49+E53+E56+E59 -> 59397672 | F63: =F45+F49+F53+F56+F59 -> 70505401 | G63: =G45+G49+G53+G56+G59 -> 198157000 | H63: =H45+H49+H53+H56+H59 -> 178576886 | I63: =I45+I49+I53+I56+I59 -> 829202016 | J63: =J45+J49+J53+J56+J59 -> 710626949 | K63: =K45+K49+K53+K56+K59 -> 0 | L63: =L45+L49+L53+L56+L59 -> 0 | ... Z63: =Z45+Z49+Z53+Z56+Z59 -> 1539987338
A64: 61. | D64: Nem kötelező mindösszesen: | E64: =E47+E50+E54+E57+E60 -> 47343139 | F64: =F47+F50+F54+F57+F60 -> 48429366 | G64: =G47+G50+G54+G57+G60 -> 0 | H64: =H47+H50+H54+H57+H60 -> 0 | I64: =I47+I50+I54+I57+I60 -> 105524308 | J64: =J47+J50+J54+J57+J60 -> 96803518 | K64: =K47+K50+K54+K57+K60 -> 0 | L64: =L47+L50+L54+L57+L60 -> 0 | ... Z64: =Z47+Z50+Z54+Z57+Z60 -> 281114527
A65: 62. | D65: Államigazgatási mindösszesen: | E65: =E51 -> 0 | F65: =F51 -> 0 | G65: =G51 -> 0 | H65: =H51 -> 0 | I65: =I51 -> 0 | J65: =J51 -> 0 | K65: =K51 -> 0 | L65: =L51 -> 0 | ... Z65: =Z51 -> 0
A66: 63. | D66: Mindösszesen: | E66: =SUM(E63:E65) -> 106740811 | F66: =SUM(F63:F65) -> 118934767 | G66: =SUM(G63:G65) -> 198157000 | H66: =SUM(H63:H65) -> 178576886 | I66: =SUM(I63:I65) -> 934726324 | J66: =SUM(J63:J65) -> 807430467 | K66: =SUM(K63:K65) -> 0 | L66: =SUM(L63:L65) -> 0 | ... Z66: =SUM(Z63:Z65) -> 1821101865 | AA66: =Z66-'12.Önk kiad'!AC80 -> 0
E67: =E66-E61 -> 0 | F67: =F66-F61 -> 0 | G67: =G66-G61 -> 0 | H67: =H66-H61 -> 0 | I67: =I66-I61 -> 0 | J67: =J66-J61 -> 0 | K67: =K66-K61 -> 0 | L67: =L66-L61 -> 0 | ... Z67: =Z66-Z61 -> 0

Sheet 8. PMH bev.
L1: 8. melléklet ..../2026. (…...) önkormányzati rendelethez
C2: Medgyesegyháza Város Önkormányzat 2025. évi bevételeinek alakulása - Medgyesegyházi Polgármesteri Hivatal forintban
A3: A | B3: B | C3: C | D3: D | F3: E | H3: F | J3: G | L3: H | N3: I | P3: J | R3: K | T3: L
A4: 1. | B4: kötelező/nem kötelező | C4: Kiemelt előirányzatok | D4: Működési bevételek | F4: Közhatalmi bevételek | H4: Működési célú támogatások államháztartáson belülről | J4: Felhalmozási célú támogatások államháztartáson belülről | L4: Működési célra átvett pénzeszközök | N4: Felhalmozási célra átvett pénzeszközök | P4: Finanszírozási bevételek - Támogatás működésre | R4: Költségvetési maradvány | T4: Bevételek összesen
A5: 2. | C5: Szakfeladat | D5: 2025. évi előirányzat | E5: 2025. évi mód. előir | F5: 2025. évi előirányzat | G5: 2025. évi mód. előir | H5: 2025. évi előirányzat | I5: 2025. évi mód. előir | J5: 2025. évi előirányzat | K5: 2025. évi mód. előir | L5: 2025. évi előirányzat | M5: 2025. évi mód. előir | N5: 2025. évi előirányzat | O5: 2025. évi mód. előir | P5: 2025. évi előirányzat | Q5: 2025. évi mód. előir | R5: 2025. évi előirányzat | S5: 2025. évi mód. előir | T5: 2025. évi előirányzat | U5: 2025. évi mód. előir | V5: 2025. mód ei. | W5: 2025. évi mód. előir
A6: 3. | B6: államigazgatási | C6: Államigazgatási feladatok | P6: 47008000 | Q6: 47008000 | T6: =D6+F6+H6+J6+L6+P6 -> 47008000 | U6: =E6+G6+I6+K6+M6+Q6 -> 47008000 | V6: =F6+H6+J6+L6+N6+R6 -> 0 | W6: =E6+G6+I6+K6+M6+O6+Q6+S6 -> 47008000
A7: 4. | B7: kötelező | C7: Önkormányzati igazgatási tevékenység | D7: 714000 | E7: 459003 | P7: 172148590 | Q7: 161559459 | S7: 2738265 | T7: =D7+F7+H7+J7+L7+P7+R7 -> 172862590 | U7: 218 | V7: =1673+87 -> 1760 | W7: =E7+G7+I7+K7+M7+O7+Q7+S7 -> 164756727
A8: 5. | B8: kötelező | C8: Önkormányzati választás | T8: =D8+F8+H8+J8+L8+P8+R8 -> 0 | U8: 219 | V8: =1673+87 -> 1760 | W8: =E8+G8+I8+K8+M8+O8+Q8+S8 -> 0
A9: 6. | C9: Alaptevékenység összesen | D9: =SUM(D7:D8) -> 714000 | E9: =SUM(E7:E8) -> 459003 | G9: =SUM(G6:G8) -> 0 | H9: =SUM(H6:H8) -> 0 | I9: =SUM(I6:I8) -> 0 | J9: =SUM(J6:J8) -> 0 | K9: =SUM(K6:K8) -> 0 | L9: =SUM(L6:L8) -> 0 | M9: =SUM(M6:M8) -> 0 | N9: =SUM(N6:N8) -> 0 | ... W9: =SUM(W6:W8) -> 211764727
A10: 7. | C10: Kötelező: | D10: =D7+D8 -> 714000 | E10: =E7+E8 -> 459003 | F10: =F7+F8 -> 0 | G10: =G7+G8 -> 0 | H10: =H7+H8 -> 0 | I10: =I7+I8 -> 0 | J10: =J7+J8 -> 0 | K10: =K7+K8 -> 0 | ... W10: =W7+W8 -> 164756727
A11: 8. | C11: Államigazgatási: | D11: =D6 -> 0 | E11: =E6 -> 0 | F11: =F6 -> 0 | G11: =G6 -> 0 | H11: =H6 -> 0 | I11: =I6 -> 0 | J11: =J6 -> 0 | K11: =K6 -> 0 | ... W11: =W6 -> 47008000

Sheet 9. GKP bev
T1: 9. melléklet a .../2026. (....) önkormányzati rendelethez
C2: Medgyesegyháza Város Önkormányzat 2025. évi bevételeinek alakulása - Gondozási Központ (forintban)
A3: A | B3: B | C3: C | D3: D | F3: E | H3: F | J3: G | L3: H | N3: I | P3: J | R3: K | T3: L
A4: 1 | B4: Kötelező/nem kötelező | C4: Kiemelt előirányzatok | D4: Működési bevételek | F4: Közhatalmi bevételek | H4: Működési célú támogatások államháztartáson belülről | J4: Felhalmozási célú támogatások államháztartáson belülről | L4: Működési célra átvett pénzeszközök | N4: Felhalmozási célra átvett pénzeszközök | P4: Finanszírozási bevételek - Támogatás működésre | R4: Költségvetési maradvány | T4: Bevételek összesen
A5: 2 | C5: Szakfeladat | D5: 2025. évi előirányzat | E5: 2025. évi mód. előir | F5: 2025. évi előirányzat | G5: 2025. évi mód. előir | H5: 2025. évi előirányzat | I5: 2025. évi mód. előir | J5: 2025. évi előirányzat | K5: 2025. évi mód. előir | L5: 2025. évi előirányzat | M5: 2025. évi mód. előir | N5: 2025. évi előirányzat | O5: 2025. évi mód. előir | P5: 2025. évi előirányzat | Q5: 2025. évi mód. előir | R5: 2025. évi előirányzat | S5: 2025. évi mód. előir | T5: 2025. évi előirányzat | U5: 2025. évi mód. előir | V5: 2025. mód ei.
A6: 3 | B6: nem kötelező | C6: Az önk.vagyonnal gazd. kapcs gazdálkodás | D6: 10000 | P6: 0 | Q6: 0 | T6: =D6+F6+H6+J6+L6+N6+P6+R6 -> 10000 | U6: =E6+G6+I6+K6+M6+O6+Q6+S6 -> 0 | V6: =E6+G6+I6+K6+M6+O6+Q6+S6 -> 0
A7: 4 | B7: kötelező | C7: Háziorvosi alapellátás | P7: =2788500-10000 -> 2778500 | Q7: 3717374 | T7: =D7+F7+H7+J7+L7+N7+P7+R7 -> 2778500 | U7: =E7+G7+I7+K7+M7+O7+Q7+S7 -> 3717374 | V7: =E7+G7+I7+K7+M7+O7+Q7+S7 -> 3717374
A8: 5 | B8: kötelező | C8: Fogorvosi alapellátás | P8: 785000 | Q8: 774308 | T8: =D8+F8+H8+J8+L8+N8+P8 -> 785000 | U8: =E8+G8+I8+K8+M8+O8+Q8 -> 774308 | V8: =E8+G8+I8+K8+M8+O8+Q8+S8 -> 774308
A9: 6 | B9: nem kötelező | C9: Egészségügyi labor | P9: 3510968 | Q9: 2900509 | T9: =D9+F9+H9+J9+L9+N9+P9 -> 3510968 | U9: =E9+G9+I9+K9+M9+O9+Q9 -> 2900509 | V9: =E9+G9+I9+K9+M9+O9+Q9+S9 -> 2900509
A10: 7 | B10: kötelező | C10: Család és nővédelmi eü. gondozás | D10: 1030672 | E10: 609785 | P10: 0 | Q10: 0 | T10: =D10+F10+H10+J10+L10+N10+P10 -> 1030672 | U10: =E10+G10+I10+K10+M10+O10+Q10 -> 609785 | V10: =E10+G10+I10+K10+M10+O10+Q10+S10 -> 609785
A11: 8 | B11: kötelező | C11: Ifjúsági- egészségügyi gondozás | P11: 1800000 | Q11: 1621151 | T11: =D11+F11+H11+J11+L11+N11+P11 -> 1800000 | U11: =E11+G11+I11+K11+M11+O11+Q11 -> 1621151 | V11: =E11+G11+I11+K11+M11+O11+Q11+S11 -> 1621151
A12: 9 | B12: nem kötelező | C12: Időskorúak bentlakásos szoc. ell. | D12: 34144139 | E12: 38264464 | P12: =197537793-D12 -> 163393654 | Q12: 149346557 | S12: 449264 | T12: =D12+F12+H12+J12+L12+N12+P12 -> 197537793 | U12: =E12+G12+I12+K12+M12+O12+Q12 -> 187611021 | V12: =E12+G12+I12+K12+M12+O12+Q12+S12 -> 188060285
A13: 10 | B13: kötelező | C13: Idősek nappali ellátása | E13: 995120 | P13: 21201131 | Q13: 21470914 | T13: =D13+F13+H13+J13+L13+N13+P13 -> 21201131 | U13: =E13+G13+I13+K13+M13+O13+Q13 -> 22466034 | V13: =E13+G13+I13+K13+M13+O13+Q13+S13 -> 22466034
A14: 11 | B14: kötelező | C14: Tanyagondok szolgáltatás | P14: 9104168 | Q14: 8672363 | T14: =D14+F14+H14+J14+L14+N14+P14 -> 9104168 | U14: =E14+G14+I14+K14+M14+O14+Q14 -> 8672363 | V14: =E14+G14+I14+K14+M14+O14+Q14+S14 -> 8672363
A15: 12 | B15: kötelező | C15: Család és gyermekjóléti szolgáltatás | P15: 17209345 | Q15: 21970689 | T15: =D15+F15+H15+J15+L15+N15+P15 -> 17209345 | U15: =E15+G15+I15+K15+M15+O15+Q15 -> 21970689 | V15: =E15+G15+I15+K15+M15+O15+Q15+S15 -> 21970689
A16: 13 | B16: kötelező | C16: Szociális étkeztetés | D16: 3966000 | E16: 3553395 | P16: =13239627-D16 -> 9273627 | Q16: 5847873 | T16: =D16+F16+H16+J16+L16+N16+P16 -> 13239627 | U16: =E16+G16+I16+K16+M16+O16+Q16 -> 9401268 | V16: =E16+G16+I16+K16+M16+O16+Q16+S16 -> 9401268
A17: 14 | B17: kötelező | C17: Házi segítségnyújtás | P17: 19734174 | Q17: 20191798 | T17: =D17+F17+H17+J17+L17+N17+P17 -> 19734174 | U17: =E17+G17+I17+K17+M17+O17+Q17 -> 20191798 | V17: =E17+G17+I17+K17+M17+O17+Q17+S17 -> 20191798
A18: 15 | C18: Alaptevékenység összesen | D18: =SUM(D6:D17) -> 39150811 | E18: =SUM(E6:E17) -> 43422764 | F18: =SUM(F7:F17) -> 0 | G18: =SUM(G7:G17) -> 0 | H18: =SUM(H7:H17) -> 0 | I18: =SUM(I7:I17) -> 0 | J18: =SUM(J7:J17) -> 0 | K18: =SUM(K7:K17) -> 0 | L18: =SUM(L7:L17) -> 0 | M18: =SUM(M7:M17) -> 0 | ... S18: =SUM(S7:S17) -> 449264 | T18: =SUM(T6:T17) -> 287941378 | U18: =SUM(U6:U17) -> 279936300 | V18: =SUM(V6:V17) -> 280385564
A19: 16 | C19: Kötelező | D19: =D17+D16+D15+D13+D11+D10+D8+D7 -> 4996672 | E19: =E17+E16+E15+E13+E11+E10+E8+E7 -> 5158300 | F19: =F17+F16+F15+F13+F11+F10+F8+F7 -> 0 | G19: =G17+G16+G15+G13+G11+G10+G8+G7 -> 0 | H19: =H17+H16+H15+H13+H11+H10+H8+H7 -> 0 | I19: =I17+I16+I15+I13+I11+I10+I8+I7 -> 0 | J19: =J17+J16+J15+J13+J11+J10+J8+J7 -> 0 | K19: =K17+K16+K15+K13+K11+K10+K8+K7 -> 0 | ... O19: =O17+O16+O15+O13+O11+O10+O8+O7 -> 0 | P19: =P17+P16+P15+P13+P11+P10+P8+P7+P14 -> 81885945 | Q19: =Q17+Q16+Q15+Q13+Q11+Q10+Q8+Q7+Q14 -> 84266470 | R19: =R17+R16+R15+R13+R11+R10+R8+R7 -> 0 | S19: =S17+S16+S15+S13+S11+S10+S8+S7 -> 0 | T19: =T17+T16+T15+T13+T11+T10+T8+T7 -> 77778449 | U19: =U17+U16+U15+U13+U11+U10+U8+U7 -> 80752407 | V19: =V17+V16+V15+V13+V11+V10+V8+V7 -> 80752407
A20: 17 | C20: Nem kötelező | D20: =D12+D9+D6 -> 34154139 | E20: =E12+E9+E6 -> 38264464 | F20: =F12+F9+F6 -> 0 | G20: =G12+G9+G6 -> 0 | H20: =H12+H9+H6 -> 0 | I20: =I12+I9+I6 -> 0 | J20: =J12+J9+J6 -> 0 | K20: =K12+K9+K6 -> 0 | ... V20: =V12+V9+V6 -> 190960794

Sheet 10. VE bev
L1: 10. melléklet a .../2026. (....) önkormányzati rendelethez
C2: Medgyesegyháza Város Önkormányzat 2025. évi bevételeinek alakulása - Varázserdő Óvoda forintban
A3: A | C3: B | D3: C | F3: D | H3: E | J3: F | L3: G | N3: H | P3: I | R3: J
A4: 1 | B4: Kötelező/nem kötelező | C4: Kiemelt előirányzatok | D4: Működési bevételek | F4: Közhatalmi bevételek | H4: Működési célú támogatások államháztartáson belülről | J4: Felhalmozási célú támogatások államháztartáson belülről | L4: Működési célra átvett pénzeszközök | N4: Költségvetési maradvány | P4: Finanszírozási bevételek - Támogatás működésre | R4: Bevételek összesen
A5: 2 | C5: Szakfeladat | D5: 2025. évi előirányzat | E5: 2025. évi mód. előir | F5: 2025. évi előirányzat | G5: 2025. évi mód. előir | H5: 2025. évi előirányzat | I5: 2025. évi mód. előir | J5: 2025. évi előirányzat | K5: 2025. évi mód. előir | L5: 2025. évi előirányzat | M5: 2025. évi mód. előir | N5: 2025. évi előirányzat | O5: 2025. évi mód. előir | P5: 2025. évi előirányzat | Q5: 2025. évi mód. előir | R5: 2025. évi előirányzat | S5: 2025. évi mód. előir
A6: 3 | B6: kötelező | C6: Óvodai nevelés, ellátás | D6: 10000 | E6: 6835 | O6: 219375 | P6: =180489410 -> 180489410 | Q6: 194689226 | R6: =D6+F6+H6+J6+L6+N6+P6 -> 180499410 | S6: =E6+G6+I6+K6+M6+O6+Q6 -> 194915436
A7: 4 | B7: kötelező | C7: Minibölcsőde | E7: 20 | P7: 21177417 | Q7: 37220783 | R7: =D7+F7+H7+J7+L7+N7+P7 -> 21177417 | S7: =E7+G7+I7+K7+M7+O7+Q7 -> 37220803
A8: 5 | C8: Alaptevékenység összesen | D8: =SUM(D6:D7) -> 10000 | E8: =SUM(E6:E7) -> 6855 | F8: =SUM(F6:F7) -> 0 | G8: =SUM(G6:G7) -> 0 | H8: =SUM(H6:H7) -> 0 | I8: =SUM(I6:I7) -> 0 | J8: =SUM(J6:J7) -> 0 | K8: =SUM(K6:K7) -> 0 | ... Q8: =SUM(Q6:Q7) -> 231910009 | R8: =D8+F8+H8+J8+L8+N8+P8 -> 201676827 | S8: =E8+G8+I8+K8+M8+O8+Q8 -> 232136239
A9: 6 | C9: Kötelező | D9: =SUMIF($B6:$B7,"kötelező",D6:D7) -> 10000 | E9: =SUMIF($B6:$B7,"kötelező",E6:E7) -> 6855 | F9: =SUMIF($B6:$B7,"kötelező",F6:F7) -> 0 | G9: =SUMIF($B6:$B7,"kötelező",G6:G7) -> 0 | H9: =SUMIF($B6:$B7,"kötelező",H6:H7) -> 0 | I9: =SUMIF($B6:$B7,"kötelező",I6:I7) -> 0 | J9: =SUMIF($B6:$B7,"kötelező",J6:J7) -> 0 | K9: =SUMIF($B6:$B7,"kötelező",K6:K7) -> 0 | ... S9: =SUMIF($B6:$B7,"kötelező",S6:S7) -> 232136239
A10: 7 | C10: Nem kötelező | D10: =SUMIF($B6:$B7,"nem kötelező",D6:D7) -> 0 | E10: =SUMIF($B6:$B7,"nem kötelező",E6:E7) -> 0 | F10: =SUMIF($B6:$B7,"nem kötelező",F6:F7) -> 0 | G10: =SUMIF($B6:$B7,"nem kötelező",G6:G7) -> 0 | H10: =SUMIF($B6:$B7,"nem kötelező",H6:H7) -> 0 | I10: =SUMIF($B6:$B7,"nem kötelező",I6:I7) -> 0 | J10: =SUMIF($B6:$B7,"nem kötelező",J6:J7) -> 0 | K10: =SUMIF($B6:$B7,"nem kötelező",K6:K7) -> 0 | ... S10: =SUMIF($B6:$B7,"nem kötelező",S6:S7) -> 0

Sheet 11. MH bev.
T1: 10. melléklet a .../2026. (....) önkormányzati rendelethez
D3: Medgyesegyháza Város Önkormányzat 2025. évi bevételeinek alakulása - Művelődési Ház és Könyvtár (forintban)
A5: A | B5: B | C5: C | D5: D | F5: E | H5: F | J5: G | L5: H | N5: I | P5: J | R5: K | T5: L
A6: 1. | B6: Kötelező/nem kötelező | C6: Kiemelt előirányzatok | D6: Működési bevételek | F6: Közhatalmi bevételek | H6: Működési célú támogatások államháztartáson belülről | J6: Felhalmozási célú támogatások államháztartáson belülről | L6: Működési célra átvett pénzeszközök | N6: Felhalmozási célra átvett pénzeszközök | P6: Előző évi költségvetési maradvány | R6: Finanszírozási bevételek - Támogatás működésre | T6: Bevételek összesen
A7: 2. | C7: Szakfeladat | D7: 2025. évi előirányzat | E7: 2025. évi mód. előir | F7: 2025. évi előirányzat | G7: 2025. évi mód. előir | H7: 2025. évi előirányzat | I7: 2025. évi mód. előir | J7: 2025. évi előirányzat | K7: 2025. évi mód. előir | L7: 2025. évi előirányzat | M7: 2025. évi mód. előir | N7: 2025. évi előirányzat | O7: 2025. évi mód. előir | P7: 2025. évi előirányzat | Q7: 2025. évi mód. előir | R7: 2025. évi előirányzat | S7: 2025. évi mód. előir | T7: 2025. évi előirányzat | U7: 2025. évi mód. előir | V7: 2025. évi előirányzat
A8: 3. | B8: kötelező | C8: Művelődési Ház és Könyvtár | D8: =329000+3000000 -> 3329000 | E8: 355505 | Q8: 215 | R8: =36094412+92000+1400000 -> 37586412 | S8: 40027086 | T8: =D8+F8+H8+J8+L8+N8+R8+P8 -> 40915412 | U8: 350 | V8: =E8+G8+I8+K8+M8+O8+S8+Q8 -> 40382806
A9: 4. | B9: nem kötelező | C9: Rendezvények | D9: 809000 | E9: 942000 | R9: 5191000 | S9: 3445991 | T9: =D9+F9+H9+J9+L9+N9+R9+P9 -> 6000000 | V9: =E9+G9+I9+K9+M9+O9+S9 -> 4387991
A10: 5. | C10: Alaptevékenység összesen | D10: =SUM(D8:D9) -> 4138000 | E10: =SUM(E8:E9) -> 1297505 | F10: =SUM(F8:F9) -> 0 | G10: =SUM(G8:G9) -> 0 | H10: =SUM(H8:H9) -> 0 | I10: =SUM(I8:I9) -> 0 | J10: =SUM(J8:J9) -> 0 | K10: =SUM(K8:K9) -> 0 | ... V10: =SUM(V8:V9) -> 44770797
A11: 6. | C11: Kötelező | D11: =SUMIF($B8:$B9,"kötelező",D8:D9) -> 3329000 | E11: =SUMIF($B8:$B9,"kötelező",E8:E9) -> 355505 | F11: =SUMIF($B8:$B9,"kötelező",F8:F9) -> 0 | G11: =SUMIF($B8:$B9,"kötelező",G8:G9) -> 0 | H11: =SUMIF($B8:$B9,"kötelező",H8:H9) -> 0 | I11: =SUMIF($B8:$B9,"kötelező",I8:I9) -> 0 | J11: =SUMIF($B8:$B9,"kötelező",J8:J9) -> 0 | K11: =SUMIF($B8:$B9,"kötelező",K8:K9) -> 0 | ... V11: =SUMIF($B8:$B9,"kötelező",V8:V9) -> 40382806
A12: 7. | C12: Nem kötelező | D12: =SUMIF($B8:$B9,"nem kötelező",D8:D9) -> 809000 | E12: =SUMIF($B8:$B9,"nem kötelező",E8:E9) -> 942000 | F12: =SUMIF($B8:$B9,"nem kötelező",F8:F9) -> 0 | G12: =SUMIF($B8:$B9,"nem kötelező",G8:G9) -> 0 | H12: =SUMIF($B8:$B9,"nem kötelező",H8:H9) -> 0 | I12: =SUMIF($B8:$B9,"nem kötelező",I8:I9) -> 0 | J12: =SUMIF($B8:$B9,"nem kötelező",J8:J9) -> 0 | K12: =SUMIF($B8:$B9,"nem kötelező",K8:K9) -> 0 | ... V12: =SUMIF($B8:$B9,"nem kötelező",V8:V9) -> 4387991

Sheet 12.Önk kiad
X1: 12. melléklet a ..../2026 (....) önkormányzati rendelethez
C2: Az Önkormányzat 2025. évi kiadások kiemelt előirányzatonként forintban
A3: A | B3: B | C3: C | D3: D | F3: E | H3: F | J3: G | L3: H | N3: I | P3: J | R3: L | T3: M | V3: N | X3: O | Z3: P | AB3: R | AD3: S | AG3: T
A4: 1. | B4: kötelező/nem kötelező | C4: Kiemelt előirányzatok | D4: Személyi juttatások | F4: Szociális hozzájárulási adó | H4: Dologi kiadások | J4: Önkormányzat által folyósított ellátások | L4: Egyéb működési célú kiadások ÁH-n kívülre | N4: Egyéb működési célú kiadás ÁH-n belülre | P4: Egyéb Felhalmozási célú kiadás ÁH-n belülre | R4: Elvonások, befizetések | T4: Beruházások | V4: Felújítások | X4: Tartalék | Z4: Finanszírozási kiadások | AB4: Összesen | AD4: Finanszírozási kiadás Ktgvetési szerveknek | AF4: Kiadások összesen | AG4: Kiadások összesen
A5: 2. | C5: Szakfeladat/Feladat | D5: 2025. évi előirányzat | E5: 2025. évi mód. előir | F5: 2025. évi előirányzat | G5: 2025. évi mód. előir | H5: 2025. évi előirányzat | I5: 2025. évi mód. előir | J5: 2025. évi előirányzat | K5: 2025. évi mód. előir | L5: 2025. évi előirányzat | M5: 2025. évi mód. előir | N5: 2025. évi előirányzat | O5: 2025. évi mód. előir | P5: 2025. évi előirányzat | Q5: 2025. évi mód. előir | R5: 2025. évi előirányzat | S5: 2025. évi mód. előir | T5: 2025. évi előirányzat | U5: 2025. évi mód. előir | V5: 2025. mód ei. | W5: 2025. évi előirányzat | X5: 2025. évi mód. előir | Y5: 2025. évi előirányzat | Z5: 2025. évi mód. előir | AA5: 2025. évi előirányzat | AB5: 2025. évi mód. előir | AC5: 2025. évi előirányzat | AD5: 2025. évi mód. előir | AE5: 2025. évi előirányzat | AF5: 2025. évi mód. előir | AG5: 2025. évi előirányzat | AH5: 2025. évi mód. előir | AI5: 2025. évi előirányzat
A6: 3. | B6: kötelező | C6: Képviselő-testület kiadásai | D6: =(50000+50000+90000+50000+1523750+90000+283820)*12+400000+626750*3+545500*2+81800*2+400000+40000*11+217180*9 -> 31980310 | E6: 28697440 | F6: =D6*0.9*13% -> 3741696.3 | G6: 3709515 | H6: 100000 | T6: 5000000 | AB6: =D6+F6+H6+J6+L6+N6+P6+R6+T6+V6+X6+Z6 -> 40822006 | AC6: =E6+G6+I6+K6+M6+O6+Q6+S6+U6+W6+Y6+AA6 -> 32406955 | AF6: =AB6+AD6 -> 40822006 | AG6: =AC6+AE6 -> 32406955 | AH6: =AD6+AF6 -> 40822006 | AI6: =AE6+AG6 -> 32406955
A7: 4. | B7: kötelező | C7: Lakóingatlan bérbeadása | I7: 50945 | W7: 1024330 | AB7: =D7+F7+H7+J7+L7+N7+P7+R7+T7+V7+X7+Z7 -> 0 | AC7: =E7+G7+I7+K7+M7+O7+Q7+S7+U7+W7+Y7+AA7 -> 1075275 | AF7: =AB7+AD7 -> 0 | AG7: =AC7+AE7 -> 1075275 | AH7: =AD7+AF7 -> 0 | AI7: =AE7+AG7 -> 1075275
A8: 5. | B8: kötelező | C8: Nem lakó ingatlan bérbe adása, üzemelése | E8: 237804 | H8: =4332000+20000+180000+1200000+64000+230000 -> 6026000 | I8: 2693247 | T8: =2400000+2000000 -> 4400000 | V8: 2000000 | W8: 1029639 | AB8: =D8+F8+H8+J8+L8+N8+P8+R8+T8+V8+X8+Z8 -> 12426000 | AC8: =E8+G8+I8+K8+M8+O8+Q8+S8+U8+W8+Y8+AA8 -> 3960690 | AF8: =AB8+AD8 -> 12426000 | AG8: =AC8+AE8 -> 3960690 | AH8: =AD8+AF8 -> 12426000 | AI8: =AE8+AG8 -> 3960690
A9: 6. | B9: kötelező | C9: Közvilágítás | H9: =21000000+15000000+3870000+3905000+9250000 -> 53025000 | I9: 55500121 | AB9: =D9+F9+H9+J9+L9+N9+P9+R9+T9+V9+X9+Z9 -> 53025000 | AC9: =E9+G9+I9+K9+M9+O9+Q9+S9+U9+W9+Y9+AA9 -> 55500121 | AF9: =AB9+AD9 -> 53025000 | AG9: =AC9+AE9 -> 55500121 | AH9: =AD9+AF9 -> 53025000 | AI9: =AE9+AG9 -> 55500121
A10: 7. | B10: kötelező | C10: Tartalék | X10: 5000000 | Y10: 118173099 | AB10: =D10+F10+H10+J10+L10+N10+P10+R10+T10+V10+X10+Z10 -> 5000000 | AC10: =E10+G10+I10+K10+M10+O10+Q10+S10+U10+W10+Y10+AA10 -> 118173099 | AF10: =AB10+AD10 -> 5000000 | AG10: =AC10+AE10 -> 118173099 | AH10: =AD10+AF10 -> 5000000 | AI10: =AE10+AG10 -> 118173099
A11: 8. | B11: kötelező | C11: Lakhatási támogatás | J11: 450000 | K11: 60000 | AB11: =D11+F11+H11+J11+L11+N11+P11+R11+T11+V11+X11+Z11 -> 450000 | AC11: =E11+G11+I11+K11+M11+O11+Q11+S11+U11+W11+Y11+AA11 -> 60000 | AF11: =AB11+AD11 -> 450000 | AG11: =AC11+AE11 -> 60000 | AH11: =AD11+AF11 -> 450000 | AI11: =AE11+AG11 -> 60000
A12: 9. | B12: kötelező | C12: Gyógyszer támogatás | I12: 60000 | J12: 300000 | K12: 118000 | AB12: =D12+F12+H12+J12+L12+N12+P12+R12+T12+V12+X12+Z12 -> 300000 | AC12: =E12+G12+I12+K12+M12+O12+Q12+S12+U12+W12+Y12+AA12 -> 178000 | AF12: =AB12+AD12 -> 300000 | AG12: =AC12+AE12 -> 178000 | AH12: =AD12+AF12 -> 300000 | AI12: =AE12+AG12 -> 178000
A13: 10. | B13: nem kötelező | C13: Bursa Támogatás | N13: 720000 | O13: 330000 | AB13: =D13+F13+H13+J13+L13+N13+P13+R13+T13+V13+X13+Z13 -> 720000 | AC13: =E13+G13+I13+K13+M13+O13+Q13+S13+U13+W13+Y13+AA13 -> 330000 | AF13: =AB13+AD13 -> 720000 | AG13: =AC13+AE13 -> 330000 | AH13: =AD13+AF13 -> 720000 | AI13: =AE13+AG13 -> 330000
A14: 11. | B14: kötelező | C14: Egyszeri támogatás | I14: 5228590 | J14: 2400000 | K14: 1358870 | M14: 200000 | AB14: =D14+F14+H14+J14+L14+N14+P14+R14+T14+V14+X14+Z14 -> 2400000 | AC14: =E14+G14+I14+K14+M14+O14+Q14+S14+U14+W14+Y14+AA14 -> 6787460 | AF14: =AB14+AD14 -> 2400000 | AG14: =AC14+AE14 -> 6787460 | AH14: =AD14+AF14 -> 2400000 | AI14: =AE14+AG14 -> 6787460
A15: 12. | B15: kötelező | C15: Krízis | J15: 250000 | K15: 210000 | AB15: =D15+F15+H15+J15+L15+N15+P15+R15+T15+V15+X15+Z15 -> 250000 | AC15: =E15+G15+I15+K15+M15+O15+Q15+S15+U15+W15+Y15+AA15 -> 210000 | AF15: =AB15+AD15 -> 250000 | AG15: =AC15+AE15 -> 210000 | AH15: =AD15+AF15 -> 250000 | AI15: =AE15+AG15 -> 210000
A16: 13. | B16: kötelező | C16: Köztemetés | J16: 400000 | K16: 188150 | AB16: =D16+F16+H16+J16+L16+N16+P16+R16+T16+V16+X16+Z16 -> 400000 | AC16: =E16+G16+I16+K16+M16+O16+Q16+S16+U16+W16+Y16+AA16 -> 188150 | AF16: =AB16+AD16 -> 400000 | AG16: =AC16+AE16 -> 188150 | AH16: =AD16+AF16 -> 400000 | AI16: =AE16+AG16 -> 188150
A17: 14. | B17: kötelező | C17: Hulladék szállítási kedvezmény | J17: 100000 | K17: 7850 | AB17: =D17+F17+H17+J17+L17+N17+P17+R17+T17+V17+X17+Z17 -> 100000 | AC17: =E17+G17+I17+K17+M17+O17+Q17+S17+U17+W17+Y17+AA17 -> 7850 | AF17: =AB17+AD17 -> 100000 | AG17: =AC17+AE17 -> 7850 | AH17: =AD17+AF17 -> 100000 | AI17: =AE17+AG17 -> 7850
A18: 15. | B18: kötelező | C18: Hosszabb távú közfoglakoztatás | D18: 4002000 | E18: 19919281 | F18: 260130 | G18: 1360228 | AB18: =D18+F18+H18+J18+L18+N18+P18+R18+T18+V18+X18+Z18 -> 4262130 | AC18: =E18+G18+I18+K18+M18+O18+Q18+S18+U18+W18+Y18+AA18 -> 21279509 | AF18: =AB18+AD18 -> 4262130 | AG18: =AC18+AE18 -> 21279509 | AH18: =AD18+AF18 -> 4262130 | AI18: =AE18+AG18 -> 21279509
A19: 16. | B19: kötelező | C19: Start mintaprogram | D19: =2623440+1956440+1676300+27390444+34760010+960000+240000+919200+600000+720000 -> 71845834 | E19: 71839479 | F19: =D19*6.5% -> 4669979.2 | G19: 4888992 | H19: =11759469+2783555 -> 14543024 | I19: 18021066 | T19: =600000+130048 -> 730048 | U19: 969358 | AB19: =D19+F19+H19+J19+L19+N19+P19+R19+T19+V19+X19+Z19 -> 91788885 | AC19: =E19+G19+I19+K19+M19+O19+Q19+S19+U19+W19+Y19+AA19 -> 95718895 | AF19: =AB19+AD19 -> 91788885 | AG19: =AC19+AE19 -> 95718895 | AH19: =AD19+AF19 -> 91788885 | AI19: =AE19+AG19 -> 95718895
A20: 17. | B20: kötelező | C20: Állami támogatások és megelőlegezések visszafizetése | H20: =301000*5 -> 1505000 | I20: 1053000 | R20: =1837430*5+11843488+6800000 -> 27830638 | S20: 23622879 | Z20: 16898319 | AA20: 17613632 | AB20: =D20+F20+H20+J20+L20+N20+P20+R20+T20+V20+X20+Z20 -> 46233957 | AC20: =E20+G20+I20+K20+M20+O20+Q20+S20+U20+W20+Y20+AA20 -> 42289511 | AF20: =AB20+AD20 -> 46233957 | AG20: =AC20+AE20 -> 42289511 | AH20: =AD20+AF20 -> 46233957 | AI20: =AE20+AG20 -> 42289511
A21: 18. | B21: kötelező | C21: Önkormányzati üzemeltetési feladatok | D21: =(47300+23530+350000+348800)*12 -> 9235560 | E21: 29472583 | F21: =D21*13% -> 1200622.8 | G21: 3527240 | H21: =37000000+72000+5500000+4390000+4290000 -> 51252000 | I21: 38567329 | U21: 1010470 | AB21: =D21+F21+H21+J21+L21+N21+P21+R21+T21+V21+X21+Z21 -> 61688183 | AC21: =E21+G21+I21+K21+M21+O21+Q21+S21+U21+W21+Y21+AA21 -> 72577622 | AF21: =AB21+AD21 -> 61688183 | AG21: =AC21+AE21 -> 72577622 | AH21: =AD21+AF21 -> 61688183 | AI21: =AE21+AG21 -> 72577622
A22: 19. | B22: kötelező | C22: Éven túli céllhitel törlesztése | I22: 8430459 | Z22: 16903444 | AA22: 16903444 | AB22: =D22+F22+H22+J22+L22+N22+P22+R22+T22+V22+X22+Z22 -> 16903444 | AC22: =E22+G22+I22+K22+M22+O22+Q22+S22+U22+W22+Y22+AA22 -> 25333903 | AF22: =AB22+AD22 -> 16903444 | AG22: =AC22+AE22 -> 25333903 | AH22: =AD22+AF22 -> 16903444 | AI22: =AE22+AG22 -> 25333903
A23: 20. | B23: kötelező | C23: Likvid hitel | I23: 2032782 | Z23: 50000000 | AA23: 287692011 | AB23: =D23+F23+H23+J23+L23+N23+P23+R23+T23+V23+X23+Z23 -> 50000000 | AC23: =E23+G23+I23+K23+M23+O23+Q23+S23+U23+W23+Y23+AA23 -> 289724793 | AF23: =AB23+AD23 -> 50000000 | AG23: =AC23+AE23 -> 289724793 | AH23: =AD23+AF23 -> 50000000 | AI23: =AE23+AG23 -> 289724793
A24: 21. | B24: kötelező | C24: Háziorvosi feladatok, alapellátás | H24: =2140000+360000 -> 2500000 | I24: 1700000 | AB24: =D24+F24+H24+J24+L24+N24+P24+R24+T24+V24+X24+Z24 -> 2500000 | AC24: =E24+G24+I24+K24+M24+O24+Q24+S24+U24+W24+Y24+AA24 -> 1700000 | AF24: =AB24+AD24 -> 2500000 | AG24: =AC24+AE24 -> 1700000 | AH24: =AD24+AF24 -> 2500000 | AI24: =AE24+AG24 -> 1700000
A25: 22. | B25: kötelező | C25: Köztemető fenntartás | H25: =125000+46000+20000 -> 191000 | I25: 324824 | AB25: =D25+F25+H25+J25+L25+N25+P25+R25+T25+V25+X25+Z25 -> 191000 | AC25: =E25+G25+I25+K25+M25+O25+Q25+S25+U25+W25+Y25+AA25 -> 324824 | AF25: =AB25+AD25 -> 191000 | AG25: =AC25+AE25 -> 324824 | AH25: =AD25+AF25 -> 191000 | AI25: =AE25+AG25 -> 324824
A26: 23. | B26: kötelező | C26: Medgyeesegyházi Településüzemeletetési Kft +Ipari park Kft támogatása | D26: =115607*12+450000*10+348800*4*10+1000000 -> 20839284 | F26: =D26*13% -> 2709106.9 | I26: 33000 | L26: =5500000+200000+4474112 -> 10174112 | M26: 11834055 | U26: 1000000 | AB26: =D26+F26+H26+J26+L26+N26+P26+R26+T26+V26+X26+Z26 -> 33722503 | AC26: =E26+G26+I26+K26+M26+O26+Q26+S26+U26+W26+Y26+AA26 -> 12867055 | AF26: =AB26+AD26 -> 33722503 | AG26: =AC26+AE26 -> 12867055 | AH26: =AD26+AF26 -> 33722503 | AI26: =AE26+AG26 -> 12867055
A27: 24. | B27: kötelező | C27: Óvodai gyermekétkeztetés | H27: 28454000 | I27: 30371523 | AB27: =D27+F27+H27+J27+L27+N27+P27+R27+T27+V27+X27+Z27 -> 28454000 | AC27: =E27+G27+I27+K27+M27+O27+Q27+S27+U27+W27+Y27+AA27 -> 30371523 | AF27: =AB27+AD27 -> 28454000 | AG27: =AC27+AE27 -> 30371523 | AH27: =AD27+AF27 -> 28454000 | AI27: =AE27+AG27 -> 30371523
A28: 25. | B28: kötelező | C28: Bölcsödei gyermekétkeztetés | E28: 67500 | H28: 2450000 | I28: 2665902 | AB28: =D28+F28+H28+J28+L28+N28+P28+R28+T28+V28+X28+Z28 -> 2450000 | AC28: =E28+G28+I28+K28+M28+O28+Q28+S28+U28+W28+Y28+AA28 -> 2733402 | AF28: =AB28+AD28 -> 2450000 | AG28: =AC28+AE28 -> 2733402 | AH28: =AD28+AF28 -> 2450000 | AI28: =AE28+AG28 -> 2733402
A29: 26. | B29: nem kötelező | C29: Tagdíj (Kistérség, Dareh) | D29: =500000*2 -> 1000000 | E29: 432500 | H29: 500000 | I29: 104700 | N29: =1202783+723660 -> 1926443 | O29: 162500 | AB29: =D29+F29+H29+J29+L29+N29+P29+R29+T29+V29+X29+Z29 -> 3426443 | AC29: =E29+G29+I29+K29+M29+O29+Q29+S29+U29+W29+Y29+AA29 -> 699700 | AF29: =AB29+AD29 -> 3426443 | AG29: =AC29+AE29 -> 699700 | AH29: =AD29+AF29 -> 3426443 | AI29: =AE29+AG29 -> 699700
A30: 27. | B30: kötelező | C30: Piac | H30: =600000+31000+137000 -> 768000 | I30: 240565 | AB30: =D30+F30+H30+J30+L30+N30+P30+R30+T30+V30+X30+Z30 -> 768000 | AC30: =E30+G30+I30+K30+M30+O30+Q30+S30+U30+W30+Y30+AA30 -> 240565 | AF30: =AB30+AD30 -> 768000 | AG30: =AC30+AE30 -> 240565 | AH30: =AD30+AF30 -> 768000 | AI30: =AE30+AG30 -> 240565
A31: 28. | B31: kötelező | C31: Közkifolyó kiadásai | H31: =690000+80000 -> 770000 | I31: 132136 | AB31: =D31+F31+H31+J31+L31+N31+P31+R31+T31+V31+X31+Z31 -> 770000 | AC31: =E31+G31+I31+K31+M31+O31+Q31+S31+U31+W31+Y31+AA31 -> 132136 | AF31: =AB31+AD31 -> 770000 | AG31: =AC31+AE31 -> 132136 | AH31: =AD31+AF31 -> 770000 | AI31: =AE31+AG31 -> 132136
A32: 29. | B32: kötelező | C32: Szennyvíz és ivóvíz befizetési kötelezettség | L32: =14627058 -> 14627058 | AB32: =D32+F32+H32+J32+L32+N32+P32+R32+T32+V32+X32+Z32 -> 14627058 | AC32: =E32+G32+I32+K32+M32+O32+Q32+S32+U32+W32+Y32+AA32 -> 0 | AF32: =AB32+AD32 -> 14627058 | AG32: =AC32+AE32 -> 0 | AH32: =AD32+AF32 -> 14627058 | AI32: =AE32+AG32 -> 0
A33: 30. | B33: kötelező | C33: Szünidei gyermekétkeztetés | H33: 609000 | I33: 291077 | AB33: =D33+F33+H33+J33+L33+N33+P33+R33+T33+V33+X33+Z33 -> 609000 | AC33: =E33+G33+I33+K33+M33+O33+Q33+S33+U33+W33+Y33+AA33 -> 291077 | AF33: =AB33+AD33 -> 609000 | AG33: =AC33+AE33 -> 291077 | AH33: =AD33+AF33 -> 609000 | AI33: =AE33+AG33 -> 291077
A34: 31. | B34: nem kötelező | C34: Sportcsarnok, uszoda használat | D34: =348800*2*12+1200000+348800*4 -> 10966400 | E34: 8375119 | F34: =D34*13% -> 1425632 | G34: 839046 | H34: =27600000+130000+2600000+2470000+7700000+422000+20535000 -> 61457000 | I34: 35284731 | AB34: =D34+F34+H34+J34+L34+N34+P34+R34+T34+V34+X34+Z34 -> 73849032 | AC34: =E34+G34+I34+K34+M34+O34+Q34+S34+U34+W34+Y34+AA34 -> 44498896 | AF34: =AB34+AD34 -> 73849032 | AG34: =AC34+AE34 -> 44498896 | AH34: =AD34+AF34 -> 73849032 | AI34: =AE34+AG34 -> 44498896
A35: 32. | B35: nem kötelező | C35: Eszköz beszerzés (Sátor) | T35: 2540000 | AB35: =D35+F35+H35+J35+L35+N35+P35+R35+T35+V35+X35+Z35 -> 2540000 | AC35: =E35+G35+I35+K35+M35+O35+Q35+S35+U35+W35+Y35+AA35 -> 0 | AF35: =AB35+AD35 -> 2540000 | AG35: =AC35+AE35 -> 0 | AH35: =AD35+AF35 -> 2540000 | AI35: =AE35+AG35 -> 0
A36: 36. | B36: nem kötelező | C36: TOP Plusz -1.1.1 Helyi gazdasági fejlesztés | H36: 5899046 | Q36: 5028067 | T36: =130810000+6935015+1409700 -> 139154715 | AB36: =D36+F36+H36+J36+L36+N36+P36+R36+T36+V36+X36+Z36 -> 145053761 | AC36: =E36+G36+I36+K36+M36+O36+Q36+S36+U36+W36+Y36+AA36 -> 5028067 | AF36: =AB36+AD36 -> 145053761 | AG36: =AC36+AE36 -> 5028067 | AH36: =AD36+AF36 -> 145053761 | AI36: =AE36+AG36 -> 5028067
A37: 37. | B37: nem kötelező | C37: TOP Plusz -3.3.2-21 Háziorvosi ellátás | H37: 724482 | I37: 251755 | Q37: 2356112 | V37: 48996600 | W37: 40980152 | AB37: =D37+F37+H37+J37+L37+N37+P37+R37+T37+V37+X37+Z37 -> 49721082 | AC37: =E37+G37+I37+K37+M37+O37+Q37+S37+U37+W37+Y37+AA37 -> 43588019 | AF37: =AB37+AD37 -> 49721082 | AG37: =AC37+AE37 -> 43588019 | AH37: =AD37+AF37 -> 49721082 | AI37: =AE37+AG37 -> 43588019
A38: 38. | B38: nem kötelező | C38: TOP Plusz -3.3.2-21 Idősek klubbja | H38: =1490581-170800 -> 1319781 | I38: 7815787 | Q38: 3807013 | T38: =4961007 -> 4961007 | V38: 74404149 | W38: 41986456 | AB38: =D38+F38+H38+J38+L38+N38+P38+R38+T38+V38+X38+Z38 -> 80684937 | AC38: =E38+G38+I38+K38+M38+O38+Q38+S38+U38+W38+Y38+AA38 -> 53609256 | AF38: =AB38+AD38 -> 80684937 | AG38: =AC38+AE38 -> 53609256 | AH38: =AD38+AF38 -> 80684937 | AI38: =AE38+AG38 -> 53609256
A39: 39. | B39: nem kötelező | C39: TOP Plusz -1.2.3 Belterületi utak | I39: 4516545 | P39: =667879+698500+260056 -> 1626435 | AB39: =D39+F39+H39+J39+L39+N39+P39+R39+T39+V39+X39+Z39 -> 1626435 | AC39: =E39+G39+I39+K39+M39+O39+Q39+S39+U39+W39+Y39+AA39 -> 4516545 | AF39: =AB39+AD39 -> 1626435 | AG39: =AC39+AE39 -> 4516545 | AH39: =AD39+AF39 -> 1626435 | AI39: =AE39+AG39 -> 4516545
A40: 40. | B40: nem kötelező | C40: TOP-Plusz 1.2.1-21 Élhető települések | H40: 3847596 | I40: 754380 | T40: 345389427 | AB40: =D40+F40+H40+J40+L40+N40+P40+R40+T40+V40+X40+Z40 -> 349237023 | AC40: =E40+G40+I40+K40+M40+O40+Q40+S40+U40+W40+Y40+AA40 -> 754380 | AF40: =AB40+AD40 -> 349237023 | AG40: =AC40+AE40 -> 754380 | AH40: =AD40+AF40 -> 349237023 | AI40: =AE40+AG40 -> 754380
A41: 41. | B41: nem kötelező | C41: Top-Plusz 2.1.1-21 Önkormányzati épületek energetikai korszerűsítése | H41: =690485-50800 -> 639685 | I41: 4191293 | V41: =99725880+7195986 -> 106921866 | W41: 67238921 | AB41: =D41+F41+H41+J41+L41+N41+P41+R41+T41+V41+X41+Z41 -> 107561551 | AC41: =E41+G41+I41+K41+M41+O41+Q41+S41+U41+W41+Y41+AA41 -> 71430214 | AF41: =AB41+AD41 -> 107561551 | AG41: =AC41+AE41 -> 71430214 | AH41: =AD41+AF41 -> 107561551 | AI41: =AE41+AG41 -> 71430214
A42: 42. | B42: nem kötelező | C42: Magyar falu önkormányzati tulajdonú ingatlanok fejlesztése Idősek otthona hőközpont rekonstrukciója | H42: 902709 | I42: 1755 | V42: 11993143 | W42: 3602497 | AB42: =D42+F42+H42+J42+L42+N42+P42+R42+T42+V42+X42+Z42 -> 12895852 | AC42: =E42+G42+I42+K42+M42+O42+Q42+S42+U42+W42+Y42+AA42 -> 3604252 | AF42: =AB42+AD42 -> 12895852 | AG42: =AC42+AE42 -> 3604252 | AH42: =AD42+AF42 -> 12895852 | AI42: =AE42+AG42 -> 3604252
A43: 43. | B43: nem kötelező | C43: Magyar Falu Útfelújítás | W43: 2540000 | AB43: =D43+F43+H43+J43+L43+N43+P43+R43+T43+V43+X43+Z43 -> 0 | AC43: =E43+G43+I43+K43+M43+O43+Q43+S43+U43+W43+Y43+AA43 -> 2540000 | AF43: =AB43+AD43 -> 0 | AG43: =AC43+AE43 -> 2540000
A44: 44. | B44: nem kötelező | C44: EFOP-3.9.2 visszafizetés (Medgyesegyháza) | H44: 1060574 | N44: 15066000 | AB44: =D44+F44+H44+J44+L44+N44+P44+R44+T44+V44+X44+Z44 -> 16126574 | AC44: =E44+G44+I44+K44+M44+O44+Q44+S44+U44+W44+Y44+AA44 -> 0 | AF44: =AB44+AD44 -> 16126574 | AG44: =AC44+AE44 -> 0 | AH44: =AD44+AF44 -> 16126574 | AI44: =AE44+AG44 -> 0
A45: 45. | B45: nem kötelező | C45: EFOP-3.9.2 visszafizetés (Kistérség) | N45: 51008148 | AB45: =D45+F45+H45+J45+L45+N45+P45+R45+T45+V45+X45+Z45 -> 51008148 | AC45: =E45+G45+I45+K45+M45+O45+Q45+S45+U45+W45+Y45+AA45 -> 0 | AF45: =AB45+AD45 -> 51008148 | AG45: =AC45+AE45 -> 0 | AH45: =AD45+AF45 -> 51008148 | AI45: =AE45+AG45 -> 0
B46: nem kötelező | C46: TTP-KP-1/2025/1-000187 Testvértelepülés pályázat | AB46: =D46+F46+H46+J46+L46+N46+P46+R46+T46+V46+X46+Z46 -> 0 | AC46: =E46+G46+I46+K46+M46+O46+Q46+S46+U46+W46+Y46+AA46 -> 0 | AF46: =AB46+AD46 -> 0 | AG46: =AC46+AE46 -> 0
B47: kötelező | C47: Önkormányzati igazgatás | E47: 763087 | G47: 38525 | I47: 6104782 | U47: 406400 | AB47: =D47+F47+H47+J47+L47+N47+P47+R47+T47+V47+X47+Z47 -> 0 | AC47: =E47+G47+I47+K47+M47+O47+Q47+S47+U47+W47+Y47+AA47 -> 7312794 | AF47: =AB47+AD47 -> 0 | AG47: =AC47+AE47 -> 7312794
B48: nem kötelező | C48: 4034430060 Versenyképes pr. Energiaközösség | AB48: =D48+F48+H48+J48+L48+N48+P48+R48+T48+V48+X48+Z48 -> 0 | AC48: =E48+G48+I48+K48+M48+O48+Q48+S48+U48+W48+Y48+AA48 -> 0 | AF48: =AB48+AD48 -> 0 | AG48: =AC48+AE48 -> 0
B49: nem kötelező | C49: 4034981504 Versenyképes pr. Térfigyelőrendszer | AB49: =D49+F49+H49+J49+L49+N49+P49+R49+T49+V49+X49+Z49 -> 0 | AC49: =E49+G49+I49+K49+M49+O49+Q49+S49+U49+W49+Y49+AA49 -> 0 | AF49: =AB49+AD49 -> 0 | AG49: =AC49+AE49 -> 0
A50: 46. | C50: Alaptevékenység összesen | D50: =SUM(D6:D49) -> 149869388 | E50: =SUM(E6:E49) -> 159804793 | F50: =SUM(F6:F49) -> 14007167 | G50: =SUM(G6:G49) -> 14363546 | H50: =SUM(H6:H49) -> 238543897 | I50: =SUM(I6:I49) -> 226422294 | J50: =SUM(J6:J49) -> 3900000 | K50: =SUM(K6:K49) -> 1942870 | ... AG50: =SUM(AG6:AG49) -> 1052044538 | AH50: =SUM(AH6:AH45) -> 1.364592e+09 | AI50: =SUM(AI6:AI45) -> 1042191744
A51: 47. | C51: Önkormányzat létszáma
A52: 48. | C52: Polgármester | D52: 1
A53: 49. | C53: Képviselő | D53: 6
A54: 50. | C54: Közmunkaprogramban részt vevő | D54: 0
A55: 51. | C55: Közmunkaprogramban részt vevő | D55: 51
A56: 52. | C56: Hosszabb távú közfoglalkoztatott | D56: 0
A57: 53. | C57: Hosszabb távú közfoglalkoztatott | D57: 11
A58: 54. | C58: Közalkalmazott | D58: 3
A59: 55. | C59: Összesen: | D59: =SUM(D52:D58) -> 72 | E59: =SUM(E52:E58) -> 0
A60: 56.
A61: 57. | C61: Kötelező | D61: =D6+D7+D8+D9+D10+D11+D12+D14+D15+D16+D17+D18+D19+D20+D22+D24+D25+D26+D27+D31+D33+D21+D28+D32+D30+D23+D47 -> 137902988 | E61: =E6+E7+E8+E9+E10+E11+E12+E14+E15+E16+E17+E18+E19+E20+E22+E24+E25+E26+E27+E31+E33+E21+E28+E32+E30+E23+E47 -> 150997174 | F61: =F6+F7+F8+F9+F10+F11+F12+F14+F15+F16+F17+F18+F19+F20+F22+F24+F25+F26+F27+F31+F33+F21+F28+F32+F30+F23+F47 -> 12581535 | G61: =G6+G7+G8+G9+G10+G11+G12+G14+G15+G16+G17+G18+G19+G20+G22+G24+G25+G26+G27+G31+G33+G21+G28+G32+G30+G23+G47 -> 13524500 | H61: =H6+H7+H8+H9+H10+H11+H12+H14+H15+H16+H17+H18+H19+H20+H22+H24+H25+H26+H27+H31+H33+H21+H28+H32+H30+H23+H47 -> 162193024 | I61: =I6+I7+I8+I9+I10+I11+I12+I14+I15+I16+I17+I18+I19+I20+I22+I24+I25+I26+I27+I31+I33+I21+I28+I32+I30+I23+I47 -> 173501348 | J61: =J6+J7+J8+J9+J10+J11+J12+J14+J15+J16+J17+J18+J19+J20+J22+J24+J25+J26+J27+J31+J33+J21+J28+J32+J30+J23+J47 -> 3900000 | K61: =K6+K7+K8+K9+K10+K11+K12+K14+K15+K16+K17+K18+K19+K20+K22+K24+K25+K26+K27+K31+K33+K21+K28+K32+K30+K23+K47 -> 1942870 | ... AG61: =AG6+AG7+AG8+AG9+AG10+AG11+AG12+AG14+AG15+AG16+AG17+AG18+AG19+AG20+AG22+AG24+AG25+AG26+AG27+AG31+AG33+AG21+AG28+AG32+AG30+AG23+AG47 -> 821445209 | AH61: =AH6+AH7+AH8+AH9+AH10+AH11+AH12+AH14+AH15+#REF!+AH16+AH17+AH18+AH19+AH20+AH22+AH24+AH25+AH26+AH27+#REF!+AH31+AH33+AH21+AH28+AH32+AH30 -> #REF! | AI61: =AI6+AI7+AI8+AI9+AI10+AI11+AI12+AI14+AI15+#REF!+AI16+AI17+AI18+AI19+AI20+AI22+AI24+AI25+AI26+AI27+#REF!+AI31+AI33+AI21+AI28+AI32+AI30 -> #REF!
A62: 58. | C62: Nem kötelező | D62: =D13+D29+D34+D35+D36+D37+D38+D39+D40+D41+D44+D45+D46+D48+D49 -> 11966400 | E62: =E13+E29+E34+E35+E36+E37+E38+E39+E40+E41+E44+E45+E46+E48+E49 -> 8807619 | F62: =F13+F29+F34+F35+F36+F37+F38+F39+F40+F41+F44+F45+F46+F48+F49 -> 1425632 | G62: =G13+G29+G34+G35+G36+G37+G38+G39+G40+G41+G44+G45+G46+G48+G49 -> 839046 | H62: =H13+H29+H34+H35+H36+H37+H38+H39+H40+H41+H44+H45+H46+H48+H49+H42 -> 76350873 | I62: =I13+I29+I34+I35+I36+I37+I38+I39+I40+I41+I44+I45+I46+I48+I49+I42 -> 52920946 | J62: =J13+J29+J34+J35+J36+J37+J38+J39+J40+J41+J44+J45+J46+J48+J49 -> 0 | K62: =K13+K29+K34+K35+K36+K37+K38+K39+K40+K41+K44+K45+K46+K48+K49 -> 0 | L62: =L13+L29+L34+L35+L36+L37+L38+L39+L40+L41+L44+L45+L46+L48+L49 -> 0 | M62: =M13+M29+M34+M35+M36+M37+M38+M39+M40+M41+M44+M45+M46+M48+M49 -> 0 | N62: =N13+N29+N34+N35+N36+N37+N38+N39+N40+N41+N44+N45+N46+N48+N49 -> 68720591 | O62: =O13+O29+O34+O35+O36+O37+O38+O39+O40+O41+O44+O45+O46+O48+O49 -> 492500 | P62: =P13+P29+P34+P35+P36+P37+P38+P39+P40+P41+P44+P45+P46+P48+P49 -> 1626435 | Q62: =Q13+Q29+Q34+Q35+Q36+Q37+Q38+Q39+Q40+Q41+Q44+Q45+Q46+Q48+Q49 -> 11191192 | ... U62: =U13+U29+U34+U35+U36+U37+U38+U39+U40+U41+U44+U45+U46+U48+U49 -> 0 | V62: =V13+V29+V34+V35+V36+V37+V38+V39+V40+V41+V44+V45+V46+V48+V49+V42 -> 242315758 | W62: =W13+W29+W34+W35+W36+W37+W38+W39+W40+W41+W44+W45+W46+W48+W49+W42+W43 -> 156348026 | X62: =X13+X29+X34+X35+X36+X37+X38+X39+X40+X41+X44+X45+X46+X48+X49 -> 0 | Y62: =Y13+Y29+Y34+Y35+Y36+Y37+Y38+Y39+Y40+Y41+Y44+Y45+Y46+Y48+Y49+Y42 -> 0 | Z62: =Z13+Z29+Z34+Z35+Z36+Z37+Z38+Z39+Z40+Z41+Z44+Z45+Z46+Z48+Z49 -> 0 | AA62: =AA13+AA29+AA34+AA35+AA36+AA37+AA38+AA39+AA40+AA41+AA44+AA45+AA46+AA48+AA49 -> 0 | AB62: =AB13+AB29+AB34+AB35+AB36+AB37+AB38+AB39+AB40+AB41+AB44+AB45+AB46+AB48+AB49+AB42 -> 894450838 | AC62: =AC13+AC29+AC34+AC35+AC36+AC37+AC38+AC39+AC40+AC41+AC44+AC45+AC46+AC48+AC49+AC43+AC42 -> 230599329 | AD62: =AD13+AD29+AD34+AD35+AD36+AD37+AD38+AD39+AD40+AD41+AD44+AD45+AD46+AD48+AD49 -> 0 | AE62: =AE13+AE29+AE34+AE35+AE36+AE37+AE38+AE39+AE40+AE41+AE44+AE45+AE46+AE48+AE49 -> 0 | AF62: =AF13+AF29+AF34+AF35+AF36+AF37+AF38+AF39+AF40+AF41+AF44+AF45+AF46+AF48+AF49 -> 881554986 | AG62: =AG13+AG29+AG34+AG35+AG36+AG37+AG38+AG39+AG40+AG41+AG44+AG45+AG46+AG48+AG49 -> 224455077 | AH62: =AH13+AH29+AH34+#REF!+#REF!+#REF!++#REF!++AH35+AH40+AH41+#REF!+AH44 -> #REF! | AI62: =AI13+AI29+AI34+#REF!+#REF!+#REF!++#REF!++AI35+AI40+AI41+#REF!+AI44 -> #REF!
A63: 59. | C63: Medgyesegyházi Polgármesteri Hivatal | D63: =SUM(D64:D65) -> 177767000 | E63: =SUM(E64:E65) -> 171326782 | F63: =SUM(F64:F65) -> 23769790 | G63: =SUM(G64:G65) -> 24789689 | H63: =SUM(H64:H65) -> 16333800 | I63: =SUM(I64:I65) -> 14734830 | J63: =SUM(J64:J65) -> 0 | K63: =SUM(K64:K65) -> 0 | ... AE63: =SUM(AE64:AE65) -> 208567459
A64: 60. | B64: kötelező | C64: Kötelező | D64: ='13.PMH kiad'!D11 -> 136167000 | E64: ='13.PMH kiad'!E11 -> 129726782 | F64: ='13.PMH kiad'!F11 -> 18361790 | G64: ='13.PMH kiad'!G11 -> 19381689 | H64: ='13.PMH kiad'!H11 -> 16333800 | I64: ='13.PMH kiad'!I11 -> 14734830 | J64: ='13.PMH kiad'!J11 -> 0 | K64: ='13.PMH kiad'!K11 -> 0 | ... M64: ='13.PMH kiad'!M11 -> 0 | N64: 0 | O64: 0 | P64: ='13.PMH kiad'!P11 -> 0 | Q64: ='13.PMH kiad'!Q11 -> 0 | R64: ='13.PMH kiad'!R11 -> 0 | S64: ='13.PMH kiad'!S11 -> 0 | T64: ='13.PMH kiad'!N11 -> 2000000 | U64: ='13.PMH kiad'!O11 -> 913426 | AB64: =D64+F64+H64+J64+L64+N64+P64+R64+T64+V64+X64+Z64 -> 172862590 | AC64: =E64+G64+I64+K64+M64+O64+Q64+S64+U64+W64+Y64+AA64 -> 164756727 | AD64: ='8. PMH bev.'!P7 -> 172148590 | AE64: ='8. PMH bev.'!Q7 -> 161559459
A65: 61. | B65: Államigazgatási | C65: Államigazgatási feladatok | D65: ='13.PMH kiad'!D6 -> 41600000 | E65: ='13.PMH kiad'!E6 -> 41600000 | F65: ='13.PMH kiad'!F6 -> 5408000 | G65: ='13.PMH kiad'!G6 -> 5408000 | H65: ='13.PMH kiad'!H6 -> 0 | AB65: =D65+F65+H65+J65+L65+N65+P65+R65+T65+V65+X65+Z65 -> 47008000 | AC65: =E65+G65+I65+K65+M65+O65+Q65+S65+U65+W65+Y65+AA65 -> 47008000 | AD65: ='8. PMH bev.'!P6 -> 47008000 | AE65: ='8. PMH bev.'!Q6 -> 47008000
A66: 62. | C66: Varázserdő Óvoda Medgyesegyháza | D66: =SUM(D67:D68) -> 155159696 | E66: =SUM(E67:E68) -> 188393710 | F66: =SUM(F67:F68) -> 20038031 | G66: =SUM(G67:G68) -> 23708848 | H66: =SUM(H67:H68) -> 25729100 | I66: =SUM(I67:I68) -> 13945539 | J66: =SUM(J67:J68) -> 0 | K66: =SUM(K67:K68) -> 0 | ... AA66: =SUM(AA67:AA68) -> 0 | AB66: =D66+F66+H66+J66+L66+N66+P66+R66+T66+V66+X66+Z66 -> 201676827 | AC66: =SUM(AC67:AC68) -> 232136239 | AD66: =SUM(AD67:AD68) -> 201666827 | AE66: =SUM(AE67:AE68) -> 231910009
A67: 63. | B67: kötelező | C67: Kötelező | D67: ='15. VE kiad'!D9 -> 155159696 | E67: ='15. VE kiad'!E9 -> 188393710 | F67: ='15. VE kiad'!F9 -> 20038031 | G67: ='15. VE kiad'!G9 -> 23708848 | H67: ='15. VE kiad'!H9 -> 25729100 | I67: ='15. VE kiad'!I9 -> 13945539 | T67: ='15. VE kiad'!N9 -> 750000 | U67: ='15. VE kiad'!O9 -> 2245819 | W67: ='15. VE kiad'!Q9 -> 3842323 | AB67: =D67+F67+H67+J67+L67+N67+P67+R67+T67+V67+X67+Z67 -> 201676827 | AC67: =E67+G67+I67+K67+M67+O67+Q67+S67+U67+W67+Y67+AA67 -> 232136239 | AD67: ='10. VE bev'!P9 -> 201666827 | AE67: ='10. VE bev'!Q9 -> 231910009
A68: 64. | B68: nem kötelező | C68: Nem kötelező | AB68: =D68+F68+H68+J68+L68+N68+P68+R68+T68+V68+X68+Z68 -> 0
A69: 65. | C69: Gondozási Központ Medgyesegyháza | D69: =SUM(D70:D71) -> 148019793 | E69: =SUM(E70:E71) -> 166266570 | F69: =SUM(F70:F71) -> 19242573 | G69: =SUM(G70:G71) -> 22319921 | H69: =SUM(H70:H71) -> 118239012 | I69: =SUM(I70:I71) -> 91246693 | J69: =SUM(J70:J71) -> 0 | K69: =SUM(K70:K71) -> 0 | ... Q69: =SUM(Q70:Q71) -> 0 | R69: 0 | S69: 0 | T69: =SUM(T70:T71) -> 2410000 | U69: =SUM(U70:U71) -> 552380 | V69: =SUM(V70:V71) -> 0 | X69: =SUM(X70:X71) -> 0 | Z69: =SUM(Z70:Z71) -> 0 | AB69: =D69+F69+H69+J69+L69+N69+P69+R69+T69+V69+X69+Z69 -> 2.8794138e+08 | AC69: =SUM(AC70:AC71) -> 280385564 | AD69: =SUM(AD70:AD71) -> 248790567 | AE69: =SUM(AE70:AE71) -> 236513536
A70: 66. | B70: kötelező | C70: Kötelező | D70: ='14. GKP kiad'!D18 -> 55273544 | E70: ='14. GKP kiad'!E18 -> 60879358 | F70: ='14. GKP kiad'!F18 -> 7185560.7 | G70: ='14. GKP kiad'!G18 -> 7943034 | H70: ='14. GKP kiad'!H18 -> 23993512 | I70: ='14. GKP kiad'!I18 -> 20607435 | L70: =+'14. GKP kiad'!L18 -> 30000 | M70: =+'14. GKP kiad'!M18 -> 0 | T70: ='14. GKP kiad'!N18 -> 410000 | U70: ='14. GKP kiad'!O18 -> 8000 | AB70: =D70+F70+H70+J70+L70+N70+P70+R70+T70+V70+X70+Z70 -> 86892617 | AC70: =E70+G70+I70+K70+M70+O70+Q70+S70+U70+W70+Y70+AA70 -> 89437827 | AD70: ='9. GKP bev'!P19 -> 81885945 | AE70: ='9. GKP bev'!Q19 -> 84266470
A71: 67. | B71: nem kötelező | C71: Nem kötelező | D71: ='14. GKP kiad'!D19 -> 92746249 | E71: ='14. GKP kiad'!E19 -> 105387212 | F71: ='14. GKP kiad'!F19 -> 12057012 | G71: ='14. GKP kiad'!G19 -> 14376887 | H71: ='14. GKP kiad'!H19 -> 94245500 | I71: ='14. GKP kiad'!I19 -> 70639258 | T71: ='14. GKP kiad'!N19 -> 2000000 | U71: ='14. GKP kiad'!O19 -> 544380 | AB71: =D71+F71+H71+J71+L71+N71+P71+R71+T71+V71+X71+Z71 -> 2.0104876e+08 | AC71: =E71+G71+I71+K71+M71+O71+Q71+S71+U71+W71+Y71+AA71 -> 190947737 | AD71: ='9. GKP bev'!P20 -> 166904622 | AE71: ='9. GKP bev'!Q20 -> 152247066
A72: 68. | C72: Művelődési Ház és Könyvtár | D72: =SUM(D73:D74) -> 23242400 | E72: =SUM(E73:E74) -> 23165663 | F72: =SUM(F73:F74) -> 3021512 | G72: =SUM(G73:G74) -> 3143701 | H72: =SUM(H73:H74) -> 20501500 | I72: =SUM(I73:I74) -> 17256927 | J72: =SUM(J73:J74) -> 0 | K72: =SUM(K73:K74) -> 0 | ... AA72: =SUM(AA73:AA74) -> 0 | AB72: =D72+F72+H72+J72+L72+N72+P72+R72+T72+V72+X72+Z72 -> 46915412 | AC72: =SUM(AC73:AC74) -> 44770797 | AD72: =SUM(AD73:AD74) -> 42777412 | AE72: =SUM(AE73:AE74) -> 43473077
A73: 69. | B73: kötelező | C73: Kötelező | D73: ='16. MH kiad'!D11 -> 23242400 | E73: ='16. MH kiad'!E11 -> 22971318 | F73: ='16. MH kiad'!F11 -> 3021512 | G73: ='16. MH kiad'!G11 -> 3143701 | H73: ='16. MH kiad'!H11 -> 11409500 | I73: ='16. MH kiad'!I11 -> 12507001 | T73: ='16. MH kiad'!N11 -> 150000 | U73: ='16. MH kiad'!O11 -> 1204506 | AB73: =D73+F73+H73+J73+L73+N73+P73+R73+T73+V73+X73+Z73 -> 37823412 | AC73: =E73+G73+I73+K73+M73+O73+Q73+S73+U73+W73+Y73+AA73 -> 39826526 | AD73: ='11. MH bev.'!R11 -> 37586412 | AE73: ='11. MH bev.'!S11 -> 40027086
A74: 70. | B74: nem kötelező | C74: Nem kötelező | D74: ='16. MH kiad'!D12 -> 0 | E74: ='16. MH kiad'!E12 -> 194345 | F74: ='16. MH kiad'!F12 -> 0 | G74: ='16. MH kiad'!G12 -> 0 | H74: ='16. MH kiad'!H12 -> 9092000 | I74: ='16. MH kiad'!I12 -> 4749926 | T74: ='16. MH kiad'!N12 -> 0 | U74: ='16. MH kiad'!O12 -> 0 | AB74: =D74+F74+H74+J74+L74+N74+P74+R74+T74+V74+X74+Z74 -> 9092000 | AC74: =E74+G74+I74+K74+M74+O74+Q74+S74+U74+W74+Y74+AA74 -> 4944271 | AD74: ='11. MH bev.'!R12 -> 5191000 | AE74: ='11. MH bev.'!S12 -> 3445991
A75: 71. | C75: Összesen | D75: =D50+D63+D66+D69+D72 -> 654058277 | E75: =E50+E63+E66+E69+E72 -> 708957518 | F75: =F50+F63+F66+F69+F72 -> 80079073 | G75: =G50+G63+G66+G69+G72 -> 88325705 | H75: =H50+H63+H66+H69+H72 -> 419347309 | I75: =I50+I63+I66+I69+I72 -> 363606283 | J75: =J50+J63+J66+J69+J72 -> 3900000 | K75: =K50+K63+K66+K69+K72 -> 1942870 | ... AE75: =AE50+AE63+AE66+AE69+AE72 -> 720464081 | AF75: =AB50+AD75 -> 2.0769834e+09 | AG75: =AC50+AE75 -> 1772508619
A76: 72.
A77: 73. | C77: Kötelező mindösszesen: | D77: =D61+D64+D67+D70+D73 -> 507745628 | E77: =E61+E64+E67+E70+E73 -> 552968342 | F77: =F61+F64+F67+F70+F73 -> 61188429 | G77: =G61+G64+G67+G70+G73 -> 67701772 | H77: =H61+H64+H67+H70+H73 -> 239658936 | I77: =I61+I64+I67+I70+I73 -> 235296153 | J77: =J61+J64+J67+J70+J73 -> 3900000 | K77: =K61+K64+K67+K70+K73 -> 1942870 | ... AE77: =AE61+AE64+AE67+AE70+AE73 -> 517763024
A78: 74. | C78: Államigazgatási feladatok | D78: =D65 -> 41600000 | E78: =E65 -> 41600000 | F78: =F65 -> 5408000 | G78: =G65 -> 5408000 | H78: =H65 -> 0 | I78: =I65 -> 0 | J78: =J65 -> 0 | K78: =K65 -> 0 | ... AE78: =AE65 -> 47008000
A79: 75. | C79: Nem kötelező mindösszesen: | D79: =D62+D68+D71+D74 -> 104712649 | E79: =E62+E68+E71+E74 -> 114389176 | F79: =F62+F68+F71+F74 -> 13482644 | G79: =G62+G68+G71+G74 -> 15215933 | H79: =H62+H68+H71+H74 -> 179688373 | I79: =I62+I68+I71+I74 -> 128310130 | J79: =J62+J68+J71+J74 -> 0 | K79: =K62+K68+K71+K74 -> 0 | ... AE79: =AE62+AE68+AE71+AE74 -> 155693057
A80: 76. | C80: Mindösszesen: | D80: =SUM(D77:D79) -> 654058277 | E80: =SUM(E77:E79) -> 708957518 | F80: =SUM(F77:F79) -> 80079073 | G80: =SUM(G77:G79) -> 88325705 | H80: =SUM(H77:H79) -> 419347309 | I80: =SUM(I77:I79) -> 363606283 | J80: =SUM(J77:J79) -> 3900000 | K80: =SUM(K77:K79) -> 1942870 | ... AE80: =SUM(AE77:AE79) -> 720464081
D81: =D75-D80 -> 0 | E81: =E75-E80 -> 0 | F81: =F75-F80 -> 0 | G81: =G75-G80 -> 0 | H81: =H75-H80 -> 0 | I81: =I75-I80 -> 0 | J81: =J75-J80 -> 0 | K81: =K75-K80 -> 0 | ... AG81: =AG75-AG80 -> 1772508619 | AH81: =AH50-AH61-AH62 -> #REF! | AI81: =AI50-AI61-AI62 -> #REF!
AB82: =AB80-AA80 -> 1.7987871e+09 | AI82: 13142

Sheet 13.PMH kiad
N1: 13. melléklet .../2026. (...) önkormányzati rendelethez
C2: Medgyesegyházi Polgármesteri Hivatal 2025. évi kiadások kiemelt előirányzatonként forintban
A3: A | B3: B | C3: C | D3: D | F3: E | H3: F | J3: G | L3: H | N3: I | P3: J | R3: K | T3: L | V3: M
A4: Sor szám | B4: Kötelező/ nem kötelező | C4: Kiemelt előirányzatok | D4: Személyi juttatások | F4: Szociális hozzájárulási adó | H4: Dologi kiadások | J4: Egyéb működési célú támogatás Áht-n belül | L4: Egyéb működési célú kiadások | N4: Beruházások | P4: Felújítások | R4: Tartalék | T4: Finanszírozási kiadások | V4: Összesen
A5: 1 | C5: Szakfeladat | D5: 2025. évi előirányzat | E5: 2025. évi mód. előir | F5: 2025. évi előirányzat | G5: 2025. évi mód. előir | H5: 2025. évi előirányzat | I5: 2025. évi mód. előir | J5: 2025. évi előirányzat | K5: 2025. évi mód. előir | L5: 2025. évi előirányzat | M5: 2025. évi mód. előir | N5: 2025. évi előirányzat | O5: 2025. évi mód. előir | P5: 2025. évi előirányzat | Q5: 2025. évi mód. előir | R5: 2025. évi előirányzat | S5: 2025. évi mód. előir | T5: 2025. évi előirányzat | U5: 2025. évi mód. előir | V5: 2025. évi előirányzat | W5: 2024. évi mód. előir | X5: 2024. évi előirányzat | Y5: 2025. évi mód. előir
A6: 2 | B6: államigazg | C6: Államigazgatási feladatok | D6: =33600000+8000000 -> 41600000 | E6: =33600000+8000000 -> 41600000 | F6: =D6*13% -> 5408000 | G6: =E6*13% -> 5408000 | V6: =D6+F6+H6+J6+L6+N6+P6+R6+T6 -> 47008000 | W6: =E6+G6+I6+K6+M6+O6+Q6+S6+U6 -> 47008000 | X6: =F6+H6+J6+L6+N6+P6+R6+T6+V6 -> 52416000 | Y6: =E6+G6+I6+K6+M6+O6+Q6+S6+U6 -> 47008000
A7: 3 | B7: kötelező | C7: Önkormányzati igazgatási tevékenység | D7: 136167000 | E7: 129726782 | F7: =23769790-F6 -> 18361790 | G7: 19381689 | H7: =12726800+3607000 -> 16333800 | I7: 14620082 | N7: 2000000 | O7: 913426 | V7: =D7+F7+H7+J7+L7+N7+P7+R7+T7 -> 172862590 | W7: =E7+G7+I7+K7+M7+O7+Q7+S7+U7 -> 164641979 | X7: =F7+H7+J7+L7+N7+P7+R7+T7+V7 -> 209558180 | Y7: =E7+G7+I7+K7+M7+O7+Q7+S7+U7 -> 164641979
A8: 5 | B8: kötelező | C8: önkományzati választás | V8: =D8+F8+H8+J8+L8+N8+P8+R8+T8 -> 0 | W8: =E8+G8+I8+K8+M8+O8+Q8+S8+U8 -> 0 | X8: =F8+H8+J8+L8+N8+P8+R8+T8+V8 -> 0 | Y8: =E8+G8+I8+K8+M8+O8+Q8+S8+U8 -> 0
A9: 6 | C9: Adó igazgatás | I9: 114748 | V9: =D9+F9+H9+J9+L9+N9+P9+R9+T9 -> 0 | Y9: =E9+G9+I9+K9+M9+O9+Q9+S9+U9 -> 114748
A10: 7.3 | C10: Alaptevékenység összesen | D10: =SUM(D6:D8) -> 177767000 | E10: =SUM(E6:E8) -> 171326782 | F10: =SUM(F6:F8) -> 23769790 | G10: =SUM(G6:G8) -> 24789689 | H10: =SUM(H6:H8) -> 16333800 | I10: =SUM(I6:I9) -> 14734830 | J10: =SUM(J6:J8) -> 0 | K10: =SUM(K6:K8) -> 0 | L10: =SUM(L6:L8) -> 0 | M10: =SUM(M6:M8) -> 0 | N10: =SUM(N6:N8) -> 2000000 | O10: =SUM(O6:O8) -> 913426 | P10: =SUM(P6:P8) -> 0 | Q10: =SUM(Q6:Q8) -> 0 | ... X10: =SUM(X6:X8) -> 261974180 | Y10: =SUM(Y6:Y9) -> 211764727
A11: 8.6 | C11: Kötelező | D11: =D7+D8 -> 136167000 | E11: =E7+E8 -> 129726782 | F11: =F7+F8 -> 18361790 | G11: =G7+G8 -> 19381689 | H11: =H7+H8 -> 16333800 | I11: =I7+I8+I9 -> 14734830 | J11: =J7+J8 -> 0 | K11: =K7+K8 -> 0 | L11: =L7+L8 -> 0 | M11: =M7+M8 -> 0 | N11: =N7+N8 -> 2000000 | O11: =O7+O8 -> 913426 | P11: =P7+P8 -> 0 | Q11: =Q7+Q8 -> 0 | ... X11: =X7+X8 -> 209558180 | Y11: =Y7+Y8+Y9 -> 164756727
A12: 9.9 | C12: Államigazgatási feladatok | D12: =D6 -> 41600000 | E12: =E6 -> 41600000 | F12: =F6 -> 5408000 | G12: =G6 -> 5408000 | H12: =H6 -> 0 | I12: =I6 -> 0 | J12: =J6 -> 0 | K12: =K6 -> 0 | ... Y12: =Y6 -> 47008000
A13: 11.2 | C13: Engedélyezett létszám | V13: 17 | W13: 17 | X13: 17 | Y13: 17
A14: 12.5 | C14: ebből: közfoglalkoztatott: | V14: 0 | W14: 0 | X14: 0 | Y14: 0

Sheet 14. GKP kiad
P1: 14. melléklet a .../2026. (....) önkormányzati rendelethez
C2: Gondozási Központ 2025. évi kiadások kiemelt előirányzatonként forintban
A3: A | B3: B | C3: C | D3: D | F3: E | H3: F | J3: G | L3: H | N3: I | P3: J | R3: K | T3: L | V3: M
A4: Sor szám | B4: Kötelező/nem kötelező | C4: Kiemelt előirányzatok | D4: Személyi juttatások | F4: Szociális hozzájárulási adó | H4: Dologi kiadások | J4: Önkormányzat által folyósított ellátások | L4: Egyéb működési célú kiadások Áht-n kívülre | N4: Beruházások | P4: Felújítások | R4: Tartalék | T4: Finanszíroszási kiadások | V4: Összesen
A5: 1. | C5: Szakfeladat | D5: 2025. évi előirányzat | E5: 2025. évi mód. előir | F5: 2025. évi előirányzat | G5: 2025. évi mód. előir | H5: 2025. évi előirányzat | I5: 2025. évi mód. előir | J5: 2025. évi előirányzat | K5: 2025. évi mód. előir | L5: 2025. évi előirányzat | M5: 2025. évi mód. előir | N5: 2025. évi előirányzat | O5: 2025. évi mód. előir | P5: 2025. évi előirányzat | Q5: 2025. évi mód. előir | R5: 2025. évi előirányzat | S5: 2025. évi mód. előir | T5: 2025. évi előirányzat | U5: 2025. évi mód. előir | V5: 2025. évi előirányzat | W5: 2025. évi mód. előir
A6: 2. | B6: kötelező | C6: Háziorvosi alapellátás | F6: =D6*13% -> 0 | G6: 14701 | H6: =2083500+705000 -> 2788500 | I6: 3702673 | V6: =T6+R6+P6+N6+L6+J6+H6+F6+D6 -> 2788500 | W6: =E6+G6+I6+K6+M6+O6+Q6+S6+U6 -> 3717374 | X6: =W6-V6 -> 928874
A7: 3. | B7: kötelező | C7: Fogorvosi alapellátás | E7: 14423 | F7: =D7*13% -> 0 | G7: 5770 | H7: =720000+65000 -> 785000 | I7: 754115 | V7: =T7+R7+P7+N7+L7+J7+H7+F7+D7 -> 785000 | W7: =E7+G7+I7+K7+M7+O7+Q7+S7+U7 -> 774308 | X7: =W7-V7 -> -10692
A8: 4. | B8: nem kötelező | C8: Egészségügyi labor | D8: 1103954 | E8: 1020192 | F8: =D8*13% -> 143514.02 | G8: 140330 | H8: =1863500+400000 -> 2263500 | I8: 1739987 | V8: =T8+R8+P8+N8+L8+J8+H8+F8+D8 -> 3510968 | W8: =E8+G8+I8+K8+M8+O8+Q8+S8+U8 -> 2900509 | X8: =W8-V8 -> -610459.02
A9: 5. | B9: kötelező | C9: Család és nővédelmi eü. gondozás | F9: =D9*13% -> 0 | G9: =E9*13% -> 0 | H9: =590672+440000 -> 1030672 | I9: 622842 | V9: =T9+R9+P9+N9+L9+J9+H9+F9+D9 -> 1030672 | W9: =E9+G9+I9+K9+M9+O9+Q9+S9+U9 -> 622842 | X9: =W9-V9 -> -407830
A10: 6. | B10: kötelező | C10: Ifjúsági- egészségügyi gondozás | F10: =D10*13% -> 0 | G10: =E10*13% -> 0 | H10: =1200000+400000+200000 -> 1800000 | I10: 1621151 | V10: =T10+R10+P10+N10+L10+J10+H10+F10+D10 -> 1800000 | W10: =E10+G10+I10+K10+M10+O10+Q10+S10+U10 -> 1621151 | X10: =W10-V10 -> -178849
A11: 7. | B11: nem kötelező | C11: Időskorúak bentlakásos szoc. ell. | D11: =90082295+130000*12 -> 91642295 | E11: 104367020 | F11: =D11*13% -> 11913498 | G11: 14236557 | H11: =76082000+15900000 -> 91982000 | I11: 68899271 | N11: 2000000 | O11: 544380 | V11: =T11+R11+P11+N11+L11+J11+H11+F11+D11 -> 1.9753779e+08 | W11: =E11+G11+I11+K11+M11+O11+Q11+S11+U11 -> 188047228 | X11: =W11-V11 -> -9490565.3
A12: 8. | B12: kötelező | C12: Idősek nappali ellátása | D12: 15516488 | E12: 16499094 | F12: =D12*13% -> 2017143.4 | G12: 2162423 | H12: =2457500+1210000 -> 3667500 | I12: 3804517 | V12: =T12+R12+P12+N12+L12+J12+H12+F12+D12 -> 21201131 | W12: =E12+G12+I12+K12+M12+O12+Q12+S12+U12 -> 22466034 | X12: =W12-V12 -> 1264902.6
A13: 9. | B13: kötelező | C13: Tanyagondnoki szolgáltatás | D13: 4858556 | E13: 5233277 | F13: =D13*13% -> 631612.28 | G13: 674522 | H13: =3534000+50000 -> 3584000 | I13: 2764564 | L13: 30000 | M13: 0 | V13: =T13+R13+P13+N13+L13+J13+H13+F13+D13 -> 9104168.3 | W13: =E13+G13+I13+K13+M13+O13+Q13+S13+U13 -> 8672363 | X13: =W13-V13 -> -431805.28
A14: 10. | B14: kötelező | C14: Család és gyermekjóléti szolgáltatás | D14: 13490128 | E14: 17786768 | F14: =D14*13% -> 1753716.6 | G14: 2307700 | H14: =1275500+600000 -> 1875500 | I14: 1868221 | N14: 90000 | O14: 8000 | V14: =T14+R14+P14+N14+L14+J14+H14+F14+D14 -> 17209345 | W14: =E14+G14+I14+K14+M14+O14+Q14+S14+U14 -> 21970689 | X14: =W14-V14 -> 4761344.4
A15: 11. | B15: kötelező | C15: Szociális étkeztetés | D15: 4424148 | E15: 3707764 | F15: =D15*13% -> 575139.24 | G15: 482009 | H15: =3240340+5000000 -> 8240340 | I15: 5211495 | V15: =T15+R15+P15+N15+L15+J15+H15+F15+D15 -> 13239627 | W15: =E15+G15+I15+K15+M15+O15+Q15+S15+U15 -> 9401268 | X15: =W15-V15 -> -3838359.2
A16: 12. | B16: kötelező | C16: Házi segítségnyújtás | D16: 16984224 | E16: 17638032 | F16: =D16*13% -> 2207949.1 | G16: 2295909 | H16: =197000+25000 -> 222000 | I16: 257857 | N16: 320000 | V16: =T16+R16+P16+N16+L16+J16+H16+F16+D16 -> 19734173 | W16: =E16+G16+I16+K16+M16+O16+Q16+S16+U16 -> 20191798 | X16: =W16-V16 -> 457624.88
A17: 13. | C17: Alaptevékenység összesen | D17: =SUM(D6:D16) -> 148019793 | E17: =SUM(E6:E16) -> 166266570 | F17: =SUM(F6:F16) -> 19242573 | G17: =SUM(G6:G16) -> 22319921 | H17: =SUM(H6:H16) -> 118239012 | I17: =SUM(I6:I16) -> 91246693 | J17: =SUM(J6:J16) -> 0 | K17: =SUM(K6:K16) -> 0 | ... W17: =SUM(W6:W16) -> 280385564
A18: 14. | C18: Kötelező | D18: =SUMIF($B6:$B16,"kötelező",D6:D16) -> 55273544 | E18: =SUMIF($B6:$B16,"kötelező",E6:E16) -> 60879358 | F18: =SUMIF($B6:$B16,"kötelező",F6:F16) -> 7185560.7 | G18: =SUMIF($B6:$B16,"kötelező",G6:G16) -> 7943034 | H18: =SUMIF($B6:$B16,"kötelező",H6:H16) -> 23993512 | I18: =SUMIF($B6:$B16,"kötelező",I6:I16) -> 20607435 | J18: =SUMIF($B6:$B16,"kötelező",J6:J16) -> 0 | K18: =SUMIF($B6:$B16,"kötelező",K6:K16) -> 0 | ... W18: =SUMIF($B6:$B16,"kötelező",W6:W16) -> 89437827
A19: 15. | C19: Nem kötelező | D19: =SUMIF($B6:$B16,"nem kötelező",D6:D16) -> 92746249 | E19: =SUMIF($B6:$B16,"nem kötelező",E6:E16) -> 105387212 | F19: =SUMIF($B6:$B16,"nem kötelező",F6:F16) -> 12057012 | G19: =SUMIF($B6:$B16,"nem kötelező",G6:G16) -> 14376887 | H19: =SUMIF($B6:$B16,"nem kötelező",H6:H16) -> 94245500 | I19: =SUMIF($B6:$B16,"nem kötelező",I6:I16) -> 70639258 | J19: =SUMIF($B6:$B16,"nem kötelező",J6:J16) -> 0 | K19: =SUMIF($B6:$B16,"nem kötelező",K6:K16) -> 0 | ... W19: =SUMIF($B6:$B16,"nem kötelező",W6:W16) -> 190947737
A20: 16. | C20: Engedélyezett létszám | V20: 31 | W20: 31
A21: 17. | C21: ebből: közfoglalkoztatott: | V21: 0 | W21: 0

Sheet 15. VE kiad
P1: 15. melléklet a .../2026. (....) önkormányzati rendelethez
C2: Varázserdő Óvoda 2025. évi kiadások kiemelt előirányzatonként forintban
A3: A | B3: B | C3: C | D3: D | F3: E | H3: F | J3: G | L3: H | N3: I | P3: J | R3: K | T3: L | V3: M
A4: Sor szám | B4: Kötelező/nem kötelező | C4: Kiemelt előirányzatok | D4: Személyi juttatások | F4: Szociális hozzájárulási adó | H4: Dologi kiadások | J4: Önkormányzat által folyósított ellátások | L4: Egyéb működési célú kiadások | N4: Beruházások | P4: Felújítások | R4: Tartalék | T4: Finanszíroszási kiadások | V4: Összesen
A5: 1. | C5: Szakfeladat | D5: 2025. évi előirányzat | E5: 2025. évi mód. előir | F5: 2025. évi előirányzat | G5: 2025. évi mód. előir | H5: 2025. évi előirányzat | I5: 2025. évi mód. előir | J5: 2025. évi előirányzat | K5: 2025. évi mód. előir | L5: 2025. évi előirányzat | M5: 2025. évi mód. előir | N5: 2025. évi előirányzat | O5: 2025. évi mód. előir | P5: 2025. évi előirányzat | Q5: 2025. évi mód. előir | R5: 2025. évi előirányzat | S5: 2025. évi mód. előir | T5: 2025. évi előirányzat | U5: 2025. évi mód. előir | V5: 2025. évi előirányzat | W5: 2024. évi mód. előir | X5: 2024. évi előirányzat | Y5: 2024. évi mód. előir
A6: 2. | B6: kötelező | C6: Óvodai nevelés, ellátás | D6: 138178973 | E6: 163567138 | F6: 17843537 | G6: 20498235 | H6: =12165000+11100400+611500 -> 23876900 | I6: 10099183 | N6: 600000 | O6: 750900 | V6: =D6+F6+H6+J6+L6+N6+P6+R6 -> 180499410 | W6: =E6+G6+I6+K6+M6+O6+Q6+S6 -> 194915456 | X6: =F6+H6+J6+L6+N6+P6+R6+T6 -> 42320437 | Y6: =E6+G6+I6+K6+M6+O6+Q6+S6 -> 194915456
A7: 3. | B7: kötelező | C7: Minibölcsőde | D7: 16980723 | E7: 24826572 | F7: 2194494 | G7: 3210613 | H7: 1852200 | I7: 3846356 | N7: 150000 | O7: 1494919 | Q7: 3842323 | V7: =D7+F7+H7+J7+L7+N7+P7+R7 -> 21177417 | Y7: =E7+G7+I7+K7+M7+O7+Q7+S7 -> 37220783
A8: 4. | C8: Alaptevékenység összesen | D8: =SUM(D6:D7) -> 155159696 | E8: =SUM(E6:E7) -> 188393710 | F8: =SUM(F6:F7) -> 20038031 | G8: =SUM(G6:G7) -> 23708848 | H8: =SUM(H6:H7) -> 25729100 | I8: =SUM(I6:I7) -> 13945539 | J8: =SUM(J6:J7) -> 0 | K8: =SUM(K6:K7) -> 0 | ... V8: =SUM(V6:V7) -> 201676827 | W8: =SUM(W6:W6) -> 194915456 | X8: =SUM(X6:X6) -> 42320437 | Y8: =SUM(Y6:Y7) -> 232136239
A9: 5. | C9: Kötelező | D9: =SUMIF($B6:$B7,"kötelező",D6:D7) -> 155159696 | E9: =SUMIF($B6:$B7,"kötelező",E6:E7) -> 188393710 | F9: =SUMIF($B6:$B7,"kötelező",F6:F7) -> 20038031 | G9: =SUMIF($B6:$B7,"kötelező",G6:G7) -> 23708848 | H9: =SUMIF($B6:$B7,"kötelező",H6:H7) -> 25729100 | I9: =SUMIF($B6:$B7,"kötelező",I6:I7) -> 13945539 | J9: =SUMIF($B6:$B7,"kötelező",J6:J7) -> 0 | K9: =SUMIF($B6:$B7,"kötelező",K6:K7) -> 0 | ... Y9: =SUMIF($B6:$B7,"kötelező",Y6:Y7) -> 232136239
A10: 6. | C10: Nem kötelező | D10: =SUMIF($B6:$B7,"nem kötelező",D6:D7) -> 0 | E10: =SUMIF($B6:$B7,"nem kötelező",E6:E7) -> 0 | F10: =SUMIF($B6:$B7,"nem kötelező",F6:F7) -> 0 | G10: =SUMIF($B6:$B7,"nem kötelező",G6:G7) -> 0 | H10: =SUMIF($B6:$B7,"nem kötelező",H6:H7) -> 0 | I10: =SUMIF($B6:$B7,"nem kötelező",I6:I7) -> 0 | J10: =SUMIF($B6:$B7,"nem kötelező",J6:J7) -> 0 | K10: =SUMIF($B6:$B7,"nem kötelező",K6:K7) -> 0 | ... Y10: =SUMIF($B6:$B7,"nem kötelező",Y6:Y7) -> 0
A11: 7. | C11: Engedélyezett létszám | V11: 23 | W11: 23 | X11: 23 | Y11: 23
A12: 8. | C12: ebből: közfoglalkoztatott: | V12: 0 | W12: 0 | X12: 0 | Y12: 0

Sheet 16. MH kiad
P1: 16.melléklet a .../2026. (....) önkormányzati rendelethez
B2: Művelődési Ház és Könyvtár 2025. évi kiadások kiemelt előirányzatonként forintban
A3: A | B3: B | C3: C | D3: D | F3: E | H3: F | J3: G | L3: H | N3: I | P3: J | R3: K | T3: L | V3: M
A4: Sor szám | B4: Kötelező/nem kötelező | C4: Kiemelt előirányzatok | D4: Személyi juttatások | F4: Szociális hozzájárulási adó | H4: Dologi kiadások | J4: Önkormányzat által folyósított ellátások | L4: Egyéb működési célú kiadások Áht-n kívülre | N4: Beruházások | P4: Felújítások | R4: Tartalék | T4: Finanszíroszási kiadások | V4: Összesen
A5: 1 | C5: Szakfeladat | D5: 2025. évi előirányzat | E5: 2025. évi mód. előir | F5: 2025. évi előirányzat | G5: 2025. évi mód. előir | H5: 2025. évi előirányzat | I5: 2025. évi mód. előir | J5: 2025. évi előirányzat | K5: 2025. évi mód. előir | L5: 2025. évi előirányzat | M5: 2025. évi mód. előir | N5: 2025. évi előirányzat | O5: 2025. évi mód. előir | P5: 2025. évi előirányzat | Q5: 2025. évi mód. előir | R5: 2025. évi előirányzat | S5: 2025. évi mód. előir | T5: 2025. évi előirányzat | U5: 2025. évi mód. előir | V5: 2025. évi előirányzat | W5: 2024. évi mód. előir | X5: 2024. évi előirányzat | Y5: 2024. évi mód. előir
A6: 2 | B6: kötelező | C6: Művelődési Ház és Könyvtár | D6: 23242400 | E6: 22971318 | F6: 3021512 | G6: 3143701 | H6: =10009500+1400000 -> 11409500 | I6: 12507001 | N6: 150000 | O6: 1204506 | V6: =T6+R6+P6+N6+L6+J6+H6+F6+D6 -> 37823412 | W6: 173 | X6: 211 | Y6: =E6+G6+I6+K6+M6+O6+Q6+S6+U6 -> 39826526
A7: 3 | B7: nem kötelező | C7: Schéner ház | H7: 92000 | I7: 444802 | V7: =T7+R7+P7+N7+L7+J7+H7+F7+D7 -> 92000 | W7: =C7+E7+G7+I7+K7+M7+O7+Q7+S7 -> #VALUE! | X7: =D7+F7+H7+J7+L7+N7+P7+R7+T7 -> 92000 | Y7: =E7+G7+I7+K7+M7+O7+Q7+S7+U7 -> 444802
A8: 4 | B8: nem kötelező | C8: Rendezvények | E8: 194345 | H8: 9000000 | I8: 4193646 | V8: =T8+R8+P8+N8+L8+J8+H8+F8+D8 -> 9000000 | W8: 6614 | X8: 6801 | Y8: =E8+G8+I8+K8+M8+O8+Q8+S8+U8 -> 4387991
A9: 5 | B9: nem kötelező | C9: Civil-ház | I9: 111478 | V9: =T9+R9+P9+N9+L9+J9+H9+F9+D9 -> 0 | Y9: =E9+G9+I9+K9+M9+O9+Q9+S9+U9 -> 111478
A10: 6 | C10: Alaptevékenység összesen | D10: =SUM(D6:D8) -> 23242400 | E10: =SUM(E6:E8) -> 23165663 | F10: =SUM(F6:F8) -> 3021512 | G10: =SUM(G6:G8) -> 3143701 | H10: =SUM(H6:H8) -> 20501500 | I10: =SUM(I6:I9) -> 17256927 | J10: =SUM(J6:J8) -> 0 | K10: =SUM(K6:K8) -> 0 | L10: =SUM(L6:L8) -> 0 | M10: =SUM(M6:M8) -> 0 | N10: =SUM(N6:N8) -> 150000 | O10: =SUM(O6:O8) -> 1204506 | P10: =SUM(P6:P8) -> 0 | Q10: =SUM(Q6:Q8) -> 0 | ... X10: =SUM(X6:X8) -> 99012 | Y10: =E10+G10+I10+K10+M10+O10+Q10+S10+U10 -> 44770797
A11: 7 | C11: Kötelező | D11: =SUMIF(B6:B8,"kötelező",D6:D8) -> 23242400 | E11: =SUMIF($B6:$B8,"kötelező",E6:E8) -> 22971318 | F11: =SUMIF($B6:$B8,"kötelező",F6:F8) -> 3021512 | G11: =SUMIF($B6:$B8,"kötelező",G6:G8) -> 3143701 | H11: =SUMIF($B6:$B8,"kötelező",H6:H8) -> 11409500 | I11: =SUMIF($B6:$B9,"kötelező",I6:I9) -> 12507001 | J11: =SUMIF($B6:$B8,"kötelező",J6:J8) -> 0 | K11: =SUMIF($B6:$B8,"kötelező",K6:K8) -> 0 | L11: =SUMIF($B6:$B8,"kötelező",L6:L8) -> 0 | M11: =SUMIF($B6:$B8,"kötelező",M6:M8) -> 0 | N11: =SUMIF($B6:$B8,"kötelező",N6:N8) -> 150000 | O11: =SUMIF($B6:$B8,"kötelező",O6:O8) -> 1204506 | P11: =SUMIF($B6:$B8,"kötelező",P6:P8) -> 0 | Q11: =SUMIF($B6:$B8,"kötelező",Q6:Q8) -> 0 | ... X11: =SUMIF($B6:$B8,"kötelező",X6:X8) -> 211 | Y11: =SUMIF($B6:$B9,"kötelező",Y6:Y9) -> 39826526
A12: 8 | C12: Nem kötelező | D12: =SUMIF($B6:$B8,"nem kötelező",D6:D8) -> 0 | E12: =SUMIF($B6:$B8,"nem kötelező",E6:E8) -> 194345 | F12: =SUMIF($B6:$B8,"nem kötelező",F6:F8) -> 0 | G12: =SUMIF($B6:$B8,"nem kötelező",G6:G8) -> 0 | H12: =SUMIF($B6:$B8,"nem kötelező",H6:H8) -> 9092000 | I12: =SUMIF($B6:$B9,"nem kötelező",I6:I9) -> 4749926 | J12: =SUMIF($B6:$B8,"nem kötelező",J6:J8) -> 0 | K12: =SUMIF($B6:$B8,"nem kötelező",K6:K8) -> 0 | L12: =SUMIF($B6:$B8,"nem kötelező",L6:L8) -> 0 | M12: =SUMIF($B6:$B8,"nem kötelező",M6:M8) -> 0 | N12: =SUMIF($B6:$B8,"nem kötelező",N6:N8) -> 0 | O12: =SUMIF($B6:$B8,"nem kötelező",O6:O8) -> 0 | P12: =SUMIF($B6:$B8,"nem kötelező",P6:P8) -> 0 | Q12: =SUMIF($B6:$B8,"nem kötelező",Q6:Q8) -> 0 | ... X12: =SUMIF($B6:$B8,"nem kötelező",X6:X8) -> 98801 | Y12: =SUMIF($B6:$B9,"nem kötelező",Y6:Y9) -> 4944271
A13: 9 | C13: Engedélyezett létszám | V13: 5 | Y13: 5

Sheet 17.Beruh
B1: 17. melléklet a ……/2026.(…………) önkormányzati rendelethez
B3: Beruházási (felhalmozási) kiadások előírányzata beruházásonként
C4: forintban
A5: Sor szám | B5: Beruházás megnevezése | C5: 2025 évi előirányzat | D5: 2025. évi mód. előir
A6: 1 | B6: Sátor beszerzés | C6: 2540000 | D6: 1000000 | E6: ÖNK
A7: 2 | B7: Autó lízing | C7: 5000000 | E7: ÖNK
A8: 3 | B8: Klíma beszerzés start | C8: 600000 | D8: 600000 | E8: ÖNK
A9: 4 | B9: Szivattyú start | C9: 130048 | D9: 130048 | E9: ÖNK
A10: 5 | B10: Start eszközök: metszőolló, fűkasza | D10: 239310 | E10: ÖNK
A11: 6 | B11: Településüzemeltetés törzstőke emelés | C11: 0 | D11: 1000000 | E11: ÖNK
A12: 7 | B12: Emléktábla | D12: 406400 | E12: ÖNK
A13: 8 | B13: Vezetékes telefon | D13: 10470 | E13: ÖNK
A14: 9 | B14: Gondozási központ tető részbeni csere | C14: 2400000 | E14: ÖNK
A15: 10 | B15: TOP Plusz -1.1.1 Helyi gazdasági fejlesztés visszafizetés | C15: 139154715 | D15: 5028067 | E15: ÖNK
A16: 11 | B16: TOP Plusz -3.3.2-21 Idősek klubja visszafizetés | C16: 4961007 | D16: 3807013 | E16: ÖNK
A17: 12 | B17: TOP-Plusz-3.3.2-21 Háziorvis rendelő visszafizetés | D17: 2356112 | E17: ÖNK
A18: 13 | B18: TOP-Plusz 1.2.1-21 Élhető települések | C18: 345389427 | E18: ÖNK
A19: 14 | B19: Polgármesteri Hivatal informatikai eszközök beszerzése | C19: 1000000 | D19: 223726 | E19: Hivatal
A20: 15 | B20: Polgármesteri Hivatal bútor beszerzés | C20: 1000000 | D20: 689700 | E20: Hivatal
A21: 16 | B21: Könyvtár padlóburkolat | C21: 2000000 | E21: ÖNK
A22: 17 | B22: Könyvtár bútorok beszerzése | C22: 150000 | D22: 341995 | E22: Könyvtár
A23: 18 | B23: Könyvtár könyvek beszerzése | D23: 862511 | E23: Könyvtár
A24: 19 | B24: Óvoda klíma beszerzés | C24: 750000 | D24: 750900 | E24: Óvoda
A25: 20 | B25: Bölcsi számítógép, laptop beszerzés | D25: 1322939 | E25: Bölcsőde
A26: 21 | B26: Bölcsi hangszóró beszerzés | D26: 171980 | E26: Bölcsőde
A27: 22 | B27: Kerékpár beszerzés házi segítség nyújtás | C27: 320000 | E27: GKP
A28: 23 | B28: Apartman bútor beszerzés | C28: 2000000 | D28: 544380 | E28: GKP
A29: 24 | B29: Irodai szék gyerekjólét | C29: 80000 | E29: GKP
A30: 25 | B30: víz forraló gyerekjólét | C30: 10000 | D30: 8000 | E30: GKP
B31: ÖSSZESEN: | C31: =SUM(C6:C30) -> 507485197 | D31: =SUM(D6:D30) -> 19493551

Sheet 18.Felújít
B1: 18. melléklet a ……/2026.(…………) önkormányzati rendelethez
B3: Felújítási kiadások előírányzata felújításonként
D4: forintban
A5: Sor szám | B5: Felújítás megnevezése | C5: 2025. évi előirányzat | D5: 2025. évi mód. előir
A6: 1 | B6: Önkormányzat
A7: 2 | B7: Művelődési Ház és Könyvtár napelem rendszer korszerűsítése | C7: 2000000
A8: 3 | B8: Magyar falu önkormányzati tulajdonú épületek korszerűsítése | C8: 11993143
A9: 4 | B9: TOP Plusz -3.3.2-21 Háziorvosi ellátás | C9: 48996600 | D9: 40980152
A10: 5 | B10: TOP Plusz -3.3.2-21 Idősek klubbja | C10: 74404149 | D10: 41986456
A11: 6 | B11: Top-Plusz 2.1.1-21 Önkormányzati épületek energetikai korszerűsítése | C11: =99725880+7195986 -> 106921866 | D11: 67238921
A12: 7 | B12: Lakóingatlanok villamos hálózat felújítása | C12: 0 | D12: 1024330
A13: 8 | B13: Magyar Falu Útfelújítás | C13: 0 | D13: 2540000
A14: 9 | B14: Kazáncsere Dózsa u. 2. | D14: 669639
A15: 10 | B15: 3. számú faház felújítása | D15: 360000
A16: 11 | B16: MFP/OTIFB/2024 Idősek otthona hőközpont rekonstrukciója | D16: 3602497
A17: 12 | B17: Bölcsőde 3 db klíma beszerzés és villanyszerelése | D17: 2455000
A18: 13 | B18: Bölcsőde Automata öntözőrendszer | D18: 1387323
A19: 14 | B19: Összesen: | C19: =SUM(C7:C13) -> 244315758 | D19: =SUM(D7:D18) -> 162244318

Sheet 19. adósságot keltk köt
A1: 19. számú melléklet a ……../2026.(………..) önkormányzati rendelethez
A3: Medgyesegyháza Városi Önkormányzat adósságot keletkeztető ügyletekből és kötelezettségvállalásokból fennálló kötelezettségei
F5: Forintban!
A6: Sor- szám | B6: Megnevezés | C6: Évek
C7: 2025 | D7: 2026 | E7: 2027 | F7: Összesen F=(C+D+E)
A8: A | B8: B | C8: C | D8: D | E8: E | F8: F
A9: 1. | B9: Éven túli célhitel törlesztő részlete + kamat | C9: 5423244 | F9: =SUM(C9:E9) -> 5423244
A10: 2. | B10: Éven túli célhitel törlesztő részlete + kamat | C10: =11580000+19068000 -> 30648000 | D10: =11580000+16791000 -> 28371000 | E10: =11580000+14555000 -> 26135000 | F10: =SUM(C10:E10) -> 85154000
A11: 3.
A12: 4.
A13: 5.
A14: 6. | B14: ÖSSZES KÖTELEZETTSÉG: | C14: =SUM(C9:C13) -> 36071244 | D14: =SUM(D9:D13) -> 28371000 | E14: =SUM(E9:E13) -> 26135000 | F14: =SUM(C14:E14) -> 90577244

Sheet 20. Önkormányzat saját bev
A1: 20. számú melléklet a ………/2026.(………) önkormányzati rendelethez
A3: Medgyesegyháza Városi Önkormányzat saját bevételeinek részletezése az adósságot keletkeztető ügyletekből származó tárgyévi fizetési kötelezettség megállapításához
C5: Forintban
A6: Sor- szám | B6: Bevételi jogcímek | C6: 2025. évi előirányzat | D6: 2025. évi mód. előir
A7: A | B7: B | C7: C | D7: C
A8: 1. | B8: Helyi adóból és a települési adóból származó bevétel | C8: =170000000+180000+1930000+88000+25000000 -> 197198000 | D8: 177130466
A9: 2. | B9: Az önkormányzati vagyon és az önkormányzatot megillető vagyoni értékű jog értékesítéséből és hasznosításából származó bevétel | C9: 40000000 | D9: 37410036
A10: 3. | B10: Osztalék, koncessziós díj és hozambevétel
A11: 4. | B11: Tárgyi eszköz és az immateriális jószág, részvény, részesedés, vállalat értékesítéséből származó bevétel | D11: 1614961
A12: 5. | B12: Bírság-, pótlék- díjbevétel | C12: =949000+88000 -> 1037000 | D12: 1446240
A13: 6. | B13: Kezesség,- illetve garanciavállalással kapcsolatos megtérülés
A14: 7. | B14: SAJÁT BEVÉTELEK ÖSSZESEN: | C14: =SUM(C8:C12) -> 238235000 | D14: =SUM(D8:D12) -> 217601703

Sheet 21. adóss. fejl
A1: 21. melléklet a ………/2026.(…………..) önkormányzati rendelethet
A3: Medgyesegyháza Városi Önkormányzat 2025. évi adósságot keletkeztető fejlesztési céljai
C5: Ezer forintban
A6: Sor- szám | B6: Fejlesztési cél leírása | C6: Fejlesztés várható kiadása
A7: A | B7: B | C7: C
A8: 1.
A9: 2.
A10: 3.
A11: 4.
A12: 5.
A13: 6.
A14: 7. | B14: ADÓSSÁGOT KELETKEZTETŐ ÜGYLETEK VÁRHATÓ EGYÜTTES ÖSSZEGE

Sheet 22. EU-s
A1: 22. melléklet a ……../2026.(…………) önkormányzati rendelethez
A3: Európai Uniós támogatással megvalósuló porjektek bevételei, kiadásai, hozzájárulások
A5: EU-s projekt neve, azonosítója: TOP-Plusz 1.2.1-21 Élhető települések
A6: Források | B6: 2025. | C6: 2026 | D6: 2026. után | E6: Összesen:
A7: Saját erő | E7: =SUM(B7:D7) -> 0
A8: saját erőből központi támogatás | E8: =SUM(B8:D8) -> 0
A9: EU-s forrás | B9: 343055070 | E9: =SUM(B9:D9) -> 343055070
A10: Társfinanszírozás | E10: =SUM(B10:D10) -> 0
A11: Hitel | E11: =SUM(B11:D11) -> 0
A12: Költségvetési maradvány | B12: 6181953 | E12: =SUM(B12:D12) -> 6181953
E13: =SUM(B13:D13) -> 0
A14: Források összesen: | B14: =SUM(B7:B13) -> 349237023 | C14: =SUM(C7:C13) -> 0 | E14: =SUM(B14:D14) -> 349237023
A16: Kiadások, költségek | B16: 2025. | C16: 2026 | D16: 2026. után | E16: Összesen:
A17: Személyi jellegű | E17: =SUM(B17:D17) -> 0
A18: Beruházások, beszerzések | B18: 345389427 | E18: =SUM(B18:D18) -> 345389427
A19: Szolgáltatások igénybe vétele | B19: 3847596 | E19: =SUM(B19:D19) -> 3847596
A20: Adminisztratív költségek | E20: =SUM(B20:D20) -> 0
A21: Tartalék | E21: =SUM(B21:D21) -> 0
A22: Kiadások, költségek összesen: | B22: =SUM(B17:B21) -> 349237023 | C22: =SUM(C17:C21) -> 0 | D22: =SUM(D17:D21) -> 0 | E22: =SUM(E17:E21) -> 349237023
A25: EU-s projekt neve, azonosítója: Top-Plusz 2.1.1-21 Önkormányzati épületek energetikai korszerűsítése
A26: Források | B26: 2025. | C26: 2026 | D26: 2026. után | E26: Összesen:
A27: Saját erő | B27: 7195986 | E27: =SUM(B27:D27) -> 7195986
A28: saját erőből központi támogatás | E28: =SUM(B28:D28) -> 0
A29: EU-s forrás | B29: 90209838 | E29: =SUM(B29:D29) -> 90209838
A30: Társfinanszírozás | E30: =SUM(B30:D30) -> 0
A31: Hitel | E31: =SUM(B31:D31) -> 0
A32: Költségvetési maradvány | B32: 10155728 | E32: =SUM(B32:D32) -> 10155728
E33: =SUM(B33:D33) -> 0
A34: Források összesen: | B34: =SUM(B27:B33) -> 107561552 | C34: =SUM(C27:C33) -> 0 | E34: =SUM(B34:D34) -> 107561552
A36: Kiadások, költségek | B36: 2025. | C36: 2026 | D36: 2026. után | E36: Összesen:
A37: Személyi jellegű | E37: =SUM(B37:D37) -> 0
A38: Beruházások, beszerzések | B38: 106921866 | E38: =SUM(B38:D38) -> 106921866
A39: Szolgáltatások igénybe vétele | B39: 639685 | E39: =SUM(B39:D39) -> 639685
A40: Adminisztratív költségek | E40: =SUM(B40:D40) -> 0
A41: Tartalék
A42: Kiadások, költségek összesen: | B42: =SUM(B37:B41) -> 107561551 | C42: =SUM(C37:C41) -> 0 | D42: =SUM(D37:D41) -> 0 | E42: =SUM(E37:E41) -> 107561551
A44: EU-s projekt neve, azonosítója: Top-Plusz 1.1.1-21 Helyi gazdasági fejlesztés
A45: Források | B45: 2025. | C45: 2026 | D45: 2026. után | E45: Összesen:
A46: Saját erő | B46: =6935015+1409700 -> 8344715 | E46: =SUM(B46:D46) -> 8344715
A47: saját erőből központi támogatás | E47: =SUM(B47:D47) -> 0
A48: EU-s forrás | B48: 134638976 | E48: =SUM(B48:D48) -> 134638976
A49: Társfinanszírozás | E49: =SUM(B49:D49) -> 0
A50: Hitel | E50: =SUM(B50:D50) -> 0
A51: Költségvetési maradvány | B51: 2070067 | E51: =SUM(B51:D51) -> 2070067
E52: =SUM(B52:D52) -> 0
A53: Források összesen: | B53: =SUM(B46:B52) -> 145053758 | C53: =SUM(C46:C52) -> 0 | E53: =SUM(B53:D53) -> 145053758
A55: Kiadások, költségek | B55: 2025. | C55: 2026 | D55: 2026. után | E55: Összesen:
A56: Személyi jellegű | E56: =SUM(B56:D56) -> 0
A57: Beruházások, beszerzések | B57: 139154715 | E57: =SUM(B57:D57) -> 139154715
A58: Szolgáltatások igénybe vétele | B58: 5899046 | E58: =SUM(B58:D58) -> 5899046
A59: Adminisztratív költségek | E59: =SUM(B59:D59) -> 0
A60: Tartalék
A61: Kiadások, költségek összesen: | B61: =SUM(B56:B60) -> 145053761 | C61: =SUM(C56:C60) -> 0 | D61: =SUM(D56:D60) -> 0 | E61: =SUM(E56:E60) -> 145053761
A63: EU-s projekt neve, azonosítója: Top-Plusz 3.3.2.-21 Háziorvosi ellátás
A64: Források | B64: 2025. | C64: 2026 | D64: 2026. után | E64: Összesen:
A65: Saját erő | E65: =SUM(B65:D65) -> 0
A66: saját erőből központi támogatás | E66: =SUM(B66:D66) -> 0
A67: EU-s forrás | B67: 48996854 | E67: =SUM(B67:D67) -> 48996854
A68: Társfinanszírozás | E68: =SUM(B68:D68) -> 0
A69: Hitel | E69: =SUM(B69:D69) -> 0
A70: Költségvetési maradvány | B70: 724228 | E70: =SUM(B70:D70) -> 724228
E71: =SUM(B71:D71) -> 0
A72: Források összesen: | B72: =SUM(B65:B71) -> 49721082 | C72: =SUM(C65:C71) -> 0 | E72: =SUM(B72:D72) -> 49721082
A74: Kiadások, költségek | B74: 2025. | C74: 2026 | D74: 2026. után | E74: Összesen:
A75: Személyi jellegű | E75: =SUM(B75:D75) -> 0
A76: Beruházások, beszerzések | B76: 48996600 | E76: =SUM(B76:D76) -> 48996600
A77: Szolgáltatások igénybe vétele | B77: 724482 | E77: =SUM(B77:D77) -> 724482
A78: Adminisztratív költségek | E78: =SUM(B78:D78) -> 0
A79: Tartalék
A80: Kiadások, költségek összesen: | B80: =SUM(B75:B79) -> 49721082 | C80: =SUM(C75:C79) -> 0 | D80: =SUM(D75:D79) -> 0 | E80: =SUM(E75:E79) -> 49721082
A82: EU-s projekt neve, azonosítója: Top-Plusz 3.3.2.-21 Idősek klubja
A83: Források | B83: 2025. | C83: 2026 | D83: 2026. után | E83: Összesen:
A84: Saját erő | E84: =SUM(B84:D84) -> 0
A85: saját erőből központi támogatás | E85: =SUM(B85:D85) -> 0
A86: EU-s forrás | B86: 79401623 | E86: =SUM(B86:D86) -> 79401623
A87: Társfinanszírozás | E87: =SUM(B87:D87) -> 0
A88: Hitel | E88: =SUM(B88:D88) -> 0
A89: Költségvetési maradvány | B89: 1283314 | E89: =SUM(B89:D89) -> 1283314
E90: =SUM(B90:D90) -> 0
A91: Források összesen: | B91: =SUM(B84:B90) -> 80684937 | C91: =SUM(C84:C90) -> 0 | E91: =SUM(B91:D91) -> 80684937
A93: Kiadások, költségek | B93: 2025. | C93: 2026 | D93: 2026. után | E93: Összesen:
A94: Személyi jellegű | E94: =SUM(B94:D94) -> 0
A95: Beruházások, beszerzések | B95: =4961007+74404149 -> 79365156 | E95: =SUM(B95:D95) -> 79365156
A96: Szolgáltatások igénybe vétele | E96: =SUM(B96:D96) -> 0
A97: Adminisztratív költségek | B97: 1319781 | E97: =SUM(B97:D97) -> 1319781
A98: Tartalék
A99: Kiadások, költségek összesen: | B99: =SUM(B94:B98) -> 80684937 | C99: =SUM(C94:C98) -> 0 | D99: =SUM(D94:D98) -> 0 | E99: =SUM(E94:E98) -> 80684937
A101: EU-s projekt neve, azonosítója: Top-Plusz 1.2.3.-21 Belterületi utak
A102: Források | B102: 2025. | C102: 2026 | D102: 2026. után | E102: Összesen:
A103: Saját erő | E103: =SUM(B103:D103) -> 0
A104: saját erőből központi támogatás | E104: =SUM(B104:D104) -> 0
A105: EU-s forrás | E105: =SUM(B105:D105) -> 0
A106: Társfinanszírozás | E106: =SUM(B106:D106) -> 0
A107: Hitel | E107: =SUM(B107:D107) -> 0
A108: Költségvetési maradvány | B108: 208456 | E108: =SUM(B108:D108) -> 208456
E109: =SUM(B109:D109) -> 0
A110: Források összesen: | B110: =SUM(B103:B109) -> 208456 | C110: =SUM(C103:C109) -> 0 | E110: =SUM(B110:D110) -> 208456
A112: Kiadások, költségek | B112: 2025. | C112: 2026 | D112: 2026. után | E112: Összesen:
A113: Személyi jellegű | E113: =SUM(B113:D113) -> 0
A114: Beruházások, beszerzések | E114: =SUM(B114:D114) -> 0
...
