Workbook
Name Verzió: #REF!
Name Verzió: #REF!
Name Verzió: #REF!
Name Verzió: #REF!
Name Verzió: #REF!
Name Verzió: #REF!
Name Verzió: #REF!
Name Verzió: #REF!
Name Verzió: #REF!
Name Verzió: #REF!

Sheet 1.összevont
B1: 1. melléklet a /2026.(………………) önkormányzati rendelethez
A2: Medgyesegyháza Városi Önkormányzat
A3: 2026. ÉVI KÖLTSÉGVETÉSÉNEK ÖSSZEVONT MÉRLEGE (forintban)
A4: BEVÉTELEK
B6: A | C6: B | D6: C | E6: D
B7: Sor- szám | C7: Bevételi jogcímek | D7: 2026. évi előirányzat | E7: 2026. évi mód. előir
B8: 1. | C8: Önkormányzatok működési támogatásai (1.1+……+1.6.) | D8: =SUM(D9:D14) -> 798886177 | E8: =SUM(E9:E14) -> 0
B9: 1.1. | C9: Helyi önkormányzatok működésének általános támogatása(B111) | D9: ='7.Önk bev.'!I14 -> 192686995 | E9: ='7.Önk bev.'!J14 -> 0
B10: 1.2. | C10: Önkormányzatok egyes köznevelési feladatainak támogatása(B112) | D10: ='7.Önk bev.'!I15 -> 174939896 | E10: ='7.Önk bev.'!J15 -> 0
B11: 1.3. | C11: Önkormányzatok szociális és gyermekjóléti feladatainak támogatása(B113) | D11: ='7.Önk bev.'!I16+'7.Önk bev.'!I17+'7.Önk bev.'!I18+'7.Önk bev.'!I19 -> 223639060 | E11: ='7.Önk bev.'!J16+'7.Önk bev.'!J17+'7.Önk bev.'!J18+'7.Önk bev.'!J19 -> 0
B12: 1.4. | C12: Önkormányzatok kulturális feladatainak támogatása(B114) | D12: ='7.Önk bev.'!I20 -> 16592476 | E12: ='7.Önk bev.'!J20 -> 0
B13: 1.5. | C13: Működési célú költségvetési támogatások és kiegészítő támogatások(B115) | D13: ='7.Önk bev.'!I21 -> 173737773 | E13: ='7.Önk bev.'!J21 -> 0
B14: 1.6. | C14: Elszámolásból származó bevételek(B16) | D14: ='7.Önk bev.'!I22 -> 17289977 | E14: ='7.Önk bev.'!J22 -> 0
B15: 2. | C15: Működési célú támogatások ÁHT-n belülről (2.1+2.2.) | D15: =SUM(D16:D17) -> 33101775 | E15: =SUM(E16:E17) -> 0
B16: 2.1. | C16: Elvonások és befizetések bevételei
B17: 2.2. | C17: Egyéb működési célú támogatások bevételei (B16) | D17: ='7.Önk bev.'!M47 -> 33101775 | E17: ='7.Önk bev.'!N47 -> 0
B18: 2.3. | C18: 2.2.-ből EU-s támogatás
B19: 3. | C19: Felhalmozási célú támogatások ÁHT-n belülről (3.1.+3.2.) | D19: =SUM(D20:D21) -> 368354000 | E19: =SUM(E20:E21) -> 0
B20: 3.1. | C20: Felhalmozási célú önkormányzati támogatások(B23)
B21: 3.2. | C21: Egyéb felhalmozási célú támogatások(B25) | D21: ='7.Önk bev.'!O47 -> 368354000 | E21: ='7.Önk bev.'!P47 -> 0
B22: 3.3. | C22: 3.2.-ből EU-s támogatás | D22: 343055000
B23: 4. | C23: Közhatalmi bevételek (4.1+4.2.+4.3.+4.4.) | D23: =SUM(D25:D31) -> 227260000 | E23: =E24 -> 0
B24: 4.1. | C24: Helyi adók (4.1.1.+….+4.1.3) | D24: =SUM(D25:D28) -> 224360000 | E24: =SUM(E25:E31) -> 0
B25: 4.1.1. | C25: Jövedelemadók (Termőföld bérbeadás)(B35) | D25: ='7.Önk bev.'!G7 -> 140000 | E25: ='7.Önk bev.'!H7 -> 0
B26: 4.1.2. | C26: Értékesítési és forgalmi adók (iparűzési adó) | D26: ='7.Önk bev.'!G6 -> 180000000 | E26: ='7.Önk bev.'!H6 -> 0
B27: 4.2. | C27: Építményadó és kommunális adó | D27: ='7.Önk bev.'!G12+'7.Önk bev.'!G13 -> 44000000 | E27: ='7.Önk bev.'!H12+'7.Önk bev.'!H13 -> 0
B28: 4.3. | C28: Idegenforgalmi adó | D28: ='7.Önk bev.'!G11 -> 220000 | E28: ='7.Önk bev.'!H11 -> 0
B29: 4.4. | C29: Talajterhelési díj | D29: ='7.Önk bev.'!G8 -> 1500000 | E29: ='7.Önk bev.'!H8 -> 0
B30: 4.5. | C30: Egyéb közhatalmi bevételek | D30: ='7.Önk bev.'!G9 -> 0 | E30: ='7.Önk bev.'!H9 -> 0
B31: 4.6. | C31: Pőtlék, birság | D31: ='7.Önk bev.'!G10 -> 1400000 | E31: ='7.Önk bev.'!H10 -> 0
B32: 5. | C32: Működési bevételek (B4) | D32: ='7.Önk bev.'!E69 -> 108672000 | E32: ='7.Önk bev.'!F69 -> 0
B33: 6. | C33: Felhalmozási bevételek | D33: ='7.Önk bev.'!S69 -> 21457000 | E33: ='7.Önk bev.'!T69 -> 0
B34: 7. | C34: Működési célú átvett pénzeszközök | D34: ='7.Önk bev.'!Q62 -> 0 | E34: ='7.Önk bev.'!R62 -> 0
B35: 8. | C35: Felhalmozási célú átvett pénzeszközök
B36: 9. | C36: KÖLTSÉGVETÉSI BEVÉTELEK ÖSSZESEN: (1+…+8) | D36: =D8+D15+D19+D23+D32+D33+D34+D35 -> 1557730952 | E36: =E8+E15+E19+E23+E32+E33+E34+E35 -> 0
B37: 10. | C37: Hitel-, kölcsönfelévtel államháztartáson kívülről (10.1+…+10.3 | D37: =SUM(D38:D40) -> 500000000 | E37: =SUM(E38:E40) -> 0
B38: 10.1. | C38: Hosszú lejűratú hitelek, kölcsönök felvétele
B39: 10.2. | C39: Likviditási célú hitelek, kölcsönök felvétele pénzügyi vállalkozástól | D39: ='7.Önk bev.'!W44 -> 500000000 | E39: ='7.Önk bev.'!X44 -> 0
B40: 10.3. | C40: Rövid lejáratú hitelek, kölcsönök felvétele
B41: 11. | C41: Belföldi értékpapírok bevételei
...

Sheet 2.kötelező
A1: 2. melléklet a /2026.(………………) önkormányzati rendelethez
A2: Medgyesegyháza Városi Önkormányzat
A3: 2026. ÉVI KÖLTSÉGVETÉS KÖTELEZŐ FELADATAINAK MÉRLEGE (forintban)
A4: BEVÉTELEK
A6: A | B6: B | C6: C | D6: D
A7: Sor- szám | B7: Bevételi jogcímek | C7: 2026. évi előirányzat | D7: 2026. évi mód. előir
A8: 1. | B8: Önkormányzatok működési támogatásai (1.1+……+1.6.) | C8: =SUM(C9:C14) -> 696299616 | D8: =SUM(D9:D14) -> 0
A9: 1.1. | B9: Helyi önkormányzatok működésének általános támogatása(B11) | C9: ='7.Önk bev.'!I14 -> 192686995 | D9: ='1.összevont'!E9 -> 0
A10: 1.2. | B10: Önkormányzatok egyes köznevelési feladatainak támogatása(B12) | C10: ='7.Önk bev.'!I15 -> 174939896 | D10: ='1.összevont'!E10 -> 0
A11: 1.3. | B11: Önkormányzatok szociális és gyermekjóléti feladatainak támogatása(B13) | C11: ='7.Önk bev.'!I16+'7.Önk bev.'!I18+'7.Önk bev.'!I19 -> 121052499 | D11: ='7.Önk bev.'!J15+'7.Önk bev.'!J17+'7.Önk bev.'!J18 -> 0
A12: 1.4. | B12: Önkormányzatok kulturális feladatainak támogatása(B14) | C12: ='7.Önk bev.'!I20 -> 16592476 | D12: ='7.Önk bev.'!J19 -> 0
A13: 1.5. | B13: Működési célú költségvetési támogatások és kiegészítő támogatások(B15) | C13: ='7.Önk bev.'!I21 -> 173737773 | D13: ='7.Önk bev.'!J20 -> 0
A14: 1.6. | B14: Elszámolásból bevételek(B16) | C14: ='7.Önk bev.'!I22 -> 17289977 | D14: ='1.összevont'!E14 -> 0
A15: 2. | B15: Működési célú támogatások ÁHT-n belülről (2.1+2.2.) | C15: =SUM(C16:C17) -> 32158775 | D15: =SUM(D16:D17) -> 0
A16: 2.1. | B16: Elvonások és befizetések bevételei
A17: 2.2. | B17: Egyéb működési célú támogatások bevételei(B16) | C17: ='7.Önk bev.'!M25+'7.Önk bev.'!M26+'7.Önk bev.'!M29 -> 32158775 | D17: ='7.Önk bev.'!N41 -> 0
A18: 2.3. | B18: 2.2.-ből EU-s támogatás
A19: 3. | B19: Felhalmozási célú támogatások ÁHT-n belülről (3.1.+3.2.) | C19: =SUM(C20:C21) -> 0 | D19: =SUM(D20:D21) -> 0
A20: 3.1. | B20: Felhalmozási célú önkormányzati támogatások(B22)
A21: 3.2. | B21: Egyéb felhalmozási célú támogatások(B25) | C21: ='7.Önk bev.'!O59 -> 0 | D21: ='7.Önk bev.'!P59 -> 0
A22: 3.3. | B22: 3.2.-ből EU-s támogatás
A23: 4. | B23: Közhatalmi bevételek (4.1+4.2.+4.3.+4.4.) | C23: =C24+C29+C30+C31 -> 227260000 | D23: =D24+D29+D30+D31 -> 0
A24: 4.1. | B24: Helyi adók (4.1.1.+….+4.1.3) | C24: =SUM(C25:C28) -> 224360000 | D24: =SUM(D25:D28) -> 0
A25: 4.1.1. | B25: Jövedelemadók (Termőföld bérbeadás) | C25: ='7.Önk bev.'!G7 -> 140000 | D25: ='7.Önk bev.'!H7 -> 0
A26: 4.1.2. | B26: Értékesítési és forgalmi adók (iparűzési adó) | C26: ='7.Önk bev.'!G6 -> 180000000 | D26: ='7.Önk bev.'!H6 -> 0
A27: 4.2. | B27: Építményadó és kommunális adó | C27: ='7.Önk bev.'!G12+'7.Önk bev.'!G13 -> 44000000 | D27: ='7.Önk bev.'!H12 -> 0
A28: 4.3. | B28: Idegenforgalmi adó | C28: ='7.Önk bev.'!G11 -> 220000 | D28: ='7.Önk bev.'!H11 -> 0
A29: 4.4. | B29: Talajterhelési díj | C29: ='7.Önk bev.'!G8 -> 1500000 | D29: ='7.Önk bev.'!H8 -> 0
A30: 4.5. | B30: Egyéb közhatalmi bevételek | C30: ='7.Önk bev.'!G9 -> 0 | D30: ='7.Önk bev.'!H9 -> 0
A31: 4.6. | B31: Pótlék, birság | C31: ='7.Önk bev.'!G10 -> 1400000 | D31: ='7.Önk bev.'!H10 -> 0
A32: 5. | B32: Működési bevételek (B4) | C32: ='7.Önk bev.'!E66 -> 59913000 | D32: ='7.Önk bev.'!F59 -> 0
A33: 6. | B33: Felhalmozási bevételek | C33: ='7.Önk bev.'!S32 -> 21457000
A34: 7. | B34: Működési célú átvett pénzeszközök | C34: ='7.Önk bev.'!Q59 -> 0 | D34: ='7.Önk bev.'!R59 -> 0
A35: 8. | B35: Felhalmozási célú átvett pénzeszközök | C35: 0 | D35: 0
A36: 9. | B36: KÖLTSÉGVETÉSI BEVÉTELEK ÖSSZESEN: (1+…+8) | C36: =C8+C15+C19+C23+C32+C33+C34+C35 -> 1037088391 | D36: =D8+D15+D19+D23+D32+D33+D34+D35 -> 0
A37: 10. | B37: Hitel-, kölcsönfelévtel államháztartáson kívülről (10.1+…+10.3 | C37: =SUM(C38:C40) -> 500000000 | D37: =SUM(D38:D40) -> 0
A38: 10.1. | B38: Hosszú lejűratú hitelek, kölcsönök felvétele
A39: 10.2. | B39: Likviditási célú hitelek, kölcsönök felvétele pénzügyi vállalkozástól | C39: ='7.Önk bev.'!W44 -> 500000000 | D39: ='7.Önk bev.'!X59 -> 0
A40: 10.3. | B40: Rövid lejáratú hitelek, kölcsönök felvétele
A41: 11. | B41: Belföldi értékpapírok bevételei
...

Sheet 3.önként
A1: 3. melléklet a /2026.(………………) önkormányzati rendelethez
A2: Medgyesegyháza Városi Önkormányzat
A3: 2026. ÉVI KÖLTSÉGVETÉS ÖNKÉNT VÁLLALT FELADATAINAK MÉRLEGE (forintban)
A4: BEVÉTELEK
A6: A | B6: B | C6: C | D6: D
A7: Sor- szám | B7: Bevételi jogcímek | C7: 2026. évi előirányzat | D7: 2026. évi mód. előir
A8: 1. | B8: Önkormányzatok működési támogatásai (1.1+……+1.6.) | C8: =SUM(C9:C14) -> 102586561 | D8: =SUM(D9:D14) -> 0
A9: 1.1. | B9: Helyi önkormányzatok működésének általános támogatása
A10: 1.2. | B10: Önkormányzatok egyes köznevelési feladatainak támogatása
A11: 1.3. | B11: Önkormányzatok szociális és gyermekjóléti feladatainak támogatása | C11: ='7.Önk bev.'!I17 -> 102586561 | D11: ='7.Önk bev.'!J16 -> 0
A12: 1.4. | B12: Önkormányzatok kulturális feladatainak támogatása
A13: 1.5. | B13: Működési célú költségvetési támogatások és kiegészítő támogatások
A14: 1.6. | B14: Elszámolásból származó bevételek
A15: 2. | B15: Működési célú támogatások ÁHT-n belülről (2.1+2.2.) | C15: =SUM(C16:C17) -> 943000 | D15: =SUM(D16:D17) -> 0
A16: 2.1. | B16: Elvonások és befizetések bevételei
A17: 2.2. | B17: Egyéb működési célú támogatások bevételei(B16) | C17: ='7.Önk bev.'!M27+'7.Önk bev.'!M28 -> 943000 | D17: ='7.Önk bev.'!N43 -> 0
A18: 2.3. | B18: 2.2.-ből EU-s támogatás
A19: 3. | B19: Felhalmozási célú támogatások ÁHT-n belülről (3.1.+3.2.) | C19: =SUM(C20:C21) -> 368354000 | D19: =SUM(D20:D21) -> 0
A20: 3.1. | B20: Felhalmozási célú önkormányzati támogatások | C20: ='7.Önk bev.'!K60 -> 0
A21: 3.2. | B21: Egyéb felhalmozási célú támogatások(B25) | C21: ='7.Önk bev.'!O41+'7.Önk bev.'!O43 -> 368354000 | D21: ='7.Önk bev.'!P43 -> 0
A22: 3.3. | B22: 3.2.-ből EU-s támogatás
A23: 4. | B23: Közhatalmi bevételek (4.1+4.2.+4.3.+4.4.) | C23: =C24+C27+C28+C29 -> 0 | D23: =D24+D27+D28+D29 -> 0
A24: 4.1. | B24: Helyi adók (4.1.1.+….+4.1.3) | C24: =C25+C26 -> 0
A25: 4.1.1. | B25: Vagyoni típusú adók
A26: 4.1.3. | B26: Értékesítési és forgalmi adók (iparűzési adó)
A27: 4.2. | B27: Gépjárműadó
A28: 4.3. | B28: Egyéb áruhasználati és szolgáltatási adók
A29: 4.4. | B29: Egyéb közhatalmi bevételek
A30: 5. | B30: Működési bevételek (B4) | C30: ='7.Önk bev.'!E67 -> 48759000 | D30: ='7.Önk bev.'!F60 -> 0
A31: 6. | B31: Felhalmozási bevételek
A32: 7. | B32: Működési célú átvett pénzeszközök
A33: 8. | B33: Felhalmozási célú átvett pénzeszközök
A34: 9. | B34: KÖLTSÉGVETÉSI BEVÉTELEK ÖSSZESEN: (1+…+8) | C34: =C8+C15+C19+C23+C30+C31+C32+C33 -> 520642561 | D34: =D8+D15+D19+D23+D30+D31+D32+D33 -> 0
A35: 10. | B35: Hitel-, kölcsönfelévtel államháztartáson kívülről (10.1+…+10.3 | C35: =SUM(C36:C38) -> 0 | D35: =SUM(D36:D38) -> 0
A36: 10.1. | B36: Hosszú lejűratú hitelek, kölcsönök felvétele
A37: 10.2. | B37: Likviditási célú hitelek, kölcsönök felvétele pénzügyi vállalkozástól
A38: 10.3. | B38: Rövid lejáratú hitelek, kölcsönök felvétele
A39: 11. | B39: Belföldi értékpapírok bevételei
A40: 12. | B40: Előző évi költségvetési maradvány igénybe vétele | C40: ='7.Önk bev.'!U67 -> 0 | D40: ='7.Önk bev.'!V60 -> 0
A41: 13. | B41: Belföldi finanszírozás bevételei (13.1.+13.2.) | C41: =C42+C43 -> 0 | D41: =D42+D43 -> 0
...

Sheet 4.államigazg
A1: 4. melléklet a …….../2026.(………………) önkormányzati rendelethez
A2: Medgyesegyháza Városi Önkormányzat
A3: 2026. ÉVI KÖLTSÉGVETÉS ÁLLAMIGAZGATÁSI FELADATAINAK MÉRLEGE forintban
A4: BEVÉTELEK
A6: A | B6: B | C6: C | D6: D
A7: Sor- szám | B7: Bevételi jogcímek | C7: 2026. évi előirányzat | D7: 2026. évi mód. előir
A8: 1. | B8: Önkormányzatok működési támogatásai (1.1+……+1.6.) | C8: =SUM(C9:C14) -> 0 | D8: =SUM(D9:D14) -> 0
A9: 1.1. | B9: Helyi önkormányzatok működésének általános támogatása
A10: 1.2. | B10: Önkormányzatok egyes köznevelési feladatainak támogatása
A11: 1.3. | B11: Önkormányzatok szociális és gyermjóléti feladatainak támogatása
A12: 1.4. | B12: Önkormányzatok kulturális feladatainak támogatása
A13: 1.5. | B13: Működési célú költségvetési támogatások és kiegészítő támogatások
A14: 1.6. | B14: Elszámolásból származő bevételek
A15: 2. | B15: Működési célú támogatások ÁHT-n belülről (2.1+2.2.) | C15: =SUM(C16:C18) -> 0 | D15: =SUM(D16:D18) -> 0
A16: 2.1. | B16: Elvonások és befizetések bevételei
A17: 2.2. | B17: Egyéb működési célú támogatások bevételei
A18: 2.3. | B18: 2.2.-ből EU-s támogatás
A19: 3. | B19: Felhalmozási célú támogatások ÁHT-n belülről (3.1.+3.2.) | C19: =SUM(C20:C21) -> 0 | D19: =SUM(D20:D21) -> 0
A20: 3.1. | B20: Felhalmozási célú önkormányzati támogatások
A21: 3.2. | B21: Egyéb felhalmozási célú támogatások
A22: 3.3. | B22: 3.2.-ből EU-s támogatás
A23: 4. | B23: Közhatalmi bevételek (4.1+4.2.+4.3.+4.4.) | C23: =C24+C27+C28+C29 -> 0 | D23: =D24+D27+D28+D29 -> 0
A24: 4.1. | B24: Helyi adók (4.1.1.+….+4.1.3)
A25: 4.1.1. | B25: Vagyoni típusú adók
A26: 4.1.3. | B26: Értékesítési és forgalmi adók (iparűzési adó)
A27: 4.2. | B27: Gépjárműadó
A28: 4.3. | B28: Egyéb áruhasználati és szolgáltatási adók
A29: 4.4. | B29: Egyéb közhatalmi bevételek
A30: 5. | B30: Működési bevételek
A31: 6. | B31: Felhalmozási bevételek
A32: 7. | B32: Működési célő átvett pénzeszközök
A33: 8. | B33: Felhalmozási célú átvett pénzeszközök
A34: 9. | B34: KÖLTSÉGVETÉSI BEVÉTELEK ÖSSZESEN: (1+…+8) | C34: =C8+C15+C19+C23+C30+C31+C32+C33 -> 0 | D34: =D8+D15+D19+D23+D30+D31+D32+D33 -> 0
A35: 10. | B35: Hitel-, kölcsönfelévtel államháztartáson kívülről (10.1+…+10.3 | C35: =SUM(C36:C38) -> 0 | D35: =SUM(D36:D38) -> 0
A36: 10.1. | B36: Hosszú lejűratú hitelek, kölcsönök felvétele
A37: 10.2. | B37: Likviditási célú hitelek, kölcsönök felvétele pénzügyi vállalkozástól
A38: 10.3. | B38: Rövid lejáratú hitelek, kölcsönök felvétele
A39: 11. | B39: Belföldi értékpapírok bevételei
A40: 12. | B40: Előző évi költségvetési maradvány igánybe vétele
A41: 13. | B41: Belföldi finanszírozás bevételei (13.1.+13.2.) | C41: =C42+C43 -> 0 | D41: =D42+D43 -> 0
...

Sheet 5.műkmérleg
B1: 5. melléklet a ………/2026.(………..) önkormányzati rendelethez
A2: I. Működési bevételek és kiadások mérlege
A3: (önkormányzati szinten)
A4: forintban
A5: Sor- szám | B5: Bevétel | C5: 2026. évi előirányzat | D5: 2026. évi mód. előir | E5: Kiadás | F5: 2026. évi előirányzat | G5: 2026. évi mód. előir
A6: A | B6: B | C6: C | D6: D | E6: E | F6: F | G6: G
A7: 1. | B7: Önkormányzatok működési támogatásai | C7: ='7.Önk bev.'!I69 -> 798886177 | D7: ='7.Önk bev.'!J69 -> 0 | E7: Személyi juttatások | F7: ='12.Önk kiad'!D85 -> 676101000 | G7: ='12.Önk kiad'!E85 -> 0
A8: 2. | B8: Működési célú támogatások ÁHT-n belülről | C8: ='7.Önk bev.'!M69 -> 33101775 | D8: ='7.Önk bev.'!N69 -> 0 | E8: Munkaadókat terhelő járulékok és SZOCHÓ | F8: ='12.Önk kiad'!F85 -> 82315000 | G8: ='12.Önk kiad'!G85 -> 0
A9: 3. | B9: 2.-ből EU-s támogatás | E9: Dologi Kiadások | F9: ='12.Önk kiad'!H85 -> 404151000 | G9: ='12.Önk kiad'!I85 -> 0
A10: 4. | B10: Közhatalmi bevételek | C10: ='7.Önk bev.'!G69 -> 227260000 | D10: ='7.Önk bev.'!H69 -> 0 | E10: Ellátottak pénzbeli juttatásai | F10: ='12.Önk kiad'!J85 -> 4150000 | G10: ='12.Önk kiad'!K85 -> 0
A11: 5. | B11: Működési bevételek | C11: ='7.Önk bev.'!E69 -> 108672000 | D11: ='7.Önk bev.'!F69 -> 0 | E11: Egyéb működési célú kiadások | F11: ='12.Önk kiad'!L85+'12.Önk kiad'!N85 -> 27377058 | G11: ='12.Önk kiad'!M85+'12.Önk kiad'!O85 -> 0
A12: 6. | B12: Működési célú átvett pénzeszközök | E12: Tartalékok | F12: ='12.Önk kiad'!X85 -> 5000000 | G12: ='12.Önk kiad'!Y85 -> 0
A13: 7. | B13: 6.-ból EU-s támogatás (közvetlen) | E13: Elvonások, befizetések | F13: ='12.Önk kiad'!R85 -> 4000000
A14: 8. | B14: Költségvetési bevételek összesen: (1.+…+6.) | C14: =C7+C8+C10+C11+C12 -> 1167919952 | D14: =D7+D8+D10+D11+D12 -> 0 | E14: Költségvetési kiadások összesen: (1.+…+6) | F14: =SUM(F7:F13) -> 1203094058 | G14: =SUM(G7:G13) -> 0
A15: 9. | B15: Hiány belső finanszírozásának bevételei (=10) | C15: =C16 -> 158168926 | D15: =D16 -> 0 | E15: Likviditási célú hitelek törlesztése | F15: ='12.Önk kiad'!Z25 -> 500000000
A16: 10. | B16: Költségvetési maradvány igénybe vétele | C16: ='7.Önk bev.'!U69 -> 158168926 | D16: ='7.Önk bev.'!V69 -> 0 | E16: Államháztartáson belüli megelőlegezések visszafizetése | F16: ='12.Önk kiad'!Z22 -> 22381820 | G16: ='12.Önk kiad'!AA20 -> 0
A17: 11. | B17: Hiány külső finanszírozásának bevételei (=12) | C17: =SUM(C18:C19) -> 522000000 | D17: =SUM(D18:D19) -> 0 | E17: Éven túli célhitel törlesztő részlete | F17: ='12.Önk kiad'!Z24 -> 11580000 | G17: ='12.Önk kiad'!AA22 -> 0
A18: 12. | B18: Likviditási célú hitelek, kölcsönök felvétele | C18: ='7.Önk bev.'!W44 -> 500000000 | D18: ='7.Önk bev.'!X44 -> 0
A19: 13. | B19: Államháztartáson belüli megelőlegezések | C19: ='7.Önk bev.'!W23 -> 22000000 | D19: ='7.Önk bev.'!X23 -> 0
A20: 14. | B20: Működési célú finanszírozási bevételek összesen: (9.+11.) | C20: =C15+C17 -> 680168926 | D20: =D15+D17 -> 0 | E20: Működési célú finanszírozási kiadások összesen: (=9.) | F20: =SUM(F15:F18) -> 533961820 | G20: =SUM(G15:G18) -> 0
A21: 15. | B21: BEVÉTELEK ÖSSZESEN: (8.+13.) | C21: =C14+C20 -> 1848088878 | D21: =D14+D20 -> 0 | E21: KIADÁSOK ÖSSZESEN: (8.+13.) | F21: =F14+F20 -> 1737055878 | G21: =G14+G20 -> 0
A22: 16. | B22: Költségvetési hiány: | C22: =F14-C14 -> 35174106 | D22: =G14-D14 -> 0 | E22: Költségvetési többlet: | F22: 0 | G22: 0
A23: 17. | B23: Tárgyévi hiány: | C23: =C21-F21 -> 111033000 | D23: =D21-G21 -> 0 | E23: Tárgyévi többlet: | F23: 0 | G23: 0

Sheet 6.felhmérleg
B1: 6. melléklet a ………/2026.(………..) önkormányzati rendelethez
A2: I .Felhalmozási célú bevételek és kiadások mérlege
A3: (önkormányzati szinten)
A4: forintban
A5: Sor- szám | B5: Bevétel | C5: 2026. évi előirányzat | D5: 2026. évi mód. előir | E5: Kiadás | F5: 2026. évi előirányzat | G5: 2026. évi mód. előir
A6: A | B6: B | C6: C | E6: D | F6: E | G6: F
A7: 1. | B7: Felhalmozási célú támogatások ÁHT-n belülről | C7: ='7.Önk bev.'!O69 -> 368354000 | D7: ='7.Önk bev.'!P69 -> 0 | E7: Beruházások | F7: ='12.Önk kiad'!T85 -> 398100000 | G7: ='12.Önk kiad'!U85 -> 0
A8: 2. | B8: 1.-ből EU-s támogatás | C8: 343055000 | E8: 1.-ből EU-s forrásból megvalósuló beruházás | F8: 345389000
A9: 3. | B9: Felhalmozási bevételek | C9: ='7.Önk bev.'!S69 -> 21457000 | D9: ='7.Önk bev.'!T69 -> 0 | E9: Felújítások | F9: ='12.Önk kiad'!V85 -> 54709000 | G9: ='12.Önk kiad'!W85 -> 0
A10: 4. | B10: Felhalmozási célú átvett pénzeszközök átvétele | E10: 3.-ból EU-s forrásból megvalósuló felújítás | F10: 17553000
A11: 5. | B11: 4.-ből EU-s támogatás | E11: Egyéb felhalmozási kiadások | F11: ='12.Önk kiad'!P55 -> 48035000
A12: 6. | B12: Egyéb felhalmozási célú bevételek | E12: Felhamozási céltartalék
A13: 7. | B13: Önkormányzatok felhalmozási támogatása
A14: 8. | B14: Költségvetési bevételek összesen: (1.+3.+4.+6.) | C14: =C7+C9+C12+C13 -> 389811000 | D14: =D7+D9+D12+D13 -> 0 | E14: Költségvetési kiadások összesen: (1.+3.+5.+6.) | F14: =F7+F9+F11+F12 -> 500844000 | G14: =G7+G9+G11+G12 -> 0
A15: 9. | B15: Hiány belső finanszírozásának bevételei (=10) | C15: =C16 -> 0 | D15: =D16 -> 0
A16: 10. | B16: Költségvetési maradvány igénybe vétele | C16: 0 | D16: 0
A17: 11. | B17: Hiány külső finanszírozásának bevételei (=12) | C17: =C18 -> 0 | D17: =D18 -> 0
A18: 12. | B18: Hitelek, kölcsönök felvétele
A19: 13. | B19: Felhalmozási célú finanszírozási bevételek összesen: (9.+11.) | C19: =C15+C17 -> 0 | D19: =D15+D17 -> 0 | E19: Felhalmozási célú finanszírozási kiadások összesen: (9.+…+12)
A20: 14. | B20: BEVÉTELEK ÖSSZESEN: (8.+13.) | C20: =C14+C19 -> 389811000 | D20: =D14+D19 -> 0 | E20: KIADÁSOK ÖSSZESEN: (8.+13.) | F20: =F14+F19 -> 500844000 | G20: =G14+G19 -> 0
A21: 15. | B21: Költségvetési hiány: | C21: =F14-C14 -> 111033000 | D21: =G14-D14 -> 0 | E21: Költségvetési többlet: | F21: 0 | G21: 0
A22: 16. | B22: Tárgyévi hiány: | C22: =C20-F20 -> -111033000 | D22: =D20-G20 -> 0 | E22: Tárgyévi többlet: | F22: 0 | G22: =G20-D20 -> 0

Sheet 7.Önk bev.
Q1: 7. melléklet a ……./2026.(……………..) önkormányzati rendelethez
B2: 1 | D2: Medgyesegyháza Város Önkormányzat 2026. évi bevételeinek alakulása - Önkormányzat forintban
A3: A | C3: B | D3: C | E3: D | G3: E | I3: F | K3: G | M3: H | O3: I | Q3: J | S3: K | U3: L | W3: M | Y3: N
A4: 1. | B4: 2 | C4: kötelező/nem kötelező | D4: Kiemelt előirányzatok | E4: Működési bevételek | G4: Közhatalmi bevételek | I4: Önkormányzatok működési támogatása | K4: Önkormányzatok felhalmozási támogatása | M4: Működési célú támogatások államháztartáson belülről | O4: Felhalmozási célú támogatások államháztartáson belülről | Q4: Működési célra átvett pénzeszközök | S4: Felhalmozási bevételek | U4: Elző évi költségvetési maradvány | W4: Finansízrozási bevételek | Y4: Bevételek összesen
A5: 2. | B5: 3 | D5: Megnevezés | E5: 2026. évi előirányzat | F5: 2026. évi mód. előir | G5: 2026. évi előirányzat | H5: 2026. évi mód. előir | I5: 2026. évi előirányzat | J5: 2026. évi mód. előir | K5: 2026. évi előirányzat | L5: 2026. évi mód. előir | M5: 2026. évi előirányzat | N5: 2026. évi mód. előir | O5: 2026. évi előirányzat | P5: 2026. évi mód. előir | Q5: 2026. évi előirányzat | R5: 2026. évi mód. előir | S5: 2026. évi előirányzat | T5: 2026. évi mód. előir | U5: 2026. évi előirányzat | V5: 2026. évi mód. előir | W5: 2026. évi előirányzat | X5: 2026. évi mód. előir | Y5: 2026. évi előirányzat | Z5: 2026. évi mód. előir
A6: 3. | B6: kötelező | C6: kötelező | D6: Iparűzési adó | G6: 180000000 | Y6: =E6+G6+I6+M6+O6+Q6+W6+K6+S6+U6 -> 180000000 | Z6: =F6+H6+J6+L6+N6+P6+R6+V6+X6 -> 0
A7: 4. | B7: kötelező | C7: kötelező | D7: Termőföld bérbeadás | G7: 140000 | Y7: =E7+G7+I7+M7+O7+Q7+W7+K7+S7+U7 -> 140000 | Z7: =F7+H7+J7+L7+N7+P7+R7+V7+X7 -> 0
A8: 5. | B8: kötelező | C8: kötelező | D8: Talajterhelési díj | G8: 1500000 | Y8: =E8+G8+I8+M8+O8+Q8+W8+K8+S8+U8 -> 1500000 | Z8: =F8+H8+J8+L8+N8+P8+R8+V8+X8 -> 0
A9: 6. | B9: kötelező | C9: kötelező | D9: Egyéb közhatalmi bevételek | Y9: =E9+G9+I9+M9+O9+Q9+W9+K9+S9+U9 -> 0 | Z9: =F9+H9+J9+L9+N9+P9+R9+V9+X9 -> 0
A10: 7. | B10: kötelező | C10: kötelező | D10: Pótlékok, bírságok | G10: 1400000 | Y10: =E10+G10+I10+M10+O10+Q10+W10+K10+S10+U10 -> 1400000 | Z10: =F10+H10+J10+L10+N10+P10+R10+V10+X10 -> 0
A11: 8. | C11: kötelező | D11: Idegenforgalmi adó | G11: 220000 | Y11: =E11+G11+I11+M11+O11+Q11+W11+K11+S11+U11 -> 220000 | Z11: =F11+H11+J11+L11+N11+P11+R11+V11+X11 -> 0
A12: 9. | C12: kötelező | D12: Építmény és telek adó | G12: 26000000 | Y12: =E12+G12+I12+M12+O12+Q12+W12+K12+S12+U12 -> 26000000 | Z12: =F12+H12+J12+L12+N12+P12+R12+V12+X12 -> 0
A13: 10. | C13: kötelező | D13: Kommunális adó | G13: 18000000 | Y13: =E13+G13+I13+M13+O13+Q13+W13+K13+S13+U13 -> 18000000 | Z13: =F13+H13+J13+L13+N13+P13+R13+V13+X13 -> 0
A14: 11. | C14: kötelező | D14: Települési önkormányzatok működésének álatalános támogatása | I14: 192686995 | Y14: =E14+G14+I14+M14+O14+Q14+W14+K14+S14+U14 -> 192686995 | Z14: =F14+H14+J14+L14+N14+P14+R14+V14+X14 -> 0
A15: 12. | C15: kötelező | D15: Települési önkormányzatok egyes köznevelési feladat támogatása | I15: 174939896 | Y15: =E15+G15+I15+M15+O15+Q15+W15+K15+S15+U15 -> 174939896 | Z15: =F15+H15+J15+L15+N15+P15+R15+V15+X15 -> 0
A16: 13. | C16: kötelező | D16: Települési önk. Egyes szociális és gyerm.jóléti felad. Támogatása(B1131) | I16: 86777505 | Y16: =E16+G16+I16+M16+O16+Q16+W16+K16+S16+U16 -> 86777505 | Z16: =F16+H16+J16+L16+N16+P16+R16+V16+X16 -> 0
A17: 14. | C17: nem kötelező | D17: Telep.önk. Által biztosított egyes szoc. Szakosított ellátások (B1131) | I17: 102586561 | Y17: =E17+G17+I17+M17+O17+Q17+W17+K17+S17+U17 -> 102586561 | Z17: =F17+H17+J17+L17+N17+P17+R17+V17+X17 -> 0
A18: 15. | C18: kötelező | D18: Gyermekétkeztetés támogatása (B1132) | I18: 33658794 | Y18: =E18+G18+I18+M18+O18+Q18+W18+K18+S18+U18 -> 33658794 | Z18: =F18+H18+J18+L18+N18+P18+R18+V18+X18 -> 0
A19: 16. | C19: kötelező | D19: Rászoruló gyermekek szünidei étkeztetésének támogatása(B1132) | I19: 616200 | Y19: =E19+G19+I19+M19+O19+Q19+W19+K19+S19+U19 -> 616200 | Z19: =F19+H19+J19+L19+N19+P19+R19+V19+X19 -> 0
A20: 17. | C20: kötelező | D20: Települési önkormányzatok kulturális feladatainak támogatása(B114) | I20: =7466662+9125814 -> 16592476 | Y20: =E20+G20+I20+M20+O20+Q20+W20+K20+S20+U20 -> 16592476 | Z20: =F20+H20+J20+L20+N20+P20+R20+V20+X20 -> 0
A21: 18. | C21: kötelező | D21: Működési c. költ. Tám.és kieg. Tám. (B115) | I21: 173737773 | Y21: =E21+G21+I21+M21+O21+Q21+W21+K21+S21+U21 -> 173737773 | Z21: =F21+H21+J21+L21+N21+P21+R21+V21+X21 -> 0
A22: 19. | C22: kötelező | D22: Elszámolásból származó bevétel (B16) | I22: 17289977 | Y22: =E22+G22+I22+M22+O22+Q22+W22+K22+S22+U22 -> 17289977 | Z22: =F22+H22+J22+L22+N22+P22+R22+V22+X22 -> 0
A23: 20. | C23: kötelező | D23: Államháztartáson belüli megelőlegezés | W23: 22000000 | Y23: =E23+G23+I23+M23+O23+Q23+W23+K23+S23+U23 -> 22000000 | Z23: =F23+H23+J23+L23+N23+P23+R23+V23+X23 -> 0
A24: 21. | C24: kötelező | D24: Köztemető bevélelei | E24: 8000 | Y24: =E24+G24+I24+M24+O24+Q24+W24+K24+S24+U24 -> 8000 | Z24: =F24+H24+J24+L24+N24+P24+R24+V24+X24 -> 0
A25: 22. | B25: kötelező | C25: kötelező | D25: Pénzeszköz átvétel munkaügyi Központtól START programra (B163) | M25: 11132000 | Y25: =E25+G25+I25+M25+O25+Q25+W25+K25+S25+U25 -> 11132000 | Z25: =F25+H25+J25+L25+N25+P25+R25+V25+X25 -> 0
A26: 23. | B26: kötelező | C26: kötelező | D26: Pénzeszköz átvétel munkaügyi Központtól hosszabb távú közfoglalkoztatásra | M26: 15950000 | Y26: =E26+G26+I26+M26+O26+Q26+W26+K26+S26+U26 -> 15950000 | Z26: =F26+H26+J26+L26+N26+P26+R26+V26+X26 -> 0
A27: 24. | B27: kötelező | C27: nem kötelező | D27: Pénzeszköz átvétel OEP-től Labor | M27: 720000 | Y27: =E27+G27+I27+M27+O27+Q27+W27+K27+S27+U27 -> 720000 | Z27: =F27+H27+J27+L27+N27+P27+R27+V27+X27 -> 0
A28: 25. | C28: nem kötelező | D28: Pénzeszköz átvétel OEP-től Ifj. eü. | M28: 223000 | Y28: =E28+G28+I28+M28+O28+Q28+W28+K28+S28+U28 -> 223000 | Z28: =F28+H28+J28+L28+N28+P28+R28+V28+X28 -> 0
A29: 26. | C29: kötelező | D29: Pénzeszköz átvétel Pusztaottlaka | M29: 5076775 | Y29: =E29+G29+I29+M29+O29+Q29+W29+K29+S29+U29 -> 5076775 | Z29: =F29+H29+J29+L29+N29+P29+R29+V29+X29 -> 0
A30: 27. | B30: kötelező | C30: kötelező | D30: Önkormányzat bérbeadás, város és községgazdálkodás m.n.s. szolg. | E30: 44891000 | Y30: =E30+G30+I30+M30+O30+Q30+W30+K30+S30+U30 -> 44891000 | Z30: =F30+H30+J30+L30+N30+P30+R30+V30+X30 -> 0
A31: 28. | C31: kötelező | D31: Önkormányzati igazgatás | E31: 400000 | Y31: =E31+G31+I31+M31+O31+Q31+W31+K31+S31+U31 -> 400000 | Z31: =F31+H31+J31+L31+N31+P31+R31+V31+X31 -> 0
A32: 29. | C32: kötelező | D32: Nem lakóingatlan értékesítésből származó bevétel | S32: 21457000 | Y32: =E32+G32+I32+M32+O32+Q32+W32+K32+S32+U32 -> 21457000 | Z32: =F32+H32+J32+L32+N32+P32+R32+V32+X32 -> 0
A33: 30. | B33: nem kötelező | C33: kötelező | D33: Startmunka program bevétele | E33: 8000000 | Y33: =E33+G33+I33+M33+O33+Q33+W33+K33+S33+U33 -> 8000000 | Z33: =F33+H33+J33+L33+N33+P33+R33+V33+X33 -> 0
A34: 31. | C34: nem kötelező | D34: Uszoda bevétel | E34: 1056000 | Y34: =E34+G34+I34+M34+O34+Q34+W34+K34+S34+U34 -> 1056000 | Z34: =F34+H34+J34+L34+N34+P34+R34+V34+X34 -> 0
A35: 32. | C35: nem kötelező | D35: Sportcsarnok | E35: 7000000 | Y35: =E35+G35+I35+M35+O35+Q35+W35+K35+S35+U35 -> 7000000 | Z35: =F35+H35+J35+L35+N35+P35+R35+V35+X35 -> 0
A36: 33. | B36: kötelező | C36: kötelező | D36: Költségvetési maradvány | U36: 155652336 | Y36: =E36+G36+I36+M36+O36+Q36+W36+K36+S36+U36 -> 155652336 | Z36: =F36+H36+J36+L36+N36+P36+R36+V36+X36 -> 0
A37: 34. | C37: kötelező | D37: TOP-PLUSZ-3.3.2-21-BS1-2022-00002 Háziorvosi alapellátás infr.fejl. | Y37: =E37+G37+I37+M37+O37+Q37+W37+K37+S37+U37 -> 0 | Z37: =F37+H37+J37+L37+N37+P37+R37+V37+X37 -> 0
A38: 35. | C38: kötelező | D38: TOP-PLUSZ-3.3.2-21-BS1-2022-00030 Idősek Klubja ép.feluj. | Y38: =E38+G38+I38+M38+O38+Q38+W38+K38+S38+U38 -> 0 | Z38: =F38+H38+J38+L38+N38+P38+R38+V38+X38 -> 0
A39: 36. | C39: nem kötelező | D39: TOP_PLUSZ-1.1.1-21-BS1-2022-00002 Helyi gazdság fejlesztés | Y39: =E39+G39+I39+M39+O39+Q39+W39+K39+S39+U39 -> 0 | Z39: =F39+H39+J39+L39+N39+P39+R39+V39+X39 -> 0
A40: 37. | C40: nem kötelező | D40: TOP_PLUSZ-1.2.3-21 Belterületi utak fejlesztése | Y40: =E40+G40+I40+M40+O40+Q40+W40+K40+S40+U40 -> 0 | Z40: =F40+H40+J40+L40+N40+P40+R40+V40+X40 -> 0
...

Sheet 8. PMH bev.
L1: 8. melléklet ..../2026. (…...) önkormányzati rendelethez
C2: Medgyesegyháza Város Önkormányzat 2026. évi bevételeinek alakulása - Medgyesegyházi Polgármesteri Hivatal forintban
A3: A | B3: B | C3: C | D3: D | F3: E | H3: F | J3: G | L3: H | N3: I | P3: J | R3: K | T3: L
A4: 1. | B4: kötelező/nem kötelező | C4: Kiemelt előirányzatok | D4: Működési bevételek | F4: Közhatalmi bevételek | H4: Működési célú támogatások államháztartáson belülről | J4: Felhalmozási célú támogatások államháztartáson belülről | L4: Működési célra átvett pénzeszközök | N4: Felhalmozási célra átvett pénzeszközök | P4: Finanszírozási bevételek - Támogatás működésre | R4: Költségvetési maradvány | T4: Bevételek összesen
A5: 2. | C5: Szakfeladat | D5: 2026. évi előirányzat | E5: 2026. évi mód. előir | F5: 2026. évi előirányzat | G5: 2026. évi mód. előir | H5: 2026. évi előirányzat | I5: 2026. évi mód. előir | J5: 2026. évi előirányzat | K5: 2026. évi mód. előir | L5: 2026. évi előirányzat | M5: 2026. évi mód. előir | N5: 2026. évi előirányzat | O5: 2026. évi mód. előir | P5: 2026. évi előirányzat | Q5: 2026. évi mód. előir | R5: 2026. évi előirányzat | S5: 2026. évi mód. előir | T5: 2026. évi előirányzat | U5: 2025. évi mód. előir | V5: 2025. évi előirányzat | W5: 2026. évi mód. előir
A6: 3. | B6: államigazgatási | C6: Államigazgatási feladatok | T6: =D6+F6+H6+N6+J6+L6+P6+R6 -> 0 | U6: =E6+G6+I6+J6+K6+M6+Q6+L6 -> 0 | V6: =F6+H6+J6+K6+L6+N6+R6+M6 -> 0 | W6: =G6+I6+K6+L6+M6+O6+S6+N6 -> 0
A7: 4. | B7: kötelező | C7: Önkormányzati igazgatási tevékenység | D7: 160000 | T7: =D7+F7+H7+N7+J7+L7+P7+R7 -> 160000 | U7: =E7+G7+I7+O7+K7+M7+Q7+S7 -> 0 | V7: =F7+H7+J7+P7+L7+N7+R7+T7 -> 160000 | W7: =G7+I7+K7+L7+M7+O7+S7+N7 -> 0
A8: 5. | B8: kötelező | C8: Adó igazgatás | T8: =D8+F8+H8+N8+J8+L8+P8+R8 -> 0 | W8: =G8+I8+K8+L8+M8+O8+S8+N8 -> 0
A9: 6. | B9: kötelező | C9: Önkormányzati választás | T9: =D9+F9+H9+N9+J9+L9+P9+R9 -> 0 | U9: 219 | V9: =1673+87 -> 1760 | W9: =G9+I9+K9+L9+M9+O9+S9+N9 -> 0
A10: 7. | B10: kötelező | C10: Irányítószervi támogatás | P10: 242678877 | R10: 2028123 | T10: =D10+F10+H10+N10+J10+L10+P10+R10 -> 244707000 | W10: =G10+I10+K10+L10+M10+O10+S10+N10 -> 0
A11: 8. | C11: Alaptevékenység összesen | D11: =SUM(D6:D10) -> 160000 | E11: =SUM(E6:E10) -> 0 | F11: =SUM(F6:F10) -> 0 | G11: =SUM(G6:G10) -> 0 | H11: =SUM(H6:H10) -> 0 | I11: =SUM(I6:I10) -> 0 | J11: =SUM(J6:J10) -> 0 | K11: =SUM(K6:K10) -> 0 | ... S11: =SUM(S6:S10) -> 0 | T11: =D11+F11+H11+N11+J11+L11+P11+R11 -> 244867000 | U11: =SUM(U6:U9) -> 219 | V11: =SUM(V6:V9) -> 161760 | W11: =G11+I11+K11+L11+M11+O11+S11+N11 -> 0
A12: 9. | C12: Kötelező: | D12: =SUM(D7:D10) -> 160000 | E12: =SUM(E7:E10) -> 0 | F12: =SUM(F7:F10) -> 0 | G12: =SUM(G7:G10) -> 0 | H12: =SUM(H7:H10) -> 0 | I12: =SUM(I7:I10) -> 0 | J12: =SUM(J7:J10) -> 0 | K12: =SUM(K7:K10) -> 0 | ... S12: =SUM(S7:S10) -> 0 | T12: =D12+F12+H12+N12+J12+L12+P12+R12 -> 244867000 | U12: =U7+U9 -> 219 | V12: =V7+V9 -> 161760 | W12: =G12+I12+K12+L12+M12+O12+S12+N12 -> 0
A13: 10. | C13: Államigazgatási: | D13: =D6 -> 0 | E13: =E6 -> 0 | F13: =F6 -> 0 | G13: =G6 -> 0 | H13: =H6 -> 0 | I13: =I6 -> 0 | J13: =J6 -> 0 | K13: =K6 -> 0 | ... S13: =S6 -> 0 | T13: =D13+F13+H13+N13+J13+L13+P13+R13 -> 0 | U13: =U6 -> 0 | V13: =V6 -> 0 | W13: =G13+I13+K13+L13+M13+O13+S13+N13 -> 0

Sheet 9. GKP bev
T1: 9. melléklet a .../2026. (....) önkormányzati rendelethez
C2: Medgyesegyháza Város Önkormányzat 2026. évi bevételeinek alakulása - Gondozási Központ (forintban)
A3: A | B3: B | C3: C | D3: D | F3: E | H3: F | J3: G | L3: H | N3: I | P3: J | R3: K | T3: L
A4: 1 | B4: Kötelező/nem kötelező | C4: Kiemelt előirányzatok | D4: Működési bevételek | F4: Közhatalmi bevételek | H4: Működési célú támogatások államháztartáson belülről | J4: Felhalmozási célú támogatások államháztartáson belülről | L4: Működési célra átvett pénzeszközök | N4: Felhalmozási célra átvett pénzeszközök | P4: Finanszírozási bevételek - Támogatás működésre | R4: Költségvetési maradvány | T4: Bevételek összesen
A5: 2 | C5: Szakfeladat | D5: 2026. évi előirányzat | E5: 2026. évi mód. előir | F5: 2026. évi előirányzat | G5: 2026. évi mód. előir | H5: 2026. évi előirányzat | I5: 2026. évi mód. előir | J5: 2026. évi előirányzat | K5: 2026. évi mód. előir | L5: 2026. évi előirányzat | M5: 2026. évi mód. előir | N5: 2026. évi előirányzat | O5: 2026. évi mód. előir | P5: 2026. évi előirányzat | Q5: 2026. évi mód. előir | R5: 2026. évi előirányzat | S5: 2026. évi mód. előir | T5: 2026. évi előirányzat | U5: 2023. évi mód. előir | V5: 2026. évi mód. előir
A6: 3 | B6: nem kötelező | C6: Az önk.vagyonnal gazd. kapcs gazdálkodás | T6: =D6+F6+H6+J6+L6+N6+P6+R6 -> 0 | U6: =E6+G6+I6+K6+M6+O6+Q6+S6 -> 0 | V6: =E6+G6+I6+K6+M6+O6+Q6+S6 -> 0
A7: 4 | B7: kötelező | C7: Háziorvosi alapellátás | T7: =D7+F7+H7+J7+L7+N7+P7+R7 -> 0 | U7: =E7+G7+I7+K7+M7+O7+Q7+S7 -> 0 | V7: =E7+G7+I7+K7+M7+O7+Q7+S7 -> 0
A8: 5 | B8: kötelező | C8: Fogorvosi alapellátás | T8: =D8+F8+H8+J8+L8+N8+P8 -> 0 | U8: =E8+G8+I8+K8+M8+O8+Q8 -> 0 | V8: =E8+G8+I8+K8+M8+O8+Q8+S8 -> 0
A9: 6 | B9: nem kötelező | C9: Egészségügyi labor | T9: =D9+F9+H9+J9+L9+N9+P9 -> 0 | U9: =E9+G9+I9+K9+M9+O9+Q9 -> 0 | V9: =E9+G9+I9+K9+M9+O9+Q9+S9 -> 0
A10: 7 | B10: kötelező | C10: Család és nővédelmi eü. gondozás | D10: 1032000 | T10: =D10+F10+H10+J10+L10+N10+P10 -> 1032000 | U10: =E10+G10+I10+K10+M10+O10+Q10 -> 0 | V10: =E10+G10+I10+K10+M10+O10+Q10+S10 -> 0
A11: 8 | B11: kötelező | C11: Ifjúsági- egészségügyi gondozás | T11: =D11+F11+H11+J11+L11+N11+P11 -> 0 | U11: =E11+G11+I11+K11+M11+O11+Q11 -> 0 | V11: =E11+G11+I11+K11+M11+O11+Q11+S11 -> 0
A12: 9 | B12: nem kötelező | C12: Időskorúak bentlakásos szoc. ell. | D12: 39794000 | T12: =D12+F12+H12+J12+L12+N12+P12 -> 39794000 | U12: =E12+G12+I12+K12+M12+O12+Q12 -> 0 | V12: =E12+G12+I12+K12+M12+O12+Q12+S12 -> 0
A13: 10 | B13: kötelező | C13: Idősek nappali ellátása | T13: =D13+F13+H13+J13+L13+N13+P13 -> 0 | U13: =E13+G13+I13+K13+M13+O13+Q13 -> 0 | V13: =E13+G13+I13+K13+M13+O13+Q13+S13 -> 0
A14: 11 | B14: kötelező | C14: Tanyagondok szolgáltatás | T14: =D14+F14+H14+J14+L14+N14+P14 -> 0 | U14: =E14+G14+I14+K14+M14+O14+Q14 -> 0 | V14: =E14+G14+I14+K14+M14+O14+Q14+S14 -> 0
A15: 12 | B15: kötelező | C15: Család és gyermekjóléti szolgáltatás | T15: =D15+F15+H15+J15+L15+N15+P15 -> 0 | U15: =E15+G15+I15+K15+M15+O15+Q15 -> 0 | V15: =E15+G15+I15+K15+M15+O15+Q15+S15 -> 0
A16: 13 | B16: kötelező | C16: Szociális étkeztetés | D16: 3909000 | T16: =D16+F16+H16+J16+L16+N16+P16 -> 3909000 | U16: =E16+G16+I16+K16+M16+O16+Q16 -> 0 | V16: =E16+G16+I16+K16+M16+O16+Q16+S16 -> 0
A17: 14 | B17: kötelező | C17: Házi segítségnyújtás | T17: =D17+F17+H17+J17+L17+N17+P17 -> 0 | U17: =E17+G17+I17+K17+M17+O17+Q17 -> 0 | V17: =E17+G17+I17+K17+M17+O17+Q17+S17 -> 0
A18: 15 | B18: kötelező | C18: Irányítószervi támogatás | P18: 231957784 | R18: 203216 | T18: =D18+F18+H18+J18+L18+N18+P18+R18 -> 232161000 | V18: =E18+G18+I18+K18+M18+O18+Q18+S18 -> 0
A19: 15 | C19: Alaptevékenység összesen | D19: =SUM(D6:D18) -> 44735000 | E19: =SUM(E6:E18) -> 0 | F19: =SUM(F6:F18) -> 0 | G19: =SUM(G6:G18) -> 0 | H19: =SUM(H6:H18) -> 0 | I19: =SUM(I6:I18) -> 0 | J19: =SUM(J6:J18) -> 0 | K19: =SUM(K6:K18) -> 0 | ... T19: =SUM(T6:T18) -> 276896000 | U19: =SUM(U6:U17) -> 0 | V19: =SUM(V6:V17) -> 0
A20: 16 | C20: Kötelező | D20: =D17+D16+D15+D13+D11+D10+D8+D7+D18 -> 4941000 | E20: =E17+E16+E15+E13+E11+E10+E8+E7+E18 -> 0 | F20: =F17+F16+F15+F13+F11+F10+F8+F7+F18 -> 0 | G20: =G17+G16+G15+G13+G11+G10+G8+G7+G18 -> 0 | H20: =H17+H16+H15+H13+H11+H10+H8+H7+H18 -> 0 | I20: =I17+I16+I15+I13+I11+I10+I8+I7+I18 -> 0 | J20: =J17+J16+J15+J13+J11+J10+J8+J7+J18 -> 0 | K20: =K17+K16+K15+K13+K11+K10+K8+K7+K18 -> 0 | ... T20: =T17+T16+T15+T13+T11+T10+T8+T7+T18 -> 237102000 | U20: =U17+U16+U15+U13+U11+U10+U8+U7 -> 0 | V20: =V17+V16+V15+V13+V11+V10+V8+V7 -> 0
A21: 17 | C21: Nem kötelező | D21: =D12+D9+D6 -> 39794000 | E21: =E12+E9+E6 -> 0 | F21: =F12+F9+F6 -> 0 | G21: =G12+G9+G6 -> 0 | H21: =H12+H9+H6 -> 0 | I21: =I12+I9+I6 -> 0 | J21: =J12+J9+J6 -> 0 | K21: =K12+K9+K6 -> 0 | ... V21: =V12+V9+V6 -> 0

Sheet 10. VE bev
L1: 10. melléklet a .../2026. (....) önkormányzati rendelethez
C2: Medgyesegyháza Város Önkormányzat 2026. évi bevételeinek alakulása - Varázserdő Óvoda forintban
A3: A | C3: B | D3: C | F3: D | H3: E | J3: F | L3: G | N3: H | P3: I | R3: J
A4: 1 | B4: Kötelező/nem kötelező | C4: Kiemelt előirányzatok | D4: Működési bevételek | F4: Közhatalmi bevételek | H4: Működési célú támogatások államháztartáson belülről | J4: Felhalmozási célú támogatások államháztartáson belülről | L4: Működési célra átvett pénzeszközök | N4: Költségvetési maradvány | P4: Finanszírozási bevételek - Támogatás működésre | R4: Bevételek összesen
A5: 2 | C5: Szakfeladat | D5: 2026. évi előirányzat | E5: 2026. évi mód. előir | F5: 2026. évi előirányzat | G5: 2026. évi mód. előir | H5: 2026. évi előirányzat | I5: 2026. évi mód. előir | J5: 2026. évi előirányzat | K5: 2026. évi mód. előir | L5: 2026. évi előirányzat | M5: 2026. évi mód. előir | N5: 2026. évi előirányzat | O5: 2026. évi mód. előir | P5: 2026. évi előirányzat | Q5: 2026. évi mód. előir | R5: 2026. évi előirányzat | S5: 2026. évi mód. előir
A6: 3 | B6: kötelező | C6: Óvodai nevelés, ellátás | D6: 10000 | R6: =D6+F6+H6+J6+L6+N6+P6 -> 10000 | S6: =E6+G6+I6+K6+M6+O6+Q6 -> 0
A7: 4 | B7: kötelező | C7: Minibölcsőde | R7: =D7+F7+H7+J7+L7+N7+P7 -> 0 | S7: =E7+G7+I7+K7+M7+O7+Q7 -> 0
A8: 5 | B8: kötelező | C8: Irányítószervi támogatás | N8: 219416 | P8: 235428584 | R8: =D8+F8+H8+J8+L8+N8+P8 -> 235648000 | S8: =E8+G8+I8+K8+M8+O8+Q8 -> 0
A9: 6 | C9: Alaptevékenység összesen | D9: =SUM(D6:D8) -> 10000 | E9: =SUM(E6:E8) -> 0 | F9: =SUM(F6:F8) -> 0 | G9: =SUM(G6:G8) -> 0 | H9: =SUM(H6:H8) -> 0 | I9: =SUM(I6:I8) -> 0 | J9: =SUM(J6:J8) -> 0 | K9: =SUM(K6:K8) -> 0 | ... Q9: =SUM(Q6:Q8) -> 0 | R9: =D9+F9+H9+J9+L9+N9+P9 -> 235658000 | S9: =E9+G9+I9+K9+M9+O9+Q9 -> 0
A10: 7 | C10: Kötelező | D10: =SUMIF($B6:$B8,"kötelező",D6:D8) -> 10000 | E10: =SUMIF($B6:$B8,"kötelező",E6:E8) -> 0 | F10: =SUMIF($B6:$B8,"kötelező",F6:F8) -> 0 | G10: =SUMIF($B6:$B8,"kötelező",G6:G8) -> 0 | H10: =SUMIF($B6:$B8,"kötelező",H6:H8) -> 0 | I10: =SUMIF($B6:$B8,"kötelező",I6:I8) -> 0 | J10: =SUMIF($B6:$B8,"kötelező",J6:J8) -> 0 | K10: =SUMIF($B6:$B8,"kötelező",K6:K8) -> 0 | ... S10: =SUMIF($B6:$B8,"kötelező",S6:S8) -> 0
A11: 8 | C11: Nem kötelező | D11: =SUMIF($B6:$B7,"nem kötelező",D6:D7) -> 0 | E11: =SUMIF($B6:$B7,"nem kötelező",E6:E7) -> 0 | F11: =SUMIF($B6:$B7,"nem kötelező",F6:F7) -> 0 | G11: =SUMIF($B6:$B7,"nem kötelező",G6:G7) -> 0 | H11: =SUMIF($B6:$B7,"nem kötelező",H6:H7) -> 0 | I11: =SUMIF($B6:$B7,"nem kötelező",I6:I7) -> 0 | J11: =SUMIF($B6:$B7,"nem kötelező",J6:J7) -> 0 | K11: =SUMIF($B6:$B7,"nem kötelező",K6:K7) -> 0 | ... S11: =SUMIF($B6:$B7,"nem kötelező",S6:S7) -> 0

Sheet 11. MH bev.
T1: 10. melléklet a .../2026. (....) önkormányzati rendelethez
D3: Medgyesegyháza Város Önkormányzat 2026. évi bevételeinek alakulása - Művelődési Ház és Könyvtár (forintban)
A5: A | B5: B | C5: C | D5: D | F5: E | H5: F | J5: G | L5: H | N5: I | P5: J | R5: K | T5: L
A6: 1. | B6: Kötelező/nem kötelező | C6: Kiemelt előirányzatok | D6: Működési bevételek | F6: Közhatalmi bevételek | H6: Működési célú támogatások államháztartáson belülről | J6: Felhalmozási célú támogatások államháztartáson belülről | L6: Működési célra átvett pénzeszközök | N6: Felhalmozási célra átvett pénzeszközök | P6: Előző évi költségvetési maradvány | R6: Finanszírozási bevételek - Támogatás működésre | T6: Bevételek összesen
A7: 2. | C7: Szakfeladat | D7: 2026. évi előirányzat | E7: 2026. évi mód. előir | F7: 2026. évi előirányzat | G7: 2026. évi mód. előir | H7: 2026. évi előirányzat | I7: 2026. évi mód. előir | J7: 2026. évi előirányzat | K7: 2026. évi mód. előir | L7: 2026. évi előirányzat | M7: 2026. évi mód. előir | N7: 2026. évi előirányzat | O7: 2026. évi mód. előir | P7: 2026. évi előirányzat | Q7: 2026. évi mód. előir | R7: 2026. évi előirányzat | S7: 2026. évi mód. előir | T7: 2026. évi előirányzat | U7: 2024. évi mód. előir | V7: 2026. évi mód. előir
A8: 3. | B8: kötelező | C8: Művelődési Ház | D8: 166000 | T8: =D8+F8+H8+J8+L8+N8+R8+P8 -> 166000 | U8: 350 | V8: =E8+G8+I8+K8+M8+O8+S8 -> 0
A9: 4. | B9: kötelező | C9: Könyvtár | D9: 1000 | T9: =D9+F9+H9+J9+L9+N9+R9+P9 -> 1000 | V9: =E9+G9+I9+K9+M9+O9+S9 -> 0
A10: 5. | B10: kötelező | C10: Irányítószervi támogatás | P10: 65835 | R10: 52055165 | T10: =D10+F10+H10+J10+L10+N10+R10+P10 -> 52121000 | V10: =E10+G10+I10+K10+M10+O10+S10 -> 0
A11: 6. | B11: nem kötelező | C11: Schéner ház | T11: =D11+F11+H11+J11+L11+N11+R11+P11 -> 0 | V11: =E11+G11+I11+K11+M11+O11+S11 -> 0
A12: 7. | B12: nem kötelező | C12: Civil ház | T12: =D12+F12+H12+J12+L12+N12+R12+P12 -> 0 | V12: =E12+G12+I12+K12+M12+O12+S12 -> 0
A13: 8. | B13: nem kötelező | C13: Medgyesi Napok | D13: 809000 | T13: =D13+F13+H13+J13+L13+N13+R13+P13 -> 809000 | V13: =E13+G13+I13+K13+M13+O13+S13 -> 0
A14: 9. | B14: nem kötelező | C14: Rendezvények | D14: 100000 | T14: =D14+F14+H14+J14+L14+N14+R14+P14 -> 100000 | V14: =E14+G14+I14+K14+M14+O14+S14 -> 0
A15: 10. | C15: Alaptevékenység összesen | D15: =SUM(D8:D14) -> 1076000 | E15: =SUM(E8:E14) -> 0 | F15: =SUM(F8:F14) -> 0 | G15: =SUM(G8:G14) -> 0 | H15: =SUM(H8:H14) -> 0 | I15: =SUM(I8:I14) -> 0 | J15: =SUM(J8:J14) -> 0 | K15: =SUM(K8:K14) -> 0 | ... S15: =SUM(S8:S14) -> 0 | T15: =D15+F15+H15+J15+L15+N15+R15+P15 -> 53197000 | U15: =SUM(U8:U9) -> 350 | V15: =E15+G15+I15+K15+M15+O15+S15 -> 0
A16: 11. | C16: Kötelező | D16: =SUMIF($B8:$B14,"kötelező",D8:D14) -> 167000 | E16: =SUMIF($B8:$B14,"kötelező",E8:E14) -> 0 | F16: =SUMIF($B8:$B14,"kötelező",F8:F14) -> 0 | G16: =SUMIF($B8:$B14,"kötelező",G8:G14) -> 0 | H16: =SUMIF($B8:$B14,"kötelező",H8:H14) -> 0 | I16: =SUMIF($B8:$B14,"kötelező",I8:I14) -> 0 | J16: =SUMIF($B8:$B14,"kötelező",J8:J14) -> 0 | K16: =SUMIF($B8:$B14,"kötelező",K8:K14) -> 0 | ... S16: =SUMIF($B8:$B14,"kötelező",S8:S14) -> 0 | T16: =D16+F16+H16+J16+L16+N16+R16+P16 -> 52288000 | U16: =SUMIF($B8:$B9,"kötelező",U8:U9) -> 350 | V16: =E16+G16+I16+K16+M16+O16+S16 -> 0
A17: 12. | C17: Nem kötelező | D17: =SUMIF($B8:$B14,"nem kötelező",D8:D14) -> 909000 | E17: =SUMIF($B8:$B14,"nem kötelező",E8:E14) -> 0 | F17: =SUMIF($B8:$B14,"nem kötelező",F8:F14) -> 0 | G17: =SUMIF($B8:$B14,"nem kötelező",G8:G14) -> 0 | H17: =SUMIF($B8:$B14,"nem kötelező",H8:H14) -> 0 | I17: =SUMIF($B8:$B14,"nem kötelező",I8:I14) -> 0 | J17: =SUMIF($B8:$B14,"nem kötelező",J8:J14) -> 0 | K17: =SUMIF($B8:$B14,"nem kötelező",K8:K14) -> 0 | ... S17: =SUMIF($B8:$B14,"nem kötelező",S8:S14) -> 0 | T17: =D17+F17+H17+J17+L17+N17+R17+P17 -> 909000 | U17: =SUMIF($B8:$B9,"nem kötelező",U8:U9) -> 0 | V17: =E17+G17+I17+K17+M17+O17+S17 -> 0

Sheet 13.PMH kiad
N1: 13. melléklet .../2025. (...) önkormányzati rendelethez
C2: Medgyesegyházi Polgármesteri Hivatal 2026. évi kiadások kiemelt előirányzatonként forintban
A3: A | B3: B | C3: C | D3: D | F3: E | H3: F | J3: G | L3: H | N3: I | P3: J | R3: K | T3: L | V3: M
A4: Sor szám | B4: Kötelező/ nem kötelező | C4: Kiemelt előirányzatok | D4: Személyi juttatások | F4: Szociális hozzájárulási adó | H4: Dologi kiadások | J4: Egyéb működési célú támogatás Áht-n belül | L4: Egyéb működési célú kiadások | N4: Beruházások | P4: Felújítások | R4: Tartalék | T4: Finanszírozási kiadások | V4: Összesen
A5: 1 | C5: Szakfeladat | D5: 2026. évi előirányzat | E5: 2026. évi mód. előir | F5: 2026. évi előirányzat | G5: 2026. évi mód. előir | H5: 2026. évi előirányzat | I5: 2026. évi mód. előir | J5: 2026. évi előirányzat | K5: 2026. évi mód. előir | L5: 2026. évi előirányzat | M5: 2026. évi mód. előir | N5: 2026. évi előirányzat | O5: 2026. évi mód. előir | P5: 2026. évi előirányzat | Q5: 2026. évi mód. előir | R5: 2026. évi előirányzat | S5: 2026. évi mód. előir | T5: 2026. évi előirányzat | U5: 2026. évi mód. előir | V5: 2026. évi előirányzat | W5: 2025. évi mód. előir | X5: 2025. évi előirányzat | Y5: 2026. évi mód. előir
A6: 2 | B6: államigazg | C6: Államigazgatási feladatok | V6: =D6+F6+H6+J6+L6+N6+P6+R6+T6 -> 0 | W6: =E6+G6+I6+K6+M6+O6+Q6+S6+U6 -> 0 | X6: =F6+H6+J6+L6+N6+P6+R6+T6+V6 -> 0 | Y6: =E6+G6+I6+K6+M6+O6+Q6+S6+U6 -> 0
A7: 3 | B7: kötelező | C7: Önkormányzati igazgatási tevékenység | D7: 193280000 | F7: 23892000 | H7: 15000000 | V7: =D7+F7+H7+J7+L7+N7+P7+R7+T7 -> 232172000 | W7: =E7+G7+I7+K7+M7+O7+Q7+S7+U7 -> 0 | X7: =F7+H7+J7+L7+N7+P7+R7+T7+V7 -> 271064000 | Y7: =E7+G7+I7+K7+M7+O7+Q7+S7+U7 -> 0
A8: 4 | B8: kötelező | C8: Adó igazgatás | D8: 11205000 | F8: 1426000 | H8: 64000 | V8: =D8+F8+H8+J8+L8+N8+P8+R8+T8 -> 12695000 | Y8: =E8+G8+I8+K8+M8+O8+Q8+S8+U8 -> 0
A9: 5 | B9: kötelező | C9: Önkományzati választás | V9: =D9+F9+H9+J9+L9+N9+P9+R9+T9 -> 0 | W9: =E9+G9+I9+K9+M9+O9+Q9+S9+U9 -> 0 | X9: =F9+H9+J9+L9+N9+P9+R9+T9+V9 -> 0 | Y9: =E9+G9+I9+K9+M9+O9+Q9+S9+U9 -> 0
A10: 6 | C10: Alaptevékenység összesen | D10: =SUM(D6:D9) -> 204485000 | E10: =SUM(E6:E9) -> 0 | F10: =SUM(F6:F9) -> 25318000 | G10: =SUM(G6:G9) -> 0 | H10: =SUM(H6:H9) -> 15064000 | I10: =SUM(I6:I9) -> 0 | J10: =SUM(J6:J9) -> 0 | K10: =SUM(K6:K9) -> 0 | ... U10: =SUM(U6:U9) -> 0 | V10: =D10+F10+H10+J10+L10+N10+P10+R10+T10 -> 244867000 | W10: =SUM(W6:W9) -> 0 | X10: =SUM(X6:X9) -> 271064000 | Y10: =E10+G10+I10+K10+M10+O10+Q10+S10+U10 -> 0
A11: 7 | C11: Kötelező | D11: =D7++D8+D9 -> 204485000 | E11: =E7++E8+E9 -> 0 | F11: =F7++F8+F9 -> 25318000 | G11: =G7++G8+G9 -> 0 | H11: =H7++H8+H9 -> 15064000 | I11: =I7++I8+I9 -> 0 | J11: =J7++J8+J9 -> 0 | K11: =K7++K8+K9 -> 0 | ... U11: =U7++U8+U9 -> 0 | V11: =D11+F11+H11+J11+L11+N11+P11+R11+T11 -> 244867000 | W11: =W7+W9 -> 0 | X11: =X7+X9 -> 271064000 | Y11: =E11+G11+I11+K11+M11+O11+Q11+S11+U11 -> 0
A12: 8 | C12: Államigazgatási feladatok | D12: =D6 -> 0 | E12: =E6 -> 0 | F12: =F6 -> 0 | G12: =G6 -> 0 | H12: =H6 -> 0 | I12: =I6 -> 0 | J12: =J6 -> 0 | K12: =K6 -> 0 | ... U12: =U6 -> 0 | V12: =D12+F12+H12+J12+L12+N12+P12+R12+T12 -> 0 | W12: =W6 -> 0 | X12: =X6 -> 0 | Y12: =E12+G12+I12+K12+M12+O12+Q12+S12+U12 -> 0
A13: 9 | C13: Engedélyezett létszám | V13: 17 | W13: 17 | X13: 17
A14: 10 | C14: ebből: közfoglalkoztatott: | V14: 0 | W14: 0 | X14: 0 | Y14: 0

Sheet 12.Önk kiad
X1: 12. melléklet a ..../2026. (....) önkormányzati rendelethez
C2: Az Önkormányzat 2026. évi kiadások kiemelt előirányzatonként forintban
A3: A | B3: B | C3: C | D3: D | F3: E | H3: F | J3: G | L3: H | N3: I | P3: J | R3: L | T3: M | V3: N | X3: O | Z3: P | AB3: R | AD3: S | AG3: T
A4: 1. | B4: kötelező/nem kötelező | C4: Kiemelt előirányzatok | D4: Személyi juttatások | F4: Szociális hozzájárulási adó | H4: Dologi kiadások | J4: Önkormányzat által folyósított ellátások | L4: Egyéb működési célú kiadások ÁH-n kívülre | N4: Egyéb működési célú kiadás ÁH-n belülre | P4: Egyéb Felhalmozási célú kiadás ÁH-n belülre | R4: Elvonások, befizetések | T4: Beruházások | V4: Felújítások | X4: Tartalék | Z4: Finanszírozási kiadások | AB4: Összesen | AD4: Finanszírozási kiadás Ktgvetési szerveknek | AF4: Kiadások összesen | AG4: Kiadások összesen
A5: 2. | C5: Szakfeladat/Feladat | D5: 2026. évi előirányzat | E5: 2026. évi mód. előir | F5: 2026. évi előirányzat | G5: 2026. évi mód. előir | H5: 2026. évi előirányzat | I5: 2026. évi mód. előir | J5: 2026. évi előirányzat | K5: 2026. évi mód. előir | L5: 2026. évi előirányzat | M5: 2026. évi mód. előir | N5: 2026. évi előirányzat | O5: 2026. évi mód. előir | P5: 2026. évi előirányzat | Q5: 2026. évi mód. előir | R5: 2026. évi előirányzat | S5: 2026. évi mód. előir | T5: 2026. évi előirányzat | U5: 2026. évi mód. előir | V5: 2026. évi előirányzat | W5: 2026. évi mód. előir | X5: 2026. évi előirányzat | Y5: 2026. évi mód. előir | Z5: 2026. évi előirányzat | AA5: 2026. évi mód. előir | AB5: 2026. évi előirányzat | AC5: 2026. évi mód. előir | AD5: 2026. évi előirányzat | AE5: 2026. évi mód. előir | AF5: 2026. évi előirányzat | AG5: 2026. évi mód. előir | AH5: 2020. évi bevétel | AI5: 2014. évi teljesítés
A6: 3. | B6: kötelező | C6: Képviselő-testület kiadásai | D6: 31772000 | F6: 4161000 | H6: 100000 | AB6: =D6+F6+H6+J6+L6+N6+P6+R6+T6+V6+X6+Z6 -> 36033000 | AC6: =E6+G6+I6+K6+M6+O6+Q6+S6+U6+W6+Y6+AA6 -> 0 | AF6: =AB6+AD6 -> 36033000 | AG6: =AC6+AE6 -> 0
A7: 4. | B7: kötelező | C7: Önkormányzati igazgatás | D7: 600000 | H7: 8200000 | T7: 2000000 | AB7: =D7+F7+H7+J7+L7+N7+P7+R7+T7+V7+X7+Z7 -> 10800000 | AC7: =E7+G7+I7+K7+M7+O7+Q7+S7+U7+W7+Y7+AA7 -> 0 | AF7: =AB7+AD7 -> 10800000 | AG7: =AC7+AE7 -> 0
A8: 5. | B8: kötelező | C8: Lakóingatlan bérbeadása | H8: 259000 | V8: 1000000 | AB8: =D8+F8+H8+J8+L8+N8+P8+R8+T8+V8+X8+Z8 -> 1259000 | AC8: =E8+G8+I8+K8+M8+O8+Q8+S8+U8+W8+Y8+AA8 -> 0 | AF8: =AB8+AD8 -> 1259000 | AG8: =AC8+AE8 -> 0
A9: 6. | B9: kötelező | C9: Nem lakó ingatlan bérbe adása, üzemelése | H9: 6000000 | V9: 8443000 | AB9: =D9+F9+H9+J9+L9+N9+P9+R9+T9+V9+X9+Z9 -> 14443000 | AC9: =E9+G9+I9+K9+M9+O9+Q9+S9+U9+W9+Y9+AA9 -> 0 | AF9: =AB9+AD9 -> 14443000 | AG9: =AC9+AE9 -> 0
A10: 7. | B10: kötelező | C10: Közvilágítás | H10: 26500000 | AB10: =D10+F10+H10+J10+L10+N10+P10+R10+T10+V10+X10+Z10 -> 26500000 | AC10: =E10+G10+I10+K10+M10+O10+Q10+S10+U10+W10+Y10+AA10 -> 0 | AF10: =AB10+AD10 -> 26500000 | AG10: =AC10+AE10 -> 0
A11: 8. | B11: kötelező | C11: Tartalék | X11: 5000000 | AB11: =D11+F11+H11+J11+L11+N11+P11+R11+T11+V11+X11+Z11 -> 5000000 | AC11: =E11+G11+I11+K11+M11+O11+Q11+S11+U11+W11+Y11+AA11 -> 0 | AF11: =AB11+AD11 -> 5000000 | AG11: =AC11+AE11 -> 0
A12: 9. | B12: kötelező | C12: Lakhatási támogatás | AB12: =D12+F12+H12+J12+L12+N12+P12+R12+T12+V12+X12+Z12 -> 0 | AC12: =E12+G12+I12+K12+M12+O12+Q12+S12+U12+W12+Y12+AA12 -> 0 | AF12: =AB12+AD12 -> 0 | AG12: =AC12+AE12 -> 0
A13: 10. | B13: kötelező | C13: Gyógyszer támogatás | J13: 300000 | AB13: =D13+F13+H13+J13+L13+N13+P13+R13+T13+V13+X13+Z13 -> 300000 | AC13: =E13+G13+I13+K13+M13+O13+Q13+S13+U13+W13+Y13+AA13 -> 0 | AF13: =AB13+AD13 -> 300000 | AG13: =AC13+AE13 -> 0
A14: 11. | B14: nem kötelező | C14: Bursa Támogatás | N14: 500000 | AB14: =D14+F14+H14+J14+L14+N14+P14+R14+T14+V14+X14+Z14 -> 500000 | AC14: =E14+G14+I14+K14+M14+O14+Q14+S14+U14+W14+Y14+AA14 -> 0 | AF14: =AB14+AD14 -> 500000 | AG14: =AC14+AE14 -> 0
A15: 12. | B15: kötelező | C15: Egyszeri támogatás | H15: 6000000 | J15: 2800000 | AB15: =D15+F15+H15+J15+L15+N15+P15+R15+T15+V15+X15+Z15 -> 8800000 | AC15: =E15+G15+I15+K15+M15+O15+Q15+S15+U15+W15+Y15+AA15 -> 0 | AF15: =AB15+AD15 -> 8800000 | AG15: =AC15+AE15 -> 0
A16: 13. | B16: kötelező | C16: Krízis | J16: 500000 | AB16: =D16+F16+H16+J16+L16+N16+P16+R16+T16+V16+X16+Z16 -> 500000 | AC16: =E16+G16+I16+K16+M16+O16+Q16+S16+U16+W16+Y16+AA16 -> 0 | AF16: =AB16+AD16 -> 500000 | AG16: =AC16+AE16 -> 0
A17: 14. | B17: kötelező | C17: Köztemetés | J17: 500000 | AB17: =D17+F17+H17+J17+L17+N17+P17+R17+T17+V17+X17+Z17 -> 500000 | AC17: =E17+G17+I17+K17+M17+O17+Q17+S17+U17+W17+Y17+AA17 -> 0 | AF17: =AB17+AD17 -> 500000 | AG17: =AC17+AE17 -> 0
A18: 15. | B18: kötelező | C18: Hulladék szállítási kedvezmény | J18: 50000 | AB18: =D18+F18+H18+J18+L18+N18+P18+R18+T18+V18+X18+Z18 -> 50000 | AC18: =E18+G18+I18+K18+M18+O18+Q18+S18+U18+W18+Y18+AA18 -> 0 | AF18: =AB18+AD18 -> 50000 | AG18: =AC18+AE18 -> 0
A19: 16. | B19: kötelező | C19: Hosszabb távú közfoglakoztatás | D19: 18321000 | F19: 1191000 | AB19: =D19+F19+H19+J19+L19+N19+P19+R19+T19+V19+X19+Z19 -> 19512000 | AC19: =E19+G19+I19+K19+M19+O19+Q19+S19+U19+W19+Y19+AA19 -> 0 | AF19: =AB19+AD19 -> 19512000 | AG19: =AC19+AE19 -> 0
A20: 17. | B20: kötelező | C20: Start mintaprogram | D20: 18434000 | F20: 1198000 | AB20: =D20+F20+H20+J20+L20+N20+P20+R20+T20+V20+X20+Z20 -> 19632000 | AC20: =E20+G20+I20+K20+M20+O20+Q20+S20+U20+W20+Y20+AA20 -> 0 | AF20: =AB20+AD20 -> 19632000 | AG20: =AC20+AE20 -> 0
A21: 18. | B21: nem kötelező | C21: Start porgram önerő | D21: 150000 | H21: 1850000 | T21: 13492000 | AB21: =D21+F21+H21+J21+L21+N21+P21+R21+T21+V21+X21+Z21 -> 15492000 | AC21: =E21+G21+I21+K21+M21+O21+Q21+S21+U21+W21+Y21+AA21 -> 0 | AF21: =AB21+AD21 -> 15492000 | AG21: =AC21+AE21 -> 0
A22: 19. | B22: kötelező | C22: Állami támogatások és megelőlegezések visszafizetése | H22: 5500000 | R22: 4000000 | Z22: 22381820 | AB22: =D22+F22+H22+J22+L22+N22+P22+R22+T22+V22+X22+Z22 -> 31881820 | AC22: =E22+G22+I22+K22+M22+O22+Q22+S22+U22+W22+Y22+AA22 -> 0 | AF22: =AB22+AD22 -> 31881820 | AG22: =AC22+AE22 -> 0
A23: 20. | B23: kötelező | C23: Önkormányzati üzemeltetési feladatok | D23: 33239000 | F23: 4799000 | H23: 56235000 | AB23: =D23+F23+H23+J23+L23+N23+P23+R23+T23+V23+X23+Z23 -> 94273000 | AC23: =E23+G23+I23+K23+M23+O23+Q23+S23+U23+W23+Y23+AA23 -> 0 | AF23: =AB23+AD23 -> 94273000 | AG23: =AC23+AE23 -> 0
A24: 21. | B24: kötelező | C24: Éven túli céllhitel törlesztése | H24: 8000000 | Z24: 11580000 | AB24: =D24+F24+H24+J24+L24+N24+P24+R24+T24+V24+X24+Z24 -> 19580000 | AC24: =E24+G24+I24+K24+M24+O24+Q24+S24+U24+W24+Y24+AA24 -> 0 | AF24: =AB24+AD24 -> 19580000 | AG24: =AC24+AE24 -> 0
A25: 22. | B25: kötelező | C25: Likvid hitel | H25: 4000000 | Z25: 500000000 | AB25: =D25+F25+H25+J25+L25+N25+P25+R25+T25+V25+X25+Z25 -> 504000000 | AC25: =E25+G25+I25+K25+M25+O25+Q25+S25+U25+W25+Y25+AA25 -> 0 | AF25: =AB25+AD25 -> 504000000 | AG25: =AC25+AE25 -> 0
A26: 23. | B26: kötelező | C26: Háziorvosi feladatok, alapellátás | H26: 2500000 | AB26: =D26+F26+H26+J26+L26+N26+P26+R26+T26+V26+X26+Z26 -> 2500000 | AC26: =E26+G26+I26+K26+M26+O26+Q26+S26+U26+W26+Y26+AA26 -> 0 | AF26: =AB26+AD26 -> 2500000 | AG26: =AC26+AE26 -> 0
A27: 24. | B27: kötelező | C27: Köztemető fenntartás | H27: 250000 | AB27: =D27+F27+H27+J27+L27+N27+P27+R27+T27+V27+X27+Z27 -> 250000 | AC27: =E27+G27+I27+K27+M27+O27+Q27+S27+U27+W27+Y27+AA27 -> 0 | AF27: =AB27+AD27 -> 250000 | AG27: =AC27+AE27 -> 0
A28: 25. | B28: kötelező | C28: Medgyesegyházi Energiaközösség Kft támogatása | L28: 7500000 | AB28: =D28+F28+H28+J28+L28+N28+P28+R28+T28+V28+X28+Z28 -> 7500000 | AC28: =E28+G28+I28+K28+M28+O28+Q28+S28+U28+W28+Y28+AA28 -> 0 | AF28: =AB28+AD28 -> 7500000 | AG28: =AC28+AE28 -> 0
A29: 26. | B29: kötelező | C29: Ipari Park Kft. Támogatása | L29: 2500000 | AB29: =D29+F29+H29+J29+L29+N29+P29+R29+T29+V29+X29+Z29 -> 2500000 | AC29: =E29+G29+I29+K29+M29+O29+Q29+S29+U29+W29+Y29+AA29 -> 0 | AF29: =AB29+AD29 -> 2500000 | AG29: =AC29+AE29 -> 0
A30: 27. | B30: kötelező | C30: Óvodai gyermekétkeztetés | H30: 32500000 | AB30: =D30+F30+H30+J30+L30+N30+P30+R30+T30+V30+X30+Z30 -> 32500000 | AC30: =E30+G30+I30+K30+M30+O30+Q30+S30+U30+W30+Y30+AA30 -> 0 | AF30: =AB30+AD30 -> 32500000 | AG30: =AC30+AE30 -> 0
A31: 28. | B31: kötelező | C31: Mini bölcsi, bölcsődei gyerekétkeztetés | H31: 3600000 | V31: 1000000 | AB31: =D31+F31+H31+J31+L31+N31+P31+R31+T31+V31+X31+Z31 -> 4600000 | AC31: =E31+G31+I31+K31+M31+O31+Q31+S31+U31+W31+Y31+AA31 -> 0 | AF31: =AB31+AD31 -> 4600000 | AG31: =AC31+AE31 -> 0
A32: 29. | B32: nem kötelező | C32: Kistérségi díjak | N32: 2000000 | AB32: =D32+F32+H32+J32+L32+N32+P32+R32+T32+V32+X32+Z32 -> 2000000 | AC32: =E32+G32+I32+K32+M32+O32+Q32+S32+U32+W32+Y32+AA32 -> 0 | AF32: =AB32+AD32 -> 2000000 | AG32: =AC32+AE32 -> 0
A33: 30. | B33: nem kötelező | C33: Tagdíjak | H33: 200000 | N33: 250000 | AB33: =D33+F33+H33+J33+L33+N33+P33+R33+T33+V33+X33+Z33 -> 450000 | AC33: =E33+G33+I33+K33+M33+O33+Q33+S33+U33+W33+Y33+AA33 -> 0 | AF33: =AB33+AD33 -> 450000 | AG33: =AC33+AE33 -> 0
A34: 31. | B34: kötelező | C34: Piac | H34: 700000 | AB34: =D34+F34+H34+J34+L34+N34+P34+R34+T34+V34+X34+Z34 -> 700000 | AC34: =E34+G34+I34+K34+M34+O34+Q34+S34+U34+W34+Y34+AA34 -> 0 | AF34: =AB34+AD34 -> 700000 | AG34: =AC34+AE34 -> 0
A35: 32. | B35: kötelező | C35: Közkifolyó kiadásai | H35: 500000 | AB35: =D35+F35+H35+J35+L35+N35+P35+R35+T35+V35+X35+Z35 -> 500000 | AC35: =E35+G35+I35+K35+M35+O35+Q35+S35+U35+W35+Y35+AA35 -> 0 | AF35: =AB35+AD35 -> 500000 | AG35: =AC35+AE35 -> 0
A36: 33. | B36: kötelező | C36: Szennyvíz és ivóvíz befizetési kötelezettség | L36: 14627058 | AB36: =D36+F36+H36+J36+L36+N36+P36+R36+T36+V36+X36+Z36 -> 14627058 | AC36: =E36+G36+I36+K36+M36+O36+Q36+S36+U36+W36+Y36+AA36 -> 0 | AF36: =AB36+AD36 -> 14627058 | AG36: =AC36+AE36 -> 0
A37: 34. | B37: kötelező | C37: Szünidei gyermekétkeztetés | H37: 1700000 | AB37: =D37+F37+H37+J37+L37+N37+P37+R37+T37+V37+X37+Z37 -> 1700000 | AC37: =E37+G37+I37+K37+M37+O37+Q37+S37+U37+W37+Y37+AA37 -> 0 | AF37: =AB37+AD37 -> 1700000 | AG37: =AC37+AE37 -> 0
A38: 35. | B38: nem kötelező | C38: Sportcsarnok | D38: 5651000 | F38: 301000 | H38: 20842000 | AB38: =D38+F38+H38+J38+L38+N38+P38+R38+T38+V38+X38+Z38 -> 26794000 | AC38: =E38+G38+I38+K38+M38+O38+Q38+S38+U38+W38+Y38+AA38 -> 0 | AF38: =AB38+AD38 -> 26794000 | AG38: =AC38+AE38 -> 0
A39: 36. | B39: nem kötelező | C39: Uszoda | H39: 24100000 | AB39: =D39+F39+H39+J39+L39+N39+P39+R39+T39+V39+X39+Z39 -> 24100000 | AC39: =E39+G39+I39+K39+M39+O39+Q39+S39+U39+W39+Y39+AA39 -> 0 | AF39: =AB39+AD39 -> 24100000 | AG39: =AC39+AE39 -> 0
A40: 37. | B40: nem kötelező | C40: Eszköz beszerzés (Sátor) | T40: 1540000 | AB40: =D40+F40+H40+J40+L40+N40+P40+R40+T40+V40+X40+Z40 -> 1540000 | AC40: =E40+G40+I40+K40+M40+O40+Q40+S40+U40+W40+Y40+AA40 -> 0 | AF40: =AB40+AD40 -> 1540000 | AG40: =AC40+AE40 -> 0
...

Sheet 14. GKP kiad
P1: 14. melléklet a .../2025. (....) önkormányzati rendelethez
C2: Gondozási Központ 2026. évi kiadások kiemelt előirányzatonként forintban
A3: A | B3: B | C3: C | D3: D | F3: E | H3: F | J3: G | L3: H | N3: I | P3: J | R3: K | T3: L | V3: M
A4: Sor szám | B4: Kötelező/nem kötelező | C4: Kiemelt előirányzatok | D4: Személyi juttatások | F4: Szociális hozzájárulási adó | H4: Dologi kiadások | J4: Önkormányzat által folyósított ellátások | L4: Egyéb működési célú kiadások Áht-n kívülre | N4: Beruházások | P4: Felújítások | R4: Tartalék | T4: Finanszíroszási kiadások | V4: Összesen
A5: 1. | C5: Szakfeladat | D5: 2026. évi előirányzat | E5: 2026. évi mód. előir | F5: 2026. évi előirányzat | G5: 2026. évi mód. előir | H5: 2026. évi előirányzat | I5: 2026. évi mód. előir | J5: 2026. évi előirányzat | K5: 2026. évi mód. előir | L5: 2026. évi előirányzat | M5: 2026. évi mód. előir | N5: 2026. évi előirányzat | O5: 2026. évi mód. előir | P5: 2026. évi előirányzat | Q5: 2026. évi mód. előir | R5: 2026. évi előirányzat | S5: 2026. évi mód. előir | T5: 2026. évi előirányzat | U5: 2026. évi mód. előir | V5: 2026. évi előirányzat | W5: 2026. évi mód. előir
A6: 2. | B6: kötelező | C6: Háziorvosi alapellátás | H6: 4705000 | V6: =T6+R6+P6+N6+L6+J6+H6+F6+D6 -> 4705000 | W6: =E6+G6+I6+K6+M6+O6+Q6+S6+U6 -> 0
A7: 3. | B7: kötelező | C7: Fogorvosi alapellátás | H7: 800000 | V7: =T7+R7+P7+N7+L7+J7+H7+F7+D7 -> 800000 | W7: =E7+G7+I7+K7+M7+O7+Q7+S7+U7 -> 0
A8: 4. | B8: nem kötelező | C8: Egészségügyi labor | D8: 1109000 | F8: 145000 | H8: 2056000 | V8: =T8+R8+P8+N8+L8+J8+H8+F8+D8 -> 3310000 | W8: =E8+G8+I8+K8+M8+O8+Q8+S8+U8 -> 0
A9: 5. | B9: kötelező | C9: Család és nővédelmi eü. gondozás | H9: 635000 | V9: =T9+R9+P9+N9+L9+J9+H9+F9+D9 -> 635000 | W9: =E9+G9+I9+K9+M9+O9+Q9+S9+U9 -> 0
A10: 6. | B10: kötelező | C10: Ifjúsági- egészségügyi gondozás | H10: 2121000 | V10: =T10+R10+P10+N10+L10+J10+H10+F10+D10 -> 2121000 | W10: =E10+G10+I10+K10+M10+O10+Q10+S10+U10 -> 0
A11: 7. | B11: nem kötelező | C11: Időskorúak bentlakásos szoc. ell. | D11: 98508000 | F11: 12684000 | H11: 78790000 | N11: 1000000 | V11: =T11+R11+P11+N11+L11+J11+H11+F11+D11 -> 190982000 | W11: =E11+G11+I11+K11+M11+O11+Q11+S11+U11 -> 0
