Workbook
Name Verzió: #REF!
Name Verzió: #REF!
Name Verzió: #REF!
Name Verzió: #REF!
Name Verzió: #REF!
Name Verzió: #REF!
Name Verzió: #REF!
Name Verzió: #REF!
Name Verzió: #REF!
Name Verzió: #REF!

Sheet 1.összevont
B1: 1. melléklet a /2026.(………………) önkormányzati rendelethez
A2: Medgyesegyháza Városi Önkormányzat
A3: 2026. ÉVI KÖLTSÉGVETÉSÉNEK ÖSSZEVONT MÉRLEGE (forintban)
A4: BEVÉTELEK
B6: A | C6: B | D6: C | E6: D
B7: Sor- szám | C7: Bevételi jogcímek | D7: 2026. évi előirányzat | E7: 2026. évi mód. előir
B8: 1. | C8: Önkormányzatok működési támogatásai (1.1+……+1.6.) | D8: =SUM(D9:D14) -> 798886177 | E8: =SUM(E9:E14) -> 0
B9: 1.1. | C9: Helyi önkormányzatok működésének általános támogatása(B111) | D9: ='7.Önk bev.'!I14 -> 192686995 | E9: ='7.Önk bev.'!J14 -> 0
B10: 1.2. | C10: Önkormányzatok egyes köznevelési feladatainak támogatása(B112) | D10: ='7.Önk bev.'!I15 -> 174939896 | E10: ='7.Önk bev.'!J15 -> 0
B11: 1.3. | C11: Önkormányzatok szociális és gyermekjóléti feladatainak támogatása(B113) | D11: ='7.Önk bev.'!I16+'7.Önk bev.'!I17+'7.Önk bev.'!I18+'7.Önk bev.'!I19 -> 223639060 | E11: ='7.Önk bev.'!J16+'7.Önk bev.'!J17+'7.Önk bev.'!J18+'7.Önk bev.'!J19 -> 0
B12: 1.4. | C12: Önkormányzatok kulturális feladatainak támogatása(B114) | D12: ='7.Önk bev.'!I20 -> 16592476 | E12: ='7.Önk bev.'!J20 -> 0
B13: 1.5. | C13: Működési célú költségvetési támogatások és kiegészítő támogatások(B115) | D13: ='7.Önk bev.'!I21 -> 173737773 | E13: ='7.Önk bev.'!J21 -> 0
B14: 1.6. | C14: Elszámolásból származó bevételek(B16) | D14: ='7.Önk bev.'!I22 -> 17289977 | E14: ='7.Önk bev.'!J22 -> 0
B15: 2. | C15: Működési célú támogatások ÁHT-n belülről (2.1+2.2.) | D15: =SUM(D16:D17) -> 33101775 | E15: =SUM(E16:E17) -> 0
B16: 2.1. | C16: Elvonások és befizetések bevételei
B17: 2.2. | C17: Egyéb működési célú támogatások bevételei (B16) | D17: ='7.Önk bev.'!M47 -> 33101775 | E17: ='7.Önk bev.'!N47 -> 0
B18: 2.3. | C18: 2.2.-ből EU-s támogatás
B19: 3. | C19: Felhalmozási célú támogatások ÁHT-n belülről (3.1.+3.2.) | D19: =SUM(D20:D21) -> 368354000 | E19: =SUM(E20:E21) -> 0
B20: 3.1. | C20: Felhalmozási célú önkormányzati támogatások(B23)
B21: 3.2. | C21: Egyéb felhalmozási célú támogatások(B25) | D21: ='7.Önk bev.'!O47 -> 368354000 | E21: ='7.Önk bev.'!P47 -> 0
B22: 3.3. | C22: 3.2.-ből EU-s támogatás | D22: 343055000
B23: 4. | C23: Közhatalmi bevételek (4.1+4.2.+4.3.+4.4.) | D23: =SUM(D25:D31) -> 227260000 | E23: =E24 -> 0
B24: 4.1. | C24: Helyi adók (4.1.1.+….+4.1.3) | D24: =SUM(D25:D28) -> 224360000 | E24: =SUM(E25:E31) -> 0
B25: 4.1.1. | C25: Jövedelemadók (Termőföld bérbeadás)(B35) | D25: ='7.Önk bev.'!G7 -> 140000 | E25: ='7.Önk bev.'!H7 -> 0
B26: 4.1.2. | C26: Értékesítési és forgalmi adók (iparűzési adó) | D26: ='7.Önk bev.'!G6 -> 180000000 | E26: ='7.Önk bev.'!H6 -> 0
B27: 4.2. | C27: Építményadó és kommunális adó | D27: ='7.Önk bev.'!G12+'7.Önk bev.'!G13 -> 44000000 | E27: ='7.Önk bev.'!H12+'7.Önk bev.'!H13 -> 0
B28: 4.3. | C28: Idegenforgalmi adó | D28: ='7.Önk bev.'!G11 -> 220000 | E28: ='7.Önk bev.'!H11 -> 0
B29: 4.4. | C29: Talajterhelési díj | D29: ='7.Önk bev.'!G8 -> 1500000 | E29: ='7.Önk bev.'!H8 -> 0
B30: 4.5. | C30: Egyéb közhatalmi bevételek | D30: ='7.Önk bev.'!G9 -> 0 | E30: ='7.Önk bev.'!H9 -> 0
B31: 4.6. | C31: Pőtlék, birság | D31: ='7.Önk bev.'!G10 -> 1400000 | E31: ='7.Önk bev.'!H10 -> 0
B32: 5. | C32: Működési bevételek (B4) | D32: ='7.Önk bev.'!E69 -> 108672000 | E32: ='7.Önk bev.'!F69 -> 0
B33: 6. | C33: Felhalmozási bevételek | D33: ='7.Önk bev.'!S69 -> 21457000 | E33: ='7.Önk bev.'!T69 -> 0
B34: 7. | C34: Működési célú átvett pénzeszközök | D34: ='7.Önk bev.'!Q62 -> 0 | E34: ='7.Önk bev.'!R62 -> 0
B35: 8. | C35: Felhalmozási célú átvett pénzeszközök
B36: 9. | C36: KÖLTSÉGVETÉSI BEVÉTELEK ÖSSZESEN: (1+…+8) | D36: =D8+D15+D19+D23+D32+D33+D34+D35 -> 1557730952 | E36: =E8+E15+E19+E23+E32+E33+E34+E35 -> 0
B37: 10. | C37: Hitel-, kölcsönfelévtel államháztartáson kívülről (10.1+…+10.3 | D37: =SUM(D38:D40) -> 500000000 | E37: =SUM(E38:E40) -> 0
B38: 10.1. | C38: Hosszú lejűratú hitelek, kölcsönök felvétele
B39: 10.2. | C39: Likviditási célú hitelek, kölcsönök felvétele pénzügyi vállalkozástól | D39: ='7.Önk bev.'!W44 -> 500000000 | E39: ='7.Önk bev.'!X44 -> 0
B40: 10.3. | C40: Rövid lejáratú hitelek, kölcsönök felvétele
B41: 11. | C41: Belföldi értékpapírok bevételei
B42: 12. | C42: Előző évi költségvetési maradvány igénybe vétele | D42: ='7.Önk bev.'!U69 -> 158168926 | E42: ='7.Önk bev.'!V69 -> 0
B43: 13. | C43: Belföldi finanszírozás bevételei (13.1.+13.2.) | D43: =D44+D45 -> 22000000 | E43: =E44+E45 -> 0
B44: 13.1. | C44: Államháztartáson belüli megelőlegezések | D44: ='7.Önk bev.'!W23 -> 22000000 | E44: ='7.Önk bev.'!X23 -> 0
B45: 13.2. | C45: Államháztartáson belüli megelőlegezések törlesztése
B46: 14. | C46: Külföldi finanszírozás bevételei
B47: 15. | C47: Adóssághoz nem kapcsolódó származékos ügyletek bevételei
B48: 16. | C48: FINANSZÍROZÁSI BEVÉTELEK ÖSSZESEN:(10.+…+16.) | D48: =D37+D41+D42+D43+D46+D47 -> 680168926 | E48: =E37+E41+E42+E43+E46+E47 -> 0
B49: 17. | C49: KÖLTSÉGVETÉSI ÉS FINANSZÍROZÁSI BEVÉTELEK ÖSSZESEN: (9.+17.) | D49: =D36+D48 -> 2237899878 | E49: =E36+E48 -> 0
B51: KIADÁSOK
B52: 2. számú táblázat
B53: Sor- szám | C53: Kiadási jogcímek | D53: 2026. évi előirányzat | E53: 2026. évi mód. előir
B54: 1. | C54: Működési költségvetés kiadásai (1.1.+…+1.5.+1.11.) | D54: =D55+D56+D57+D58+D59+D65+D60+D62 -> 1203094058 | E54: =E55+E56+E57+E58+E59+E65+E60 -> 0
B55: 1.1. | C55: Személyi juttatások | D55: ='12.Önk kiad'!D85 -> 676101000 | E55: ='12.Önk kiad'!E75 -> 0
B56: 1.2. | C56: Munkaadókat terhelő járulékok és szochó | D56: ='12.Önk kiad'!F85 -> 82315000 | E56: ='12.Önk kiad'!G75 -> 0
B57: 1.3. | C57: Dologi kiadások | D57: ='12.Önk kiad'!H85 -> 404151000 | E57: ='12.Önk kiad'!I75 -> 0
B58: 1.4. | C58: Ellátottak pénzbeli juttatásai | D58: ='12.Önk kiad'!J85 -> 4150000 | E58: ='12.Önk kiad'!K75 -> 0
B59: 1.5. | C59: Egyéb működési célú kiadások | D59: ='12.Önk kiad'!L85+'12.Önk kiad'!N85 -> 27377058 | E59: ='12.Önk kiad'!M75+'12.Önk kiad'!O75 -> 0
B60: 1.6. | C60: 1.5.-ből Előző évi elszámolásből származó befizetések | D60: ='12.Önk kiad'!R75 -> 0 | E60: ='12.Önk kiad'!S75 -> 0
B61: 1.7. | C61: Törvényi előírásokon alapuló befizetések
B62: 1.8. | C62: Elvonások befizetések | D62: ='12.Önk kiad'!R85 -> 4000000
B63: 1.9. | C63: Egyéb működési célú támogatások ÁHT-n belülre
B64: 1.10. | C64: Egyéb működési célú támogatások ÁHT-n kívülre
B65: 1.11. | C65: Tartalékok | D65: ='12.Önk kiad'!X85 -> 5000000 | E65: ='12.Önk kiad'!Y75 -> 0
B66: 1.12. | C66: 1.11.-ből: Általános tartalék | D66: ='12.Önk kiad'!X11 -> 5000000 | E66: ='12.Önk kiad'!Y10 -> 0
B67: 1.13. | C67: Céltartalék
B68: 2. | C68: Felhalmozási költségvetési kiadások (2.1.+2.3.+2.5.) | D68: =D69+D71+D73 -> 500844000 | E68: =E69+E71+E73 -> 0
B69: 2.1. | C69: Beruházások | D69: ='12.Önk kiad'!T85 -> 398100000 | E69: ='12.Önk kiad'!U75 -> 0
B70: 2.2 | C70: 2.1.-ből EU-s forrásból megvalósuló beruházás | D70: 345389000
B71: 2.3. | C71: Felújítások | D71: ='12.Önk kiad'!V85 -> 54709000 | E71: ='12.Önk kiad'!W75 -> 0
B72: 2.4. | C72: 2.3.-ból EU-s forrásból megvalósuló felújítás | D72: 31664000
B73: 2.5. | C73: Egyéb felhalmozási kiadások | D73: ='12.Önk kiad'!P85 -> 48035000 | E73: ='12.Önk kiad'!Q75 -> 0
B74: 2.6. | C74: 2.5.-ből Egyéb felhalmozási kiadás ÁHT-n belülre | D74: 48035000
B75: 2.7. | C75: Egyéb felhalmozási kiadás ÁHT-n kívülre
B76: 3. | C76: KÖLTSÉGVETÉSI KIADÁSOK ÖSSZESEN: (1.+2.) | D76: =D54+D68 -> 1703938058 | E76: =E54+E68 -> 0
B77: 4. | C77: Hitel-, kölcsöntörlesztés államháztartáson kívülre (4.1.+…+4.3.) | D77: =SUM(D78:D80) -> 511580000 | E77: =SUM(E78:E80) -> 0
B78: 4.1. | C78: Hosszú lejáratú hitelek, kölcsönök törlesztése pü vállalkozásoknak | D78: ='12.Önk kiad'!Z24 -> 11580000 | E78: ='12.Önk kiad'!AA22 -> 0
B79: 4.2. | C79: Likviditási célú hitelek, kölcsönök törlesztése pü vállalkozásoknak | D79: ='12.Önk kiad'!Z25 -> 500000000
B80: 4.3. | C80: Rövid lejáratú hitelek, kölcsönök törlesztése pü vállalkozásoknak
B81: 5. | C81: Belföldi értékpapírok vásárlásai
B82: 6. | C82: Belföldi finanszírozás kiadásai (=6.1.) | D82: =D83 -> 22381820 | E82: =E83 -> 0
B83: 6.1. | C83: Államháztartáson belüli megelőlegezések visszafizetése | D83: ='12.Önk kiad'!Z22 -> 22381820 | E83: ='12.Önk kiad'!AA20 -> 0
B84: 7. | C84: Külföldi finanszírozás kiadásai
B85: 8. | C85: Adóssághoz nem kapcsolódó származékos ügyletek
B86: 9. | C86: Váltókiadások
B87: 10. | C87: FINANSZÍROZÁSI KIADÁSOK ÖSSZESEN: (4.+…+9.) | D87: =D77+D81+D82+D84+D85+D86 -> 533961820 | E87: =E77+E81+E82+E84+E85+E86 -> 0
B88: 11. | C88: KIADÁSOK ÖSSZESEN: (3+10) | D88: =D76+D87 -> 2237899878 | E88: =E76+E87 -> 0
B90: KÖLTSÉGVETÉSI, FINANSZÍROZOZÁSI BEVÉTELEK ÉS KIADÁSOK EGYENLEGE
B91: 3. számú táblázat
B92: 1. | C92: Költségvetési hiány, többlet (költségvetési bevételek 9. sor - költségvetési kiadások 3. sor) (+/-) | D92: =D36-D76 -> -146207106 | E92: =E36-E76 -> 0
B93: 2. | C93: Finanszírozási bevételek kiadások egyenlege (finanszírozási bevételek 17. sor - finanszírozási kiadások 10. sor) (+/-) | D93: =D48-D87 -> 146207106 | E93: =E48-E87 -> 0
C96: 2026. január 1-én engedélyezett létszámkeret
C97: Medgyesegyháza Városi Önkormányzat
C98: 1 fő polgármester
C99: 6 fő képviselő
C100: 1 fő közalkalmazott
C101: 6 fő MT harálya alá tartozó munkavállaló
C103: 41 fő közmunkás
C104: 14 fő hosszabb távú közfoglalkoztatott
C107: Medgyesegyháza Polgármesteri Hivatal
C108: 16 fő köztisztviselő
...

Sheet 2.kötelező
A1: 2. melléklet a /2026.(………………) önkormányzati rendelethez
A2: Medgyesegyháza Városi Önkormányzat
A3: 2026. ÉVI KÖLTSÉGVETÉS KÖTELEZŐ FELADATAINAK MÉRLEGE (forintban)
A4: BEVÉTELEK
A6: A | B6: B | C6: C | D6: D
A7: Sor- szám | B7: Bevételi jogcímek | C7: 2026. évi előirányzat | D7: 2026. évi mód. előir
A8: 1. | B8: Önkormányzatok működési támogatásai (1.1+……+1.6.) | C8: =SUM(C9:C14) -> 696299616 | D8: =SUM(D9:D14) -> 0
A9: 1.1. | B9: Helyi önkormányzatok működésének általános támogatása(B11) | C9: ='7.Önk bev.'!I14 -> 192686995 | D9: ='1.összevont'!E9 -> 0
A10: 1.2. | B10: Önkormányzatok egyes köznevelési feladatainak támogatása(B12) | C10: ='7.Önk bev.'!I15 -> 174939896 | D10: ='1.összevont'!E10 -> 0
A11: 1.3. | B11: Önkormányzatok szociális és gyermekjóléti feladatainak támogatása(B13) | C11: ='7.Önk bev.'!I16+'7.Önk bev.'!I18+'7.Önk bev.'!I19 -> 121052499 | D11: ='7.Önk bev.'!J15+'7.Önk bev.'!J17+'7.Önk bev.'!J18 -> 0
A12: 1.4. | B12: Önkormányzatok kulturális feladatainak támogatása(B14) | C12: ='7.Önk bev.'!I20 -> 16592476 | D12: ='7.Önk bev.'!J19 -> 0
A13: 1.5. | B13: Működési célú költségvetési támogatások és kiegészítő támogatások(B15) | C13: ='7.Önk bev.'!I21 -> 173737773 | D13: ='7.Önk bev.'!J20 -> 0
A14: 1.6. | B14: Elszámolásból bevételek(B16) | C14: ='7.Önk bev.'!I22 -> 17289977 | D14: ='1.összevont'!E14 -> 0
A15: 2. | B15: Működési célú támogatások ÁHT-n belülről (2.1+2.2.) | C15: =SUM(C16:C17) -> 32158775 | D15: =SUM(D16:D17) -> 0
A16: 2.1. | B16: Elvonások és befizetések bevételei
A17: 2.2. | B17: Egyéb működési célú támogatások bevételei(B16) | C17: ='7.Önk bev.'!M25+'7.Önk bev.'!M26+'7.Önk bev.'!M29 -> 32158775 | D17: ='7.Önk bev.'!N41 -> 0
A18: 2.3. | B18: 2.2.-ből EU-s támogatás
A19: 3. | B19: Felhalmozási célú támogatások ÁHT-n belülről (3.1.+3.2.) | C19: =SUM(C20:C21) -> 0 | D19: =SUM(D20:D21) -> 0
A20: 3.1. | B20: Felhalmozási célú önkormányzati támogatások(B22)
A21: 3.2. | B21: Egyéb felhalmozási célú támogatások(B25) | C21: ='7.Önk bev.'!O59 -> 0 | D21: ='7.Önk bev.'!P59 -> 0
A22: 3.3. | B22: 3.2.-ből EU-s támogatás
A23: 4. | B23: Közhatalmi bevételek (4.1+4.2.+4.3.+4.4.) | C23: =C24+C29+C30+C31 -> 227260000 | D23: =D24+D29+D30+D31 -> 0
A24: 4.1. | B24: Helyi adók (4.1.1.+….+4.1.3) | C24: =SUM(C25:C28) -> 224360000 | D24: =SUM(D25:D28) -> 0
A25: 4.1.1. | B25: Jövedelemadók (Termőföld bérbeadás) | C25: ='7.Önk bev.'!G7 -> 140000 | D25: ='7.Önk bev.'!H7 -> 0
A26: 4.1.2. | B26: Értékesítési és forgalmi adók (iparűzési adó) | C26: ='7.Önk bev.'!G6 -> 180000000 | D26: ='7.Önk bev.'!H6 -> 0
A27: 4.2. | B27: Építményadó és kommunális adó | C27: ='7.Önk bev.'!G12+'7.Önk bev.'!G13 -> 44000000 | D27: ='7.Önk bev.'!H12 -> 0
A28: 4.3. | B28: Idegenforgalmi adó | C28: ='7.Önk bev.'!G11 -> 220000 | D28: ='7.Önk bev.'!H11 -> 0
A29: 4.4. | B29: Talajterhelési díj | C29: ='7.Önk bev.'!G8 -> 1500000 | D29: ='7.Önk bev.'!H8 -> 0
A30: 4.5. | B30: Egyéb közhatalmi bevételek | C30: ='7.Önk bev.'!G9 -> 0 | D30: ='7.Önk bev.'!H9 -> 0
A31: 4.6. | B31: Pótlék, birság | C31: ='7.Önk bev.'!G10 -> 1400000 | D31: ='7.Önk bev.'!H10 -> 0
A32: 5. | B32: Működési bevételek (B4) | C32: ='7.Önk bev.'!E66 -> 59913000 | D32: ='7.Önk bev.'!F59 -> 0
A33: 6. | B33: Felhalmozási bevételek | C33: ='7.Önk bev.'!S32 -> 21457000
A34: 7. | B34: Működési célú átvett pénzeszközök | C34: ='7.Önk bev.'!Q59 -> 0 | D34: ='7.Önk bev.'!R59 -> 0
A35: 8. | B35: Felhalmozási célú átvett pénzeszközök | C35: 0 | D35: 0
A36: 9. | B36: KÖLTSÉGVETÉSI BEVÉTELEK ÖSSZESEN: (1+…+8) | C36: =C8+C15+C19+C23+C32+C33+C34+C35 -> 1037088391 | D36: =D8+D15+D19+D23+D32+D33+D34+D35 -> 0
A37: 10. | B37: Hitel-, kölcsönfelévtel államháztartáson kívülről (10.1+…+10.3 | C37: =SUM(C38:C40) -> 500000000 | D37: =SUM(D38:D40) -> 0
A38: 10.1. | B38: Hosszú lejűratú hitelek, kölcsönök felvétele
A39: 10.2. | B39: Likviditási célú hitelek, kölcsönök felvétele pénzügyi vállalkozástól | C39: ='7.Önk bev.'!W44 -> 500000000 | D39: ='7.Önk bev.'!X59 -> 0
A40: 10.3. | B40: Rövid lejáratú hitelek, kölcsönök felvétele
A41: 11. | B41: Belföldi értékpapírok bevételei
A42: 12. | B42: Előző évi költségvetési maradvány igénybe vétele | C42: ='7.Önk bev.'!U66 -> 158168926 | D42: ='7.Önk bev.'!V59 -> 0
A43: 13. | B43: Belföldi finanszírozás bevételei (13.1.+13.2.) | C43: =SUM(C44:C45) -> 22000000 | D43: =SUM(D44:D45) -> 0
A44: 13.1. | B44: Államháztartáson belüli megelőlegezések | C44: ='7.Önk bev.'!W23 -> 22000000 | D44: ='7.Önk bev.'!X30 -> 0
A45: 13.2. | B45: Államháztartáson belüli megelőlegezések törlesztése
A46: 14. | B46: Külföldi finanszírozás bevételei | C46: 0 | D46: 0
A47: 15. | B47: Váltóbevételek | C47: 0 | D47: 0
A48: 16. | B48: Adóssághoz nem kapcsolódó származékos ügyletek bevételei | C48: 0 | D48: 0
A49: 17. | B49: FINANSZÍROZÁSI BEVÉTELEK ÖSSZESEN:(10.+…+16.) | C49: =C37+C41+C42+C43+C46+C47+C48 -> 680168926 | D49: =D37+D41+D42+D43+D46+D47+D48 -> 0
A50: 18. | B50: KÖLTSÉGVETÉSI ÉS FINANSZÍROZÁSI BEVÉTELEK ÖSSZESEN: (9.+17.) | C50: =C36+C49 -> 1717257317 | D50: =D36+D49 -> 0
A52: KIADÁSOK
A53: 2. számú táblázat
A54: Sor- szám | B54: Kiadási jogcímek | C54: 2026. évi előirányzat | D54: 2026. évi mód. előir
A55: 1. | B55: Működési költségvetés kiadásai (1.1.+…+1.5.+1.11.) | C55: =C56+C57+C58+C59+C60+C66+C61 -> 914814058 | D55: =D56+D57+D58+D59+D60+D66 -> 0
A56: 1.1. | B56: Személyi juttatások | C56: ='12.Önk kiad'!D82 -> 570121000 | D56: ='12.Önk kiad'!E72 -> 0
A57: 1.2. | B57: Munkaadókat terhelő járulékok és szochó | C57: ='12.Önk kiad'!F82 -> 69126000 | D57: ='12.Önk kiad'!G72 -> 0
A58: 1.3. | B58: Dologi kiadások | C58: ='12.Önk kiad'!H82 -> 237790000 | D58: ='12.Önk kiad'!I72 -> 0
A59: 1.4. | B59: Ellátottak pénzbeli juttatásai | C59: ='12.Önk kiad'!J82 -> 4150000 | D59: ='12.Önk kiad'!K72 -> 0
A60: 1.5. | B60: Egyéb működési célú kiadások | C60: ='12.Önk kiad'!L82 -> 24627058 | D60: ='12.Önk kiad'!M72+'12.Önk kiad'!O72+D63 -> 0
A61: 1.6. | B61: 1.5.-ből Előző évi elszámolásból származó befizetések | C61: =SUM(C62:C64) -> 4000000 | D61: =SUM(D62:D64) -> 0
A62: 1.7. | B62: Törvényi előírásokon alapuló befizetések
A63: 1.8. | B63: Elvonások befizetések | C63: ='12.Önk kiad'!R82 -> 4000000 | D63: ='12.Önk kiad'!S56 -> 0
A64: 1.9. | B64: Egyéb működési célú támogatások ÁHT-n belülre | C64: ='12.Önk kiad'!N72 -> 0 | D64: ='12.Önk kiad'!O72 -> 0
A65: 1.10. | B65: Egyéb működési célú támogatások ÁHT-n kívülre
A66: 1.11. | B66: Tartalékok | C66: ='12.Önk kiad'!X82 -> 5000000 | D66: ='12.Önk kiad'!Y72 -> 0
A67: 1.12. | B67: 1.11.-ből: Általános tartalék | C67: 5000000
A68: 1.13. | B68: Céltartalék
A69: 2. | B69: Felhalmozási költségvetési kiadások (2.1.+2.3.+2.5.) | C69: =C70+C72+C74 -> 19909000 | D69: =D70+D72+D74 -> 0
A70: 2.1. | B70: Beruházások | C70: ='12.Önk kiad'!T82 -> 5116000 | D70: ='12.Önk kiad'!U72 -> 0
A71: 2.2 | B71: 2.1.-ből EU-s forrásból megvalósuló beruházás | C71: 0
A72: 2.3. | B72: Felújítások | C72: ='12.Önk kiad'!V82 -> 14793000 | D72: ='12.Önk kiad'!W72 -> 0
A73: 2.4. | B73: 2.3.-ból EU-s forrásból megvalósuló felújítás | C73: 0
A74: 2.5. | B74: Egyéb felhalmozási kiadások
A75: 2.6. | B75: 2.5.-ből Egyéb felhalmozási kiadás ÁHT-n belülre
A76: 2.7. | B76: Egyéb felhalmozási kiadás ÁHT-n kívülre
A77: 3. | B77: KÖLTSÉGVETÉSI KIADÁSOK ÖSSZESEN: (1.+2.) | C77: =C55+C69 -> 934723058 | D77: =D55+D69 -> 0
A78: 4. | B78: Hitel-, kölcsöntörlesztés államháztartáson kívülre (4.1.+…+4.3.) | C78: =SUM(C79:C81) -> 511580000 | D78: =SUM(D79:D81) -> 0
A79: 4.1. | B79: Hosszú lejáratú hitelek, kölcsönök törlesztése pü vállalkozásoknak | C79: ='12.Önk kiad'!Z24 -> 11580000 | D79: ='12.Önk kiad'!AA22 -> 0
A80: 4.2. | B80: Likviditási célú hitelek, kölcsönök törlesztése pü vállalkozásoknak | C80: ='12.Önk kiad'!Z25 -> 500000000
A81: 4.3. | B81: Rövid lejáratú hitelek, kölcsönök törlesztése pü vállalkozásoknak
A82: 5. | B82: Belföldi értékpapírok vásárlásai
A83: 6. | B83: Belföldi finanszírozás kiadásai (=6.1.) | C83: =C84 -> 22381820 | D83: =D84 -> 0
A84: 6.1. | B84: Államháztartáson belüli megelőlegezések visszafizetése | C84: ='12.Önk kiad'!Z22 -> 22381820 | D84: ='12.Önk kiad'!AA20 -> 0
A85: 7. | B85: Külföldi finanszírozás kiadásai
A86: 8. | B86: Adóssághoz nem kapcsolódó származékos ügyletek
A87: 9. | B87: Váltókiadások
A88: 10. | B88: FINANSZÍROZÁSI KIADÁSOK ÖSSZESEN: (4.+…+9.) | C88: =C78+C82+C83+C85+C86+C87 -> 533961820 | D88: =D78+D82+D83+D85+D86+D87 -> 0
A89: 11. | B89: KIADÁSOK ÖSSZESEN: (3+10) | C89: =C77+C88 -> 1468684878 | D89: =D77+D88 -> 0
A91: KÖLTSÉGVETÉSI, FINANSZÍROZOZÁSI BEVÉTELEK ÉS KIADÁSOK EGYENLEGE
A92: 3. számú táblázat
A93: 1. | B93: Költségvetési hiány, többlet (költségvetési bevételek 9. sor - költségvetési kiadások 3. sor) (+/-) | C93: =C36-C77 -> 102365333 | D93: =D36-D77 -> 0
A94: 2. | B94: Finanszírozási bevételek kiadások egyenlege (finanszírozási bevételek 17. sor - finanszírozási kiadások 10. sor) (+/-) | C94: =C49-C88 -> 146207106 | D94: =D49-D88 -> 0

Sheet 3.önként
A1: 3. melléklet a /2026.(………………) önkormányzati rendelethez
A2: Medgyesegyháza Városi Önkormányzat
A3: 2026. ÉVI KÖLTSÉGVETÉS ÖNKÉNT VÁLLALT FELADATAINAK MÉRLEGE (forintban)
A4: BEVÉTELEK
A6: A | B6: B | C6: C | D6: D
A7: Sor- szám | B7: Bevételi jogcímek | C7: 2026. évi előirányzat | D7: 2026. évi mód. előir
A8: 1. | B8: Önkormányzatok működési támogatásai (1.1+……+1.6.) | C8: =SUM(C9:C14) -> 102586561 | D8: =SUM(D9:D14) -> 0
A9: 1.1. | B9: Helyi önkormányzatok működésének általános támogatása
A10: 1.2. | B10: Önkormányzatok egyes köznevelési feladatainak támogatása
A11: 1.3. | B11: Önkormányzatok szociális és gyermekjóléti feladatainak támogatása | C11: ='7.Önk bev.'!I17 -> 102586561 | D11: ='7.Önk bev.'!J16 -> 0
A12: 1.4. | B12: Önkormányzatok kulturális feladatainak támogatása
A13: 1.5. | B13: Működési célú költségvetési támogatások és kiegészítő támogatások
A14: 1.6. | B14: Elszámolásból származó bevételek
A15: 2. | B15: Működési célú támogatások ÁHT-n belülről (2.1+2.2.) | C15: =SUM(C16:C17) -> 943000 | D15: =SUM(D16:D17) -> 0
A16: 2.1. | B16: Elvonások és befizetések bevételei
A17: 2.2. | B17: Egyéb működési célú támogatások bevételei(B16) | C17: ='7.Önk bev.'!M27+'7.Önk bev.'!M28 -> 943000 | D17: ='7.Önk bev.'!N43 -> 0
A18: 2.3. | B18: 2.2.-ből EU-s támogatás
A19: 3. | B19: Felhalmozási célú támogatások ÁHT-n belülről (3.1.+3.2.) | C19: =SUM(C20:C21) -> 368354000 | D19: =SUM(D20:D21) -> 0
A20: 3.1. | B20: Felhalmozási célú önkormányzati támogatások | C20: ='7.Önk bev.'!K60 -> 0
A21: 3.2. | B21: Egyéb felhalmozási célú támogatások(B25) | C21: ='7.Önk bev.'!O41+'7.Önk bev.'!O43 -> 368354000 | D21: ='7.Önk bev.'!P43 -> 0
A22: 3.3. | B22: 3.2.-ből EU-s támogatás
A23: 4. | B23: Közhatalmi bevételek (4.1+4.2.+4.3.+4.4.) | C23: =C24+C27+C28+C29 -> 0 | D23: =D24+D27+D28+D29 -> 0
A24: 4.1. | B24: Helyi adók (4.1.1.+….+4.1.3) | C24: =C25+C26 -> 0
A25: 4.1.1. | B25: Vagyoni típusú adók
A26: 4.1.3. | B26: Értékesítési és forgalmi adók (iparűzési adó)
A27: 4.2. | B27: Gépjárműadó
A28: 4.3. | B28: Egyéb áruhasználati és szolgáltatási adók
A29: 4.4. | B29: Egyéb közhatalmi bevételek
A30: 5. | B30: Működési bevételek (B4) | C30: ='7.Önk bev.'!E67 -> 48759000 | D30: ='7.Önk bev.'!F60 -> 0
A31: 6. | B31: Felhalmozási bevételek
A32: 7. | B32: Működési célú átvett pénzeszközök
A33: 8. | B33: Felhalmozási célú átvett pénzeszközök
A34: 9. | B34: KÖLTSÉGVETÉSI BEVÉTELEK ÖSSZESEN: (1+…+8) | C34: =C8+C15+C19+C23+C30+C31+C32+C33 -> 520642561 | D34: =D8+D15+D19+D23+D30+D31+D32+D33 -> 0
A35: 10. | B35: Hitel-, kölcsönfelévtel államháztartáson kívülről (10.1+…+10.3 | C35: =SUM(C36:C38) -> 0 | D35: =SUM(D36:D38) -> 0
A36: 10.1. | B36: Hosszú lejűratú hitelek, kölcsönök felvétele
A37: 10.2. | B37: Likviditási célú hitelek, kölcsönök felvétele pénzügyi vállalkozástól
A38: 10.3. | B38: Rövid lejáratú hitelek, kölcsönök felvétele
A39: 11. | B39: Belföldi értékpapírok bevételei
A40: 12. | B40: Előző évi költségvetési maradvány igénybe vétele | C40: ='7.Önk bev.'!U67 -> 0 | D40: ='7.Önk bev.'!V60 -> 0
A41: 13. | B41: Belföldi finanszírozás bevételei (13.1.+13.2.) | C41: =C42+C43 -> 0 | D41: =D42+D43 -> 0
A42: 13.1. | B42: Államháztartáson belüli megelőlegezések
A43: 13.2. | B43: Államháztartáson belüli megelőlegezések törlesztése
A44: 14. | B44: Külföldi finanszírozás bevételei
A45: 15. | B45: Váltóbevételek
A46: 16. | B46: Adóssághoz nem kapcsolódó származékos ügyletek bevételei
A47: 17. | B47: FINANSZÍROZÁSI BEVÉTELEK ÖSSZESEN:(10.+…+16.) | C47: =C35+C39+C40+C41+C44+C45+C46 -> 0 | D47: =D35+D39+D40+D41+D44+D45+D46 -> 0
A48: 18. | B48: KÖLTSÉGVETÉSI ÉS FINANSZÍROZÁSI BEVÉTELEK ÖSSZESEN: (9.+17.) | C48: =C34+C47 -> 520642561 | D48: =D34+D47 -> 0
A50: KIADÁSOK
A51: 2. számú táblázat
A52: Sor- szám | B52: Kiadási jogcímek | C52: 2026. évi előirányzat | D52: 2026. évi mód. előir
A53: 1. | B53: Működési költségvetés kiadásai (1.1.+…+1.5.+1.11.) | C53: =C54+C55+C56+C57+C58+C64 -> 288280000 | D53: =D54+D55+D56+D57+D58+D64 -> 0
A54: 1.1. | B54: Személyi juttatások | C54: ='12.Önk kiad'!D84 -> 105980000 | D54: ='12.Önk kiad'!E74 -> 0
A55: 1.2. | B55: Munkaadókat terhelő járulékok és szochó | C55: ='12.Önk kiad'!F84 -> 13189000 | D55: ='12.Önk kiad'!G74 -> 0
A56: 1.3. | B56: Dologi kiadások | C56: ='12.Önk kiad'!H84 -> 166361000 | D56: ='12.Önk kiad'!I74 -> 0
A57: 1.4. | B57: Ellátottak pénzbeli juttatásai
A58: 1.5. | B58: Egyéb működési célú kiadások | C58: ='12.Önk kiad'!N84 -> 2750000 | D58: =SUM(D59:D63) -> 0
A59: 1.6. | B59: 1.5.-ből Előző évi elszámolásból származó befizetések
A60: 1.7. | B60: Törvényi előírásokon alapuló befizetések
A61: 1.8. | B61: Elvonások befizetések
A62: 1.9. | B62: Egyéb működési célú támogatások ÁHT-n belülre | C62: ='12.Önk kiad'!N74 -> 0 | D62: ='12.Önk kiad'!O74 -> 0
A63: 1.10. | B63: Egyéb működési célú támogatások ÁHT-n kívülre | C63: ='12.Önk kiad'!L74 -> 0 | D63: ='12.Önk kiad'!M74 -> 0
A64: 1.11. | B64: Tartalékok | C64: 0 | D64: ='12.Önk kiad'!Y74 -> 0
A65: 1.12. | B65: 1.11.-ből: Általános tartalék | D65: 0
A66: 1.13. | B66: Céltartalék
A67: 2. | B67: Felhalmozási költségvetési kiadások (2.1.+2.3.+2.5.) | C67: =C68+C70+C72 -> 480935000 | D67: =D68+D70+D72 -> 0
A68: 2.1. | B68: Beruházások | C68: ='12.Önk kiad'!T84 -> 392984000 | D68: ='12.Önk kiad'!U74 -> 0
A69: 2.2 | B69: 2.1.-ből EU-s forrásból megvalósuló beruházás | C69: 345389000
A70: 2.3. | B70: Felújítások | C70: ='12.Önk kiad'!V84 -> 39916000 | D70: ='12.Önk kiad'!W74 -> 0
A71: 2.4. | B71: 2.3.-ból EU-s forrásból megvalósuló felújítás | C71: 31664000
A72: 2.5. | B72: Egyéb felhalmozási kiadások | C72: ='12.Önk kiad'!P84 -> 48035000 | D72: ='12.Önk kiad'!Q74 -> 0
A73: 2.6. | B73: 2.5.-ből Egyéb felhalmozási kiadás ÁHT-n belülre | C73: 48035000 | D73: ='12.Önk kiad'!S74 -> 0
A74: 2.7. | B74: Egyéb felhalmozási kiadás ÁHT-n kívülre
A75: 3. | B75: KÖLTSÉGVETÉSI KIADÁSOK ÖSSZESEN: (1.+2.) | C75: =C53+C67 -> 769215000 | D75: =D53+D67 -> 0
A76: 4. | B76: Hitel-, kölcsöntörlesztés államháztartáson kívülre (4.1.+…+4.3.) | C76: =SUM(C77:C79) -> 0 | D76: =SUM(D77:D79) -> 0
A77: 4.1. | B77: Hosszú lejáratú hitelek, kölcsönök törlesztése pü vállalkozásoknak | C77: ='12.Önk kiad'!Z74 -> 0
A78: 4.2. | B78: Likviditási célú hitelek, kölcsönök törlesztése pü vállalkozásoknak
A79: 4.3. | B79: Rövid lejáratú hitelek, kölcsönök törlesztése pü vállalkozásoknak
A80: 5. | B80: Belföldi értékpapírok vásárlásai
A81: 6. | B81: Belföldi finanszírozás kiadásai (=6.1.) | C81: =C82 -> 0 | D81: =D82 -> 0
A82: 6.1. | B82: Államháztartáson belüli megelőlegezések visszafizetése
A83: 7. | B83: Külföldi finanszírozás kiadásai
A84: 8. | B84: Adóssághoz nem kapcsolódó származékos ügyletek
A85: 9. | B85: Váltókiadások
A86: 10. | B86: FINANSZÍROZÁSI KIADÁSOK ÖSSZESEN: (4.+…+9.) | C86: =C76+C80+C81+C83+C84+C85 -> 0 | D86: =D76+D80+D81+D83+D84+D85 -> 0
A87: 11. | B87: KIADÁSOK ÖSSZESEN: (3+10) | C87: =C75+C86 -> 769215000 | D87: =D75+D86 -> 0
A89: KÖLTSÉGVETÉSI, FINANSZÍROZOZÁSI BEVÉTELEK ÉS KIADÁSOK EGYENLEGE
A90: 3. számú táblázat
A91: 1. | B91: Költségvetési hiány, többlet (költségvetési bevételek 9. sor - költségvetési kiadások 3. sor) (+/-) | C91: =C34-C75 -> -248572439 | D91: =D34-D75 -> 0
A92: 2. | B92: Finanszírozási bevételek kiadások egyenlege (finanszírozási bevételek 17. sor - finanszírozási kiadások 10. sor) (+/-) | C92: =C47-C86 -> 0 | D92: =D47-D86 -> 0

Sheet 4.államigazg
A1: 4. melléklet a …….../2026.(………………) önkormányzati rendelethez
A2: Medgyesegyháza Városi Önkormányzat
A3: 2026. ÉVI KÖLTSÉGVETÉS ÁLLAMIGAZGATÁSI FELADATAINAK MÉRLEGE forintban
A4: BEVÉTELEK
A6: A | B6: B | C6: C | D6: D
A7: Sor- szám | B7: Bevételi jogcímek | C7: 2026. évi előirányzat | D7: 2026. évi mód. előir
A8: 1. | B8: Önkormányzatok működési támogatásai (1.1+……+1.6.) | C8: =SUM(C9:C14) -> 0 | D8: =SUM(D9:D14) -> 0
A9: 1.1. | B9: Helyi önkormányzatok működésének általános támogatása
A10: 1.2. | B10: Önkormányzatok egyes köznevelési feladatainak támogatása
A11: 1.3. | B11: Önkormányzatok szociális és gyermjóléti feladatainak támogatása
A12: 1.4. | B12: Önkormányzatok kulturális feladatainak támogatása
A13: 1.5. | B13: Működési célú költségvetési támogatások és kiegészítő támogatások
A14: 1.6. | B14: Elszámolásból származő bevételek
A15: 2. | B15: Működési célú támogatások ÁHT-n belülről (2.1+2.2.) | C15: =SUM(C16:C18) -> 0 | D15: =SUM(D16:D18) -> 0
A16: 2.1. | B16: Elvonások és befizetések bevételei
A17: 2.2. | B17: Egyéb működési célú támogatások bevételei
A18: 2.3. | B18: 2.2.-ből EU-s támogatás
A19: 3. | B19: Felhalmozási célú támogatások ÁHT-n belülről (3.1.+3.2.) | C19: =SUM(C20:C21) -> 0 | D19: =SUM(D20:D21) -> 0
A20: 3.1. | B20: Felhalmozási célú önkormányzati támogatások
A21: 3.2. | B21: Egyéb felhalmozási célú támogatások
A22: 3.3. | B22: 3.2.-ből EU-s támogatás
A23: 4. | B23: Közhatalmi bevételek (4.1+4.2.+4.3.+4.4.) | C23: =C24+C27+C28+C29 -> 0 | D23: =D24+D27+D28+D29 -> 0
A24: 4.1. | B24: Helyi adók (4.1.1.+….+4.1.3)
A25: 4.1.1. | B25: Vagyoni típusú adók
A26: 4.1.3. | B26: Értékesítési és forgalmi adók (iparűzési adó)
A27: 4.2. | B27: Gépjárműadó
A28: 4.3. | B28: Egyéb áruhasználati és szolgáltatási adók
A29: 4.4. | B29: Egyéb közhatalmi bevételek
A30: 5. | B30: Működési bevételek
A31: 6. | B31: Felhalmozási bevételek
A32: 7. | B32: Működési célő átvett pénzeszközök
A33: 8. | B33: Felhalmozási célú átvett pénzeszközök
A34: 9. | B34: KÖLTSÉGVETÉSI BEVÉTELEK ÖSSZESEN: (1+…+8) | C34: =C8+C15+C19+C23+C30+C31+C32+C33 -> 0 | D34: =D8+D15+D19+D23+D30+D31+D32+D33 -> 0
A35: 10. | B35: Hitel-, kölcsönfelévtel államháztartáson kívülről (10.1+…+10.3 | C35: =SUM(C36:C38) -> 0 | D35: =SUM(D36:D38) -> 0
A36: 10.1. | B36: Hosszú lejűratú hitelek, kölcsönök felvétele
A37: 10.2. | B37: Likviditási célú hitelek, kölcsönök felvétele pénzügyi vállalkozástól
A38: 10.3. | B38: Rövid lejáratú hitelek, kölcsönök felvétele
A39: 11. | B39: Belföldi értékpapírok bevételei
A40: 12. | B40: Előző évi költségvetési maradvány igánybe vétele
A41: 13. | B41: Belföldi finanszírozás bevételei (13.1.+13.2.) | C41: =C42+C43 -> 0 | D41: =D42+D43 -> 0
A42: 13.1. | B42: Államháztartáson belüli megelőlegezések
A43: 13.2. | B43: Államháztartáson belüli megelőlegezések törlesztése
A44: 14. | B44: Külföldi finanszírozás bevételei
A45: 15. | B45: Váltóbevételek
A46: 16. | B46: Adóssághoz nem kapcsolódó származékos ügyletek bevételei
A47: 17. | B47: FINANSZÍROZÁSI BEVÉTELEK ÖSSZESEN:(10.+…+16.) | C47: =C35+C39+C40+C41+C44+C45+C46 -> 0 | D47: =D35+D39+D40+D41+D44+D45+D46 -> 0
A48: 18. | B48: KÖLTSÉGVETÉSI ÉS FINANSZÍROZÁSI BEVÉTELEK ÖSSZESEN: (9.+17.) | C48: =C34+C47 -> 0 | D48: =D34+D47 -> 0
A50: KIADÁSOK
A51: 2. számú táblázat
A52: Sor- szám | B52: Kiadási jogcímek | C52: 2026. évi előirányzat | D52: 2026. évi mód. előir
A53: 1. | B53: Működési költségvetés kiadásai (1.1.+…+1.5.+1.11.) | C53: =C54+C55+C56+C57+C58+C64 -> 0 | D53: =D54+D55+D56+D57+D58+D64 -> 0
A54: 1.1. | B54: Személyi juttatások | C54: ='13.PMH kiad'!D6 -> 0 | D54: ='13.PMH kiad'!E6 -> 0
A55: 1.2. | B55: Munkaadókat terhelő járulékok és szochó | C55: ='13.PMH kiad'!F6 -> 0 | D55: ='13.PMH kiad'!G6 -> 0
A56: 1.3. | B56: Dologi kiadások | C56: ='13.PMH kiad'!H6 -> 0
A57: 1.4. | B57: Ellátottak pénzbeli juttatásai
A58: 1.5. | B58: Egyéb működési célú kiadások
A59: 1.6. | B59: 1.5.-ből Előző évi elszámolásből származó befizetések
A60: 1.7. | B60: Törvényi előírásokon alapuló befizetések
A61: 1.8. | B61: Elvonások befizetések
A62: 1.9. | B62: Egyéb működési célú támogatások ÁHT-n belülre
A63: 1.10. | B63: Egyéb működési célú támogatások ÁHT-n kívülre
A64: 1.11. | B64: Tartalékok
A65: 1.12. | B65: 1.11.-ből: Általános tartalék
A66: 1.13. | B66: Céltartalék
A67: 2. | B67: Felhalmozási költségvetési kiadások (2.1.+2.3.+2.5.) | C67: =C68+C70+C72 -> 0 | D67: =D68+D70+D72 -> 0
A68: 2.1. | B68: Beruházások
A69: 2.2 | B69: 2.1.-ből EU-s forrásból megvalósuló beruházás
A70: 2.3. | B70: Felújítások
A71: 2.4. | B71: 2.3.-ból EU-s forrásból megvalósuló felújítás
A72: 2.5. | B72: Egyéb felhalmozási kiadások
A73: 2.6. | B73: 2.5.-ből Egyéb felhalmozási kiadás ÁHT-n belülre
A74: 2.7. | B74: Egyéb felhalmozási kiadás ÁHT-n kívülre
A75: 3. | B75: KÖLTSÉGVETÉSI KIADÁSOK ÖSSZESEN: (1.+2.) | C75: =C53+C67 -> 0 | D75: =D53+D67 -> 0
A76: 4. | B76: Hitel-, kölcsöntörlesztés államháztartáson kívülre (4.1.+…+4.3.) | C76: =SUM(C77:C79) -> 0 | D76: =SUM(D77:D79) -> 0
A77: 4.1. | B77: Hosszú lejáratú hitelek, kölcsönök törlesztése pü vállalkozásoknak
A78: 4.2. | B78: Likviditási célú hitelek, kölcsönök törlesztése pü vállalkozásoknak
A79: 4.3. | B79: Rövid lejáratú hitelek, kölcsönök törlesztése pü vállalkozásoknak
A80: 5. | B80: Belföldi értékpapírok vásárlásai
A81: 6. | B81: Belföldi finanszírozás kiadásai (=6.1.) | C81: =C82 -> 0 | D81: =D82 -> 0
A82: 6.1. | B82: Államháztartáson belüli megelőlegezések visszafizetése
A83: 7. | B83: Külföldi finanszírozás kiadásai
A84: 8. | B84: Adóssághoz nem kapcsolódó származékos ügyletek
A85: 9. | B85: Váltókiadások
A86: 10. | B86: FINANSZÍROZÁSI KIADÁSOK ÖSSZESEN: (4.+…+9.) | C86: =C76+C80+C81+C83+C84+C85 -> 0 | D86: =D76+D80+D81+D83+D84+D85 -> 0
A87: 11. | B87: KIADÁSOK ÖSSZESEN: (3+10) | C87: =C75+C86 -> 0 | D87: =D75+D86 -> 0
A89: KÖLTSÉGVETÉSI, FINANSZÍROZOZÁSI BEVÉTELEK ÉS KIADÁSOK EGYENLEGE
A90: 3. számú táblázat
A91: 1. | B91: Költségvetési hiány, többlet (költségvetési bevételek 9. sor - költségvetési kiadások 3. sor) (+/-) | C91: =C34-C75 -> 0 | D91: =D34-D75 -> 0
A92: 2. | B92: Finanszírozási bevételek kiadások egyenlege (finanszírozási bevételek 17. sor - finanszírozási kiadások 10. sor) (+/-) | C92: =C47-C86 -> 0 | D92: =D47-D86 -> 0

Sheet 5.műkmérleg
B1: 5. melléklet a ………/2026.(………..) önkormányzati rendelethez
A2: I. Működési bevételek és kiadások mérlege
A3: (önkormányzati szinten)
A4: forintban
A5: Sor- szám | B5: Bevétel | C5: 2026. évi előirányzat | D5: 2026. évi mód. előir | E5: Kiadás | F5: 2026. évi előirányzat | G5: 2026. évi mód. előir
A6: A | B6: B | C6: C | D6: D | E6: E | F6: F | G6: G
A7: 1. | B7: Önkormányzatok működési támogatásai | C7: ='7.Önk bev.'!I69 -> 798886177 | D7: ='7.Önk bev.'!J69 -> 0 | E7: Személyi juttatások | F7: ='12.Önk kiad'!D85 -> 676101000 | G7: ='12.Önk kiad'!E85 -> 0
A8: 2. | B8: Működési célú támogatások ÁHT-n belülről | C8: ='7.Önk bev.'!M69 -> 33101775 | D8: ='7.Önk bev.'!N69 -> 0 | E8: Munkaadókat terhelő járulékok és SZOCHÓ | F8: ='12.Önk kiad'!F85 -> 82315000 | G8: ='12.Önk kiad'!G85 -> 0
A9: 3. | B9: 2.-ből EU-s támogatás | E9: Dologi Kiadások | F9: ='12.Önk kiad'!H85 -> 404151000 | G9: ='12.Önk kiad'!I85 -> 0
A10: 4. | B10: Közhatalmi bevételek | C10: ='7.Önk bev.'!G69 -> 227260000 | D10: ='7.Önk bev.'!H69 -> 0 | E10: Ellátottak pénzbeli juttatásai | F10: ='12.Önk kiad'!J85 -> 4150000 | G10: ='12.Önk kiad'!K85 -> 0
A11: 5. | B11: Működési bevételek | C11: ='7.Önk bev.'!E69 -> 108672000 | D11: ='7.Önk bev.'!F69 -> 0 | E11: Egyéb működési célú kiadások | F11: ='12.Önk kiad'!L85+'12.Önk kiad'!N85 -> 27377058 | G11: ='12.Önk kiad'!M85+'12.Önk kiad'!O85 -> 0
A12: 6. | B12: Működési célú átvett pénzeszközök | E12: Tartalékok | F12: ='12.Önk kiad'!X85 -> 5000000 | G12: ='12.Önk kiad'!Y85 -> 0
A13: 7. | B13: 6.-ból EU-s támogatás (közvetlen) | E13: Elvonások, befizetések | F13: ='12.Önk kiad'!R85 -> 4000000
A14: 8. | B14: Költségvetési bevételek összesen: (1.+…+6.) | C14: =C7+C8+C10+C11+C12 -> 1167919952 | D14: =D7+D8+D10+D11+D12 -> 0 | E14: Költségvetési kiadások összesen: (1.+…+6) | F14: =SUM(F7:F13) -> 1203094058 | G14: =SUM(G7:G13) -> 0
A15: 9. | B15: Hiány belső finanszírozásának bevételei (=10) | C15: =C16 -> 158168926 | D15: =D16 -> 0 | E15: Likviditási célú hitelek törlesztése | F15: ='12.Önk kiad'!Z25 -> 500000000
A16: 10. | B16: Költségvetési maradvány igénybe vétele | C16: ='7.Önk bev.'!U69 -> 158168926 | D16: ='7.Önk bev.'!V69 -> 0 | E16: Államháztartáson belüli megelőlegezések visszafizetése | F16: ='12.Önk kiad'!Z22 -> 22381820 | G16: ='12.Önk kiad'!AA20 -> 0
A17: 11. | B17: Hiány külső finanszírozásának bevételei (=12) | C17: =SUM(C18:C19) -> 522000000 | D17: =SUM(D18:D19) -> 0 | E17: Éven túli célhitel törlesztő részlete | F17: ='12.Önk kiad'!Z24 -> 11580000 | G17: ='12.Önk kiad'!AA22 -> 0
A18: 12. | B18: Likviditási célú hitelek, kölcsönök felvétele | C18: ='7.Önk bev.'!W44 -> 500000000 | D18: ='7.Önk bev.'!X44 -> 0
A19: 13. | B19: Államháztartáson belüli megelőlegezések | C19: ='7.Önk bev.'!W23 -> 22000000 | D19: ='7.Önk bev.'!X23 -> 0
A20: 14. | B20: Működési célú finanszírozási bevételek összesen: (9.+11.) | C20: =C15+C17 -> 680168926 | D20: =D15+D17 -> 0 | E20: Működési célú finanszírozási kiadások összesen: (=9.) | F20: =SUM(F15:F18) -> 533961820 | G20: =SUM(G15:G18) -> 0
A21: 15. | B21: BEVÉTELEK ÖSSZESEN: (8.+13.) | C21: =C14+C20 -> 1848088878 | D21: =D14+D20 -> 0 | E21: KIADÁSOK ÖSSZESEN: (8.+13.) | F21: =F14+F20 -> 1737055878 | G21: =G14+G20 -> 0
A22: 16. | B22: Költségvetési hiány: | C22: =F14-C14 -> 35174106 | D22: =G14-D14 -> 0 | E22: Költségvetési többlet: | F22: 0 | G22: 0
A23: 17. | B23: Tárgyévi hiány: | C23: =C21-F21 -> 111033000 | D23: =D21-G21 -> 0 | E23: Tárgyévi többlet: | F23: 0 | G23: 0

Sheet 6.felhmérleg
B1: 6. melléklet a ………/2026.(………..) önkormányzati rendelethez
A2: I .Felhalmozási célú bevételek és kiadások mérlege
A3: (önkormányzati szinten)
A4: forintban
A5: Sor- szám | B5: Bevétel | C5: 2026. évi előirányzat | D5: 2026. évi mód. előir | E5: Kiadás | F5: 2026. évi előirányzat | G5: 2026. évi mód. előir
A6: A | B6: B | C6: C | E6: D | F6: E | G6: F
A7: 1. | B7: Felhalmozási célú támogatások ÁHT-n belülről | C7: ='7.Önk bev.'!O69 -> 368354000 | D7: ='7.Önk bev.'!P69 -> 0 | E7: Beruházások | F7: ='12.Önk kiad'!T85 -> 398100000 | G7: ='12.Önk kiad'!U85 -> 0
A8: 2. | B8: 1.-ből EU-s támogatás | C8: 343055000 | E8: 1.-ből EU-s forrásból megvalósuló beruházás | F8: 345389000
A9: 3. | B9: Felhalmozási bevételek | C9: ='7.Önk bev.'!S69 -> 21457000 | D9: ='7.Önk bev.'!T69 -> 0 | E9: Felújítások | F9: ='12.Önk kiad'!V85 -> 54709000 | G9: ='12.Önk kiad'!W85 -> 0
A10: 4. | B10: Felhalmozási célú átvett pénzeszközök átvétele | E10: 3.-ból EU-s forrásból megvalósuló felújítás | F10: 17553000
A11: 5. | B11: 4.-ből EU-s támogatás | E11: Egyéb felhalmozási kiadások | F11: ='12.Önk kiad'!P55 -> 48035000
A12: 6. | B12: Egyéb felhalmozási célú bevételek | E12: Felhamozási céltartalék
A13: 7. | B13: Önkormányzatok felhalmozási támogatása
A14: 8. | B14: Költségvetési bevételek összesen: (1.+3.+4.+6.) | C14: =C7+C9+C12+C13 -> 389811000 | D14: =D7+D9+D12+D13 -> 0 | E14: Költségvetési kiadások összesen: (1.+3.+5.+6.) | F14: =F7+F9+F11+F12 -> 500844000 | G14: =G7+G9+G11+G12 -> 0
A15: 9. | B15: Hiány belső finanszírozásának bevételei (=10) | C15: =C16 -> 0 | D15: =D16 -> 0
A16: 10. | B16: Költségvetési maradvány igénybe vétele | C16: 0 | D16: 0
A17: 11. | B17: Hiány külső finanszírozásának bevételei (=12) | C17: =C18 -> 0 | D17: =D18 -> 0
A18: 12. | B18: Hitelek, kölcsönök felvétele
A19: 13. | B19: Felhalmozási célú finanszírozási bevételek összesen: (9.+11.) | C19: =C15+C17 -> 0 | D19: =D15+D17 -> 0 | E19: Felhalmozási célú finanszírozási kiadások összesen: (9.+…+12)
A20: 14. | B20: BEVÉTELEK ÖSSZESEN: (8.+13.) | C20: =C14+C19 -> 389811000 | D20: =D14+D19 -> 0 | E20: KIADÁSOK ÖSSZESEN: (8.+13.) | F20: =F14+F19 -> 500844000 | G20: =G14+G19 -> 0
A21: 15. | B21: Költségvetési hiány: | C21: =F14-C14 -> 111033000 | D21: =G14-D14 -> 0 | E21: Költségvetési többlet: | F21: 0 | G21: 0
A22: 16. | B22: Tárgyévi hiány: | C22: =C20-F20 -> -111033000 | D22: =D20-G20 -> 0 | E22: Tárgyévi többlet: | F22: 0 | G22: =G20-D20 -> 0

Sheet 7.Önk bev.
Q1: 7. melléklet a ……./2026.(……………..) önkormányzati rendelethez
B2: 1 | D2: Medgyesegyháza Város Önkormányzat 2026. évi bevételeinek alakulása - Önkormányzat forintban
A3: A | C3: B | D3: C | E3: D | G3: E | I3: F | K3: G | M3: H | O3: I | Q3: J | S3: K | U3: L | W3: M | Y3: N
A4: 1. | B4: 2 | C4: kötelező/nem kötelező | D4: Kiemelt előirányzatok | E4: Működési bevételek | G4: Közhatalmi bevételek | I4: Önkormányzatok működési támogatása | K4: Önkormányzatok felhalmozási támogatása | M4: Működési célú támogatások államháztartáson belülről | O4: Felhalmozási célú támogatások államháztartáson belülről | Q4: Működési célra átvett pénzeszközök | S4: Felhalmozási bevételek | U4: Elző évi költségvetési maradvány | W4: Finansízrozási bevételek | Y4: Bevételek összesen
A5: 2. | B5: 3 | D5: Megnevezés | E5: 2026. évi előirányzat | F5: 2026. évi mód. előir | G5: 2026. évi előirányzat | H5: 2026. évi mód. előir | I5: 2026. évi előirányzat | J5: 2026. évi mód. előir | K5: 2026. évi előirányzat | L5: 2026. évi mód. előir | M5: 2026. évi előirányzat | N5: 2026. évi mód. előir | O5: 2026. évi előirányzat | P5: 2026. évi mód. előir | Q5: 2026. évi előirányzat | R5: 2026. évi mód. előir | S5: 2026. évi előirányzat | T5: 2026. évi mód. előir | U5: 2026. évi előirányzat | V5: 2026. évi mód. előir | W5: 2026. évi előirányzat | X5: 2026. évi mód. előir | Y5: 2026. évi előirányzat | Z5: 2026. évi mód. előir
A6: 3. | B6: kötelező | C6: kötelező | D6: Iparűzési adó | G6: 180000000 | Y6: =E6+G6+I6+M6+O6+Q6+W6+K6+S6+U6 -> 180000000 | Z6: =F6+H6+J6+L6+N6+P6+R6+V6+X6 -> 0
A7: 4. | B7: kötelező | C7: kötelező | D7: Termőföld bérbeadás | G7: 140000 | Y7: =E7+G7+I7+M7+O7+Q7+W7+K7+S7+U7 -> 140000 | Z7: =F7+H7+J7+L7+N7+P7+R7+V7+X7 -> 0
A8: 5. | B8: kötelező | C8: kötelező | D8: Talajterhelési díj | G8: 1500000 | Y8: =E8+G8+I8+M8+O8+Q8+W8+K8+S8+U8 -> 1500000 | Z8: =F8+H8+J8+L8+N8+P8+R8+V8+X8 -> 0
A9: 6. | B9: kötelező | C9: kötelező | D9: Egyéb közhatalmi bevételek | Y9: =E9+G9+I9+M9+O9+Q9+W9+K9+S9+U9 -> 0 | Z9: =F9+H9+J9+L9+N9+P9+R9+V9+X9 -> 0
A10: 7. | B10: kötelező | C10: kötelező | D10: Pótlékok, bírságok | G10: 1400000 | Y10: =E10+G10+I10+M10+O10+Q10+W10+K10+S10+U10 -> 1400000 | Z10: =F10+H10+J10+L10+N10+P10+R10+V10+X10 -> 0
A11: 8. | C11: kötelező | D11: Idegenforgalmi adó | G11: 220000 | Y11: =E11+G11+I11+M11+O11+Q11+W11+K11+S11+U11 -> 220000 | Z11: =F11+H11+J11+L11+N11+P11+R11+V11+X11 -> 0
A12: 9. | C12: kötelező | D12: Építmény és telek adó | G12: 26000000 | Y12: =E12+G12+I12+M12+O12+Q12+W12+K12+S12+U12 -> 26000000 | Z12: =F12+H12+J12+L12+N12+P12+R12+V12+X12 -> 0
A13: 10. | C13: kötelező | D13: Kommunális adó | G13: 18000000 | Y13: =E13+G13+I13+M13+O13+Q13+W13+K13+S13+U13 -> 18000000 | Z13: =F13+H13+J13+L13+N13+P13+R13+V13+X13 -> 0
A14: 11. | C14: kötelező | D14: Települési önkormányzatok működésének álatalános támogatása | I14: 192686995 | Y14: =E14+G14+I14+M14+O14+Q14+W14+K14+S14+U14 -> 192686995 | Z14: =F14+H14+J14+L14+N14+P14+R14+V14+X14 -> 0
A15: 12. | C15: kötelező | D15: Települési önkormányzatok egyes köznevelési feladat támogatása | I15: 174939896 | Y15: =E15+G15+I15+M15+O15+Q15+W15+K15+S15+U15 -> 174939896 | Z15: =F15+H15+J15+L15+N15+P15+R15+V15+X15 -> 0
A16: 13. | C16: kötelező | D16: Települési önk. Egyes szociális és gyerm.jóléti felad. Támogatása(B1131) | I16: 86777505 | Y16: =E16+G16+I16+M16+O16+Q16+W16+K16+S16+U16 -> 86777505 | Z16: =F16+H16+J16+L16+N16+P16+R16+V16+X16 -> 0
A17: 14. | C17: nem kötelező | D17: Telep.önk. Által biztosított egyes szoc. Szakosított ellátások (B1131) | I17: 102586561 | Y17: =E17+G17+I17+M17+O17+Q17+W17+K17+S17+U17 -> 102586561 | Z17: =F17+H17+J17+L17+N17+P17+R17+V17+X17 -> 0
A18: 15. | C18: kötelező | D18: Gyermekétkeztetés támogatása (B1132) | I18: 33658794 | Y18: =E18+G18+I18+M18+O18+Q18+W18+K18+S18+U18 -> 33658794 | Z18: =F18+H18+J18+L18+N18+P18+R18+V18+X18 -> 0
A19: 16. | C19: kötelező | D19: Rászoruló gyermekek szünidei étkeztetésének támogatása(B1132) | I19: 616200 | Y19: =E19+G19+I19+M19+O19+Q19+W19+K19+S19+U19 -> 616200 | Z19: =F19+H19+J19+L19+N19+P19+R19+V19+X19 -> 0
A20: 17. | C20: kötelező | D20: Települési önkormányzatok kulturális feladatainak támogatása(B114) | I20: =7466662+9125814 -> 16592476 | Y20: =E20+G20+I20+M20+O20+Q20+W20+K20+S20+U20 -> 16592476 | Z20: =F20+H20+J20+L20+N20+P20+R20+V20+X20 -> 0
A21: 18. | C21: kötelező | D21: Működési c. költ. Tám.és kieg. Tám. (B115) | I21: 173737773 | Y21: =E21+G21+I21+M21+O21+Q21+W21+K21+S21+U21 -> 173737773 | Z21: =F21+H21+J21+L21+N21+P21+R21+V21+X21 -> 0
A22: 19. | C22: kötelező | D22: Elszámolásból származó bevétel (B16) | I22: 17289977 | Y22: =E22+G22+I22+M22+O22+Q22+W22+K22+S22+U22 -> 17289977 | Z22: =F22+H22+J22+L22+N22+P22+R22+V22+X22 -> 0
A23: 20. | C23: kötelező | D23: Államháztartáson belüli megelőlegezés | W23: 22000000 | Y23: =E23+G23+I23+M23+O23+Q23+W23+K23+S23+U23 -> 22000000 | Z23: =F23+H23+J23+L23+N23+P23+R23+V23+X23 -> 0
A24: 21. | C24: kötelező | D24: Köztemető bevélelei | E24: 8000 | Y24: =E24+G24+I24+M24+O24+Q24+W24+K24+S24+U24 -> 8000 | Z24: =F24+H24+J24+L24+N24+P24+R24+V24+X24 -> 0
A25: 22. | B25: kötelező | C25: kötelező | D25: Pénzeszköz átvétel munkaügyi Központtól START programra (B163) | M25: 11132000 | Y25: =E25+G25+I25+M25+O25+Q25+W25+K25+S25+U25 -> 11132000 | Z25: =F25+H25+J25+L25+N25+P25+R25+V25+X25 -> 0
A26: 23. | B26: kötelező | C26: kötelező | D26: Pénzeszköz átvétel munkaügyi Központtól hosszabb távú közfoglalkoztatásra | M26: 15950000 | Y26: =E26+G26+I26+M26+O26+Q26+W26+K26+S26+U26 -> 15950000 | Z26: =F26+H26+J26+L26+N26+P26+R26+V26+X26 -> 0
A27: 24. | B27: kötelező | C27: nem kötelező | D27: Pénzeszköz átvétel OEP-től Labor | M27: 720000 | Y27: =E27+G27+I27+M27+O27+Q27+W27+K27+S27+U27 -> 720000 | Z27: =F27+H27+J27+L27+N27+P27+R27+V27+X27 -> 0
A28: 25. | C28: nem kötelező | D28: Pénzeszköz átvétel OEP-től Ifj. eü. | M28: 223000 | Y28: =E28+G28+I28+M28+O28+Q28+W28+K28+S28+U28 -> 223000 | Z28: =F28+H28+J28+L28+N28+P28+R28+V28+X28 -> 0
A29: 26. | C29: kötelező | D29: Pénzeszköz átvétel Pusztaottlaka | M29: 5076775 | Y29: =E29+G29+I29+M29+O29+Q29+W29+K29+S29+U29 -> 5076775 | Z29: =F29+H29+J29+L29+N29+P29+R29+V29+X29 -> 0
A30: 27. | B30: kötelező | C30: kötelező | D30: Önkormányzat bérbeadás, város és községgazdálkodás m.n.s. szolg. | E30: 44891000 | Y30: =E30+G30+I30+M30+O30+Q30+W30+K30+S30+U30 -> 44891000 | Z30: =F30+H30+J30+L30+N30+P30+R30+V30+X30 -> 0
A31: 28. | C31: kötelező | D31: Önkormányzati igazgatás | E31: 400000 | Y31: =E31+G31+I31+M31+O31+Q31+W31+K31+S31+U31 -> 400000 | Z31: =F31+H31+J31+L31+N31+P31+R31+V31+X31 -> 0
A32: 29. | C32: kötelező | D32: Nem lakóingatlan értékesítésből származó bevétel | S32: 21457000 | Y32: =E32+G32+I32+M32+O32+Q32+W32+K32+S32+U32 -> 21457000 | Z32: =F32+H32+J32+L32+N32+P32+R32+V32+X32 -> 0
A33: 30. | B33: nem kötelező | C33: kötelező | D33: Startmunka program bevétele | E33: 8000000 | Y33: =E33+G33+I33+M33+O33+Q33+W33+K33+S33+U33 -> 8000000 | Z33: =F33+H33+J33+L33+N33+P33+R33+V33+X33 -> 0
A34: 31. | C34: nem kötelező | D34: Uszoda bevétel | E34: 1056000 | Y34: =E34+G34+I34+M34+O34+Q34+W34+K34+S34+U34 -> 1056000 | Z34: =F34+H34+J34+L34+N34+P34+R34+V34+X34 -> 0
A35: 32. | C35: nem kötelező | D35: Sportcsarnok | E35: 7000000 | Y35: =E35+G35+I35+M35+O35+Q35+W35+K35+S35+U35 -> 7000000 | Z35: =F35+H35+J35+L35+N35+P35+R35+V35+X35 -> 0
A36: 33. | B36: kötelező | C36: kötelező | D36: Költségvetési maradvány | U36: 155652336 | Y36: =E36+G36+I36+M36+O36+Q36+W36+K36+S36+U36 -> 155652336 | Z36: =F36+H36+J36+L36+N36+P36+R36+V36+X36 -> 0
A37: 34. | C37: kötelező | D37: TOP-PLUSZ-3.3.2-21-BS1-2022-00002 Háziorvosi alapellátás infr.fejl. | Y37: =E37+G37+I37+M37+O37+Q37+W37+K37+S37+U37 -> 0 | Z37: =F37+H37+J37+L37+N37+P37+R37+V37+X37 -> 0
A38: 35. | C38: kötelező | D38: TOP-PLUSZ-3.3.2-21-BS1-2022-00030 Idősek Klubja ép.feluj. | Y38: =E38+G38+I38+M38+O38+Q38+W38+K38+S38+U38 -> 0 | Z38: =F38+H38+J38+L38+N38+P38+R38+V38+X38 -> 0
A39: 36. | C39: nem kötelező | D39: TOP_PLUSZ-1.1.1-21-BS1-2022-00002 Helyi gazdság fejlesztés | Y39: =E39+G39+I39+M39+O39+Q39+W39+K39+S39+U39 -> 0 | Z39: =F39+H39+J39+L39+N39+P39+R39+V39+X39 -> 0
A40: 37. | C40: nem kötelező | D40: TOP_PLUSZ-1.2.3-21 Belterületi utak fejlesztése | Y40: =E40+G40+I40+M40+O40+Q40+W40+K40+S40+U40 -> 0 | Z40: =F40+H40+J40+L40+N40+P40+R40+V40+X40 -> 0
A41: 38. | C41: nem kötelező | D41: TOP-Plusz 1.2.1-21 Élhető települések | O41: 343055000 | Y41: =E41+G41+I41+M41+O41+Q41+W41+K41+S41+U41 -> 343055000 | Z41: =F41+H41+J41+L41+N41+P41+R41+V41+X41 -> 0
A42: 39. | C42: nem kötelező | D42: Top-Plusz 2.1.1-21 Önkormányzati épületek energetikai korszerűsítése | Y42: =E42+G42+I42+M42+O42+Q42+W42+K42+S42+U42 -> 0 | Z42: =F42+H42+J42+L42+N42+P42+R42+V42+X42 -> 0
A43: 40. | C43: nem kötelező | D43: Magyar Falu pr. Közvilágítás | O43: 25299000 | Y43: =E43+G43+I43+M43+O43+Q43+W43+K43+S43+U43 -> 25299000 | Z43: =F43+H43+J43+L43+N43+P43+R43+V43+X43 -> 0
A44: 41. | C44: kötelező | D44: Likvid hitel | W44: 500000000 | Y44: =E44+G44+I44+M44+O44+Q44+W44+K44+S44+U44 -> 500000000 | Z44: =F44+H44+J44+L44+N44+P44+R44+V44+X44 -> 0
A45: 42. | B45: kötelező | C45: kötelező | D45: Óvodai étkeztetés | E45: 1242000 | Y45: =E45+G45+I45+M45+O45+Q45+W45+K45+S45+U45 -> 1242000 | Z45: =F45+H45+J45+L45+N45+P45+R45+V45+X45 -> 0
A46: 43. | C46: kötelező | D46: Bölcsődei étkeztetés | E46: 94000 | Y46: =E46+G46+I46+M46+O46+Q46+W46+K46+S46+U46 -> 94000 | Z46: =F46+H46+J46+L46+N46+P46+R46+V46+X46 -> 0
A47: 44. | D47: Alaptevékenység bevételei összesen | E47: =SUM(E6:E46) -> 62691000 | F47: =SUM(F6:F46) -> 0 | G47: =SUM(G6:G46) -> 227260000 | H47: =SUM(H6:H46) -> 0 | I47: =SUM(I6:I46) -> 798886177 | J47: =SUM(J6:J46) -> 0 | K47: =SUM(K6:K46) -> 0 | L47: =SUM(L6:L46) -> 0 | ... Z47: =SUM(Z6:Z46) -> 0
A48: 45. | D48: Kötelező feladatok: | E48: =E6+E7+E8+E9+E10+E14+E15+E16+E18+E19+E20+E21+E24+E25+E26+E29+E30+E33+E36+E45+E37+E38+E12+E31+E46 -> 54635000 | F48: =F6+F7+F8+F9+F10+F14+F15+F16+F18+F19+F20+F21+F24+F25+F26+F29+F30+F33+F36+F45+F37+F38+F12 -> 0 | G48: =G6+G7+G8+G9+G10+G14+G15+G16+G18+G19+G20+G21+G24+G25+G26+G29+G30+G33+G36+G45+G37+G38+G12+G11+G13 -> 227260000 | H48: =H6+H7+H8+H9+H10+H14+H15+H16+H18+H19+H20+H21+H24+H25+H26+H29+H30+H33+H36+H45+H37+H38+H12+H11 -> 0 | I48: =I6+I7+I8+I9+I10+I14+I15+I16+I18+I19+I20+I21+I24+I25+I26+I29+I30+I33+I36+I45+I37+I38+I12+I11+I22 -> 696299616 | J48: =J6+J7+J8+J9+J10+J14+J15+J16+J18+J19+J20+J21+J24+J25+J26+J29+J30+J33+J36+J45+J37+J38+J12+J11+J22 -> 0 | K48: =K6+K7+K8+K9+K10+K14+K15+K16+K18+K19+K20+K21+K24+K25+K26+K29+K30+K33+K36+K45+K37+K38+K12+K11 -> 0 | L48: =L6+L7+L8+L9+L10+L14+L15+L16+L18+L19+L20+L21+L24+L25+L26+L29+L30+L33+L36+L45+L37+L38+L12+L11 -> 0 | M48: =M6+M7+M8+M9+M10+M14+M15+M16+M18+M19+M20+M21+M24+M25+M26+M29+M30+M33+M36+M45+M37+M38+M12+M11 -> 32158775 | N48: =N6+N7+N8+N9+N10+N14+N15+N16+N18+N19+N20+N21+N24+N25+N26+N29+N30+N33+N36+N45+N37+N38+N12+N11 -> 0 | O48: =O6+O7+O8+O9+O10+O14+O15+O16+O18+O19+O20+O21+O24+O25+O26+O29+O30+O33+O36+O45+O37+O38+O12+O11 -> 0 | P48: =P6+P7+P8+P9+P10+P14+P15+P16+P18+P19+P20+P21+P24+P25+P26+P29+P30+P33+P36+P45+P37+P38+P12+P11 -> 0 | Q48: =Q6+Q7+Q8+Q9+Q10+Q14+Q15+Q16+Q18+Q19+Q20+Q21+Q24+Q25+Q26+Q29+Q30+Q33+Q36+Q45+Q37+Q38+Q12+Q11 -> 0 | R48: =R6+R7+R8+R9+R10+R14+R15+R16+R18+R19+R20+R21+R24+R25+R26+R29+R30+R33+R36+R45+R37+R38+R12+R11 -> 0 | S48: =S6+S7+S8+S9+S10+S14+S15+S16+S18+S19+S20+S21+S24+S25+S26+S29+S30+S33+S36+S45+S37+S38+S12+S11+S32 -> 21457000 | T48: =T6+T7+T8+T9+T10+T14+T15+T16+T18+T19+T20+T21+T24+T25+T26+T29+T30+T33+T36+T45+T37+T38+T12+T11 -> 0 | U48: =U6+U7+U8+U9+U10+U14+U15+U16+U18+U19+U20+U21+U24+U25+U26+U29+U30+U33+U36+U45+U37+U38+U12+U11 -> 155652336 | V48: =V6+V7+V8+V9+V10+V14+V15+V16+V18+V19+V20+V21+V24+V25+V26+V29+V30+V33+V36+V45+V37+V38+V12+V11 -> 0 | W48: =W6+W7+W8+W9+W10+W14+W15+W16+W18+W19+W20+W21+W24+W25+W26+W29+W30+W33+W36+W45+W37+W38+W12+W11+W47 -> 522000000 | X48: =X6+X7+X8+X9+X10+X14+X15+X16+X18+X19+X20+X21+X24+X25+X26+X29+X30+X33+X36+X45+X37+X38+X12+X11+X47 -> 0 | Y48: =Y6+Y7+Y8+Y9+Y10+Y14+Y15+Y16+Y18+Y19+Y20+Y21+Y24+Y25+Y26+Y29+Y30+Y33+Y36+Y45+Y37+Y38+Y12+Y11+Y44+Y46+Y31+Y32+Y23+Y13+Y22 -> 1709462727 | Z48: =Z6+Z7+Z8+Z9+Z10+Z14+Z15+Z16+Z18+Z19+Z20+Z21+Z24+Z25+Z26+Z29+Z30+Z33+Z36+Z45+Z37+Z38+Z12+Z11+Z44 -> 0
A49: 46. | D49: Államigazgatási feladatok | Y49: =SUM(E49:X49) -> 0 | Z49: =F49+H49+J49+N49+P49+R49+X49+L49+V49 -> 0
A50: 47. | D50: Nem kötelező: | E50: =E17+E27+E41+E42+E34+E39+E40+E35 -> 8056000 | F50: =F17+F27+F41+F42+F34+F39+F40 -> 0 | G50: =G17+G27+G41+G42+G34+G39+G40 -> 0 | H50: =H17+H27+H41+H42+H34+H39+H40 -> 0 | I50: =I17+I27+I41+I42+I34+I39+I40 -> 102586561 | J50: =J17+J27+J41+J42+J34+J39+J40 -> 0 | K50: =K17+K27+K41+K42+K34+K39+K40 -> 0 | L50: =L17+L27+L41+L42+L34+L39+L40 -> 0 | M50: =M17+M27+M41+M42+M34+M39+M40+M28 -> 943000 | N50: =N17+N27+N41+N42+N34+N39+N40 -> 0 | O50: =O17+O27+O41+O42+O34+O39+O40+O43 -> 368354000 | P50: =P17+P27+P41+P42+P34+P39+P40 -> 0 | Q50: =Q17+Q27+Q41+Q42+Q34+Q39+Q40 -> 0 | R50: =R17+R27+R41+R42+R34+R39+R40 -> 0 | S50: =S17+S27+S41+S42+S34+S39+S40 -> 0 | T50: =T17+T27+T41+T42+T34+T39+T40 -> 0 | U50: =U17+U27+U41+U42+U34+U39+U40 -> 0 | V50: =V17+V27+V41+V42+V34+V39+V40 -> 0 | W50: =W17+W27+W41+W42+W34+W39+W40 -> 0 | X50: =X17+X27+X41+X42+X34+X39+X40 -> 0 | Y50: =Y17+Y27+Y41+Y42+Y34+Y39+Y40+Y28+Y43+Y35 -> 479939561 | Z50: =Z17+Z27+Z41+Z42+Z34+Z39+Z40 -> 0
A51: 48. | D51: Medgyesegyházi Polgármesteri Hivatal | E51: =SUM(E52:E54) -> 160000 | F51: =SUM(F52:F54) -> 0 | G51: =SUM(G52:G54) -> 0 | H51: =SUM(H52:H54) -> 0 | I51: =SUM(I52:I54) -> 0 | J51: =SUM(J52:J54) -> 0 | K51: =SUM(K52:K54) -> 0 | L51: =SUM(L52:L54) -> 0 | ... V51: =SUM(V52:V54) -> 0 | Y51: =SUM(Y52:Y54) -> 2188123 | Z51: =SUM(Z52:Z54) -> 0
A52: 49. | C52: kötelező | D52: Kötelező | E52: ='[1]8. PMH bev.'!D12 -> 160000 | F52: ='[1]8. PMH bev.'!E12 -> 0 | U52: ='[1]8. PMH bev.'!R10 -> 2028123 | V52: ='[1]8. PMH bev.'!S12 -> 0 | Y52: =E52+G52+I52+M52+O52+Q52+W52+U52 -> 2188123 | Z52: =F52+H52+J52+N52+P52+R52+X52+V52 -> 0
A53: 50. | C53: nem kötelező | D53: Nem kötelező | Y53: =E53+G53+I53+M53+O53+Q53+W53+U53 -> 0 | Z53: =F53+H53+J53+N53+P53+R53+X53+V53 -> 0
A54: 51. | C54: államigazgatási | D54: Államigazgatási feladatok | Y54: =E54+G54+I54+M54+O54+Q54+W54+U54 -> 0 | Z54: =F54+H54+J54+N54+P54+R54+X54+V54 -> 0
A55: 52. | D55: Varázserdő Óvoda Medgyesegyháza | E55: =SUM(E56:E57) -> 10000 | F55: =SUM(F56:F57) -> 0 | G55: =SUM(G56:G57) -> 0 | H55: =SUM(H56:H57) -> 0 | I55: =SUM(I56:I57) -> 0 | J55: =SUM(J56:J57) -> 0 | K55: =SUM(K56:K57) -> 0 | L55: =SUM(L56:L57) -> 0 | ... V55: =SUM(V56:V57) -> 0 | Y55: =SUM(Y56:Y57) -> 229416 | Z55: =SUM(Z56:Z57) -> 0
A56: 53. | C56: kötelező | D56: Kötelező | E56: ='[1]10. VE bev'!D6 -> 10000 | U56: ='[1]10. VE bev'!N8 -> 219416 | V56: ='[1]10. VE bev'!O10 -> 0 | Y56: =E56+G56+I56+K56+M56+O56+Q56+W56+U56 -> 229416 | Z56: =F56+H56+J56+L56+N56+P56+R56+X56+V56 -> 0
A57: 54. | C57: nem kötelező | D57: Nem kötelező | Y57: =E57+G57+I57+K57+M57+O57+Q57+W57+U57 -> 0 | Z57: =F57+H57+J57+L57+N57+P57+R57+X57+V57 -> 0
A58: 55. | D58: Gondozási Központ Medgyesegyháza | E58: =E59+E60 -> 44735000 | F58: =F59+F60 -> 0 | G58: =G59+G60 -> 0 | H58: =H59+H60 -> 0 | I58: =I59+I60 -> 0 | J58: =J59+J60 -> 0 | K58: =K59+K60 -> 0 | L58: =L59+L60 -> 0 | ... V58: =V59+V60 -> 0 | Y58: =SUM(Y59:Y60) -> 44938216 | Z58: =SUM(Z59:Z60) -> 0
A59: 56. | C59: kötelező | D59: Kötelező | E59: ='[1]9. GKP bev'!D20 -> 4941000 | F59: ='[1]9. GKP bev'!E20 -> 0 | U59: ='[1]9. GKP bev'!R20 -> 203216 | V59: 0 | Y59: =E59+G59+I59+M59+O59+Q59+W59+U59 -> 5144216 | Z59: =F59+H59+J59+N59+P59+R59+X59+V59 -> 0
A60: 57. | C60: nem kötelező | D60: Nem kötelező | E60: ='[1]9. GKP bev'!D21 -> 39794000 | F60: ='[1]9. GKP bev'!E21 -> 0 | V60: ='[1]9. GKP bev'!S21 -> 0 | Y60: =E60+G60+I60+M60+O60+Q60+W60+U60 -> 39794000 | Z60: =F60+H60+J60+N60+P60+R60+X60+V60 -> 0
A61: 58. | D61: Művelődési Ház és Könyvtár | E61: =SUM(E62:E63) -> 1076000 | F61: =SUM(F62:F63) -> 0 | G61: =SUM(G62:G63) -> 0 | H61: =SUM(H62:H63) -> 0 | I61: =SUM(I62:I63) -> 0 | J61: =SUM(J62:J63) -> 0 | K61: =SUM(K62:K63) -> 0 | L61: =SUM(L62:L63) -> 0 | ... V61: =SUM(V62:V63) -> 0 | Y61: =SUM(Y62:Y63) -> 1141835 | Z61: =SUM(Z62:Z63) -> 0
A62: 59. | C62: kötelező | D62: Kötelező | E62: ='[1]11. MH bev.'!D16 -> 167000 | F62: ='[1]11. MH bev.'!E16 -> 0 | U62: ='11. MH bev.'!P16 -> 65835 | Y62: =E62+G62+I62+K62+M62+O62+Q62+W62+U62 -> 232835 | Z62: =F62+H62+J62+L62+N62+P62+R62+X62+V62 -> 0
A63: 60. | C63: nem kötelező | D63: Nem kötelező | E63: ='[1]11. MH bev.'!D17 -> 909000 | F63: ='[1]11. MH bev.'!E17 -> 0 | Q63: ='[1]11. MH bev.'!L17 -> 0 | R63: ='[1]11. MH bev.'!M17 -> 0 | V63: ='[1]11. MH bev.'!Q16 -> 0 | Y63: =E63+G63+I63+K63+M63+O63+Q63+W63+U63 -> 909000 | Z63: =F63+H63+J63+L63+N63+P63+R63+X63+V63 -> 0
A64: 61. | D64: Összesen | E64: =E51+E55+E58+E47+E61 -> 108672000 | F64: =F51+F55+F58+F47+F61 -> 0 | G64: =G51+G55+G58+G47+G61 -> 227260000 | H64: =H51+H55+H58+H47+H61 -> 0 | I64: =I51+I55+I58+I47+I61 -> 798886177 | J64: =J51+J55+J58+J47+J61 -> 0 | K64: =K51+K55+K58+K47+K61 -> 0 | L64: =L51+L55+L58+L47+L61 -> 0 | ... Z64: =Z51+Z55+Z58+Z47+Z61 -> 0
A65: 62.
A66: 63. | D66: Kötelező mindösszesen: | E66: =E48+E52+E56+E59+E62 -> 59913000 | F66: =F48+F52+F56+F59+F62 -> 0 | G66: =G48+G52+G56+G59+G62 -> 227260000 | H66: =H48+H52+H56+H59+H62 -> 0 | I66: =I48+I52+I56+I59+I62 -> 696299616 | J66: =J48+J52+J56+J59+J62 -> 0 | K66: =K48+K52+K56+K59+K62 -> 0 | L66: =L48+L52+L56+L59+L62 -> 0 | ... Z66: =Z48+Z52+Z56+Z59+Z62 -> 0
A67: 64. | D67: Nem kötelező mindösszesen: | E67: =E50+E53+E57+E60+E63 -> 48759000 | F67: =F50+F53+F57+F60+F63 -> 0 | G67: =G50+G53+G57+G60+G63 -> 0 | H67: =H50+H53+H57+H60+H63 -> 0 | I67: =I50+I53+I57+I60+I63 -> 102586561 | J67: =J50+J53+J57+J60+J63 -> 0 | K67: =K50+K53+K57+K60+K63 -> 0 | L67: =L50+L53+L57+L60+L63 -> 0 | ... Z67: =Z50+Z53+Z57+Z60+Z63 -> 0
A68: 65. | D68: Államigazgatási mindösszesen: | E68: =E54 -> 0 | F68: =F54 -> 0 | G68: =G54 -> 0 | H68: =H54 -> 0 | I68: =I54 -> 0 | J68: =J54 -> 0 | K68: =K54 -> 0 | L68: =L54 -> 0 | ... Z68: =Z54 -> 0
A69: 66. | D69: Mindösszesen: | E69: =SUM(E66:E68) -> 108672000 | F69: =SUM(F66:F68) -> 0 | G69: =SUM(G66:G68) -> 227260000 | H69: =SUM(H66:H68) -> 0 | I69: =SUM(I66:I68) -> 798886177 | J69: =SUM(J66:J68) -> 0 | K69: =SUM(K66:K68) -> 0 | L69: =SUM(L66:L68) -> 0 | ... Z69: =SUM(Z66:Z68) -> 0 | AA69: =Z69-'[1]12.Önk kiad'!AC85 -> 0 | AB69: =Y69-'[1]12.Önk kiad'!AB85 -> 14500000
E70: =E69-E64 -> 0 | F70: =F69-F64 -> 0 | G70: =G69-G64 -> 0 | H70: =H69-H64 -> 0 | I70: =I69-I64 -> 0 | J70: =J69-J64 -> 0 | K70: =K69-K64 -> 0 | L70: =L69-L64 -> 0 | ... Z70: =Z69-Z64 -> 0

Sheet 8. PMH bev.
L1: 8. melléklet ..../2026. (…...) önkormányzati rendelethez
C2: Medgyesegyháza Város Önkormányzat 2026. évi bevételeinek alakulása - Medgyesegyházi Polgármesteri Hivatal forintban
A3: A | B3: B | C3: C | D3: D | F3: E | H3: F | J3: G | L3: H | N3: I | P3: J | R3: K | T3: L
A4: 1. | B4: kötelező/nem kötelező | C4: Kiemelt előirányzatok | D4: Működési bevételek | F4: Közhatalmi bevételek | H4: Működési célú támogatások államháztartáson belülről | J4: Felhalmozási célú támogatások államháztartáson belülről | L4: Működési célra átvett pénzeszközök | N4: Felhalmozási célra átvett pénzeszközök | P4: Finanszírozási bevételek - Támogatás működésre | R4: Költségvetési maradvány | T4: Bevételek összesen
A5: 2. | C5: Szakfeladat | D5: 2026. évi előirányzat | E5: 2026. évi mód. előir | F5: 2026. évi előirányzat | G5: 2026. évi mód. előir | H5: 2026. évi előirányzat | I5: 2026. évi mód. előir | J5: 2026. évi előirányzat | K5: 2026. évi mód. előir | L5: 2026. évi előirányzat | M5: 2026. évi mód. előir | N5: 2026. évi előirányzat | O5: 2026. évi mód. előir | P5: 2026. évi előirányzat | Q5: 2026. évi mód. előir | R5: 2026. évi előirányzat | S5: 2026. évi mód. előir | T5: 2026. évi előirányzat | U5: 2025. évi mód. előir | V5: 2025. évi előirányzat | W5: 2026. évi mód. előir
A6: 3. | B6: államigazgatási | C6: Államigazgatási feladatok | T6: =D6+F6+H6+N6+J6+L6+P6+R6 -> 0 | U6: =E6+G6+I6+J6+K6+M6+Q6+L6 -> 0 | V6: =F6+H6+J6+K6+L6+N6+R6+M6 -> 0 | W6: =G6+I6+K6+L6+M6+O6+S6+N6 -> 0
A7: 4. | B7: kötelező | C7: Önkormányzati igazgatási tevékenység | D7: 160000 | T7: =D7+F7+H7+N7+J7+L7+P7+R7 -> 160000 | U7: =E7+G7+I7+O7+K7+M7+Q7+S7 -> 0 | V7: =F7+H7+J7+P7+L7+N7+R7+T7 -> 160000 | W7: =G7+I7+K7+L7+M7+O7+S7+N7 -> 0
A8: 5. | B8: kötelező | C8: Adó igazgatás | T8: =D8+F8+H8+N8+J8+L8+P8+R8 -> 0 | W8: =G8+I8+K8+L8+M8+O8+S8+N8 -> 0
A9: 6. | B9: kötelező | C9: Önkormányzati választás | T9: =D9+F9+H9+N9+J9+L9+P9+R9 -> 0 | U9: 219 | V9: =1673+87 -> 1760 | W9: =G9+I9+K9+L9+M9+O9+S9+N9 -> 0
A10: 7. | B10: kötelező | C10: Irányítószervi támogatás | P10: 242678877 | R10: 2028123 | T10: =D10+F10+H10+N10+J10+L10+P10+R10 -> 244707000 | W10: =G10+I10+K10+L10+M10+O10+S10+N10 -> 0
A11: 8. | C11: Alaptevékenység összesen | D11: =SUM(D6:D10) -> 160000 | E11: =SUM(E6:E10) -> 0 | F11: =SUM(F6:F10) -> 0 | G11: =SUM(G6:G10) -> 0 | H11: =SUM(H6:H10) -> 0 | I11: =SUM(I6:I10) -> 0 | J11: =SUM(J6:J10) -> 0 | K11: =SUM(K6:K10) -> 0 | ... S11: =SUM(S6:S10) -> 0 | T11: =D11+F11+H11+N11+J11+L11+P11+R11 -> 244867000 | U11: =SUM(U6:U9) -> 219 | V11: =SUM(V6:V9) -> 161760 | W11: =G11+I11+K11+L11+M11+O11+S11+N11 -> 0
A12: 9. | C12: Kötelező: | D12: =SUM(D7:D10) -> 160000 | E12: =SUM(E7:E10) -> 0 | F12: =SUM(F7:F10) -> 0 | G12: =SUM(G7:G10) -> 0 | H12: =SUM(H7:H10) -> 0 | I12: =SUM(I7:I10) -> 0 | J12: =SUM(J7:J10) -> 0 | K12: =SUM(K7:K10) -> 0 | ... S12: =SUM(S7:S10) -> 0 | T12: =D12+F12+H12+N12+J12+L12+P12+R12 -> 244867000 | U12: =U7+U9 -> 219 | V12: =V7+V9 -> 161760 | W12: =G12+I12+K12+L12+M12+O12+S12+N12 -> 0
A13: 10. | C13: Államigazgatási: | D13: =D6 -> 0 | E13: =E6 -> 0 | F13: =F6 -> 0 | G13: =G6 -> 0 | H13: =H6 -> 0 | I13: =I6 -> 0 | J13: =J6 -> 0 | K13: =K6 -> 0 | ... S13: =S6 -> 0 | T13: =D13+F13+H13+N13+J13+L13+P13+R13 -> 0 | U13: =U6 -> 0 | V13: =V6 -> 0 | W13: =G13+I13+K13+L13+M13+O13+S13+N13 -> 0

Sheet 9. GKP bev
T1: 9. melléklet a .../2026. (....) önkormányzati rendelethez
C2: Medgyesegyháza Város Önkormányzat 2026. évi bevételeinek alakulása - Gondozási Központ (forintban)
A3: A | B3: B | C3: C | D3: D | F3: E | H3: F | J3: G | L3: H | N3: I | P3: J | R3: K | T3: L
A4: 1 | B4: Kötelező/nem kötelező | C4: Kiemelt előirányzatok | D4: Működési bevételek | F4: Közhatalmi bevételek | H4: Működési célú támogatások államháztartáson belülről | J4: Felhalmozási célú támogatások államháztartáson belülről | L4: Működési célra átvett pénzeszközök | N4: Felhalmozási célra átvett pénzeszközök | P4: Finanszírozási bevételek - Támogatás működésre | R4: Költségvetési maradvány | T4: Bevételek összesen
A5: 2 | C5: Szakfeladat | D5: 2026. évi előirányzat | E5: 2026. évi mód. előir | F5: 2026. évi előirányzat | G5: 2026. évi mód. előir | H5: 2026. évi előirányzat | I5: 2026. évi mód. előir | J5: 2026. évi előirányzat | K5: 2026. évi mód. előir | L5: 2026. évi előirányzat | M5: 2026. évi mód. előir | N5: 2026. évi előirányzat | O5: 2026. évi mód. előir | P5: 2026. évi előirányzat | Q5: 2026. évi mód. előir | R5: 2026. évi előirányzat | S5: 2026. évi mód. előir | T5: 2026. évi előirányzat | U5: 2023. évi mód. előir | V5: 2026. évi mód. előir
A6: 3 | B6: nem kötelező | C6: Az önk.vagyonnal gazd. kapcs gazdálkodás | T6: =D6+F6+H6+J6+L6+N6+P6+R6 -> 0 | U6: =E6+G6+I6+K6+M6+O6+Q6+S6 -> 0 | V6: =E6+G6+I6+K6+M6+O6+Q6+S6 -> 0
A7: 4 | B7: kötelező | C7: Háziorvosi alapellátás | T7: =D7+F7+H7+J7+L7+N7+P7+R7 -> 0 | U7: =E7+G7+I7+K7+M7+O7+Q7+S7 -> 0 | V7: =E7+G7+I7+K7+M7+O7+Q7+S7 -> 0
A8: 5 | B8: kötelező | C8: Fogorvosi alapellátás | T8: =D8+F8+H8+J8+L8+N8+P8 -> 0 | U8: =E8+G8+I8+K8+M8+O8+Q8 -> 0 | V8: =E8+G8+I8+K8+M8+O8+Q8+S8 -> 0
A9: 6 | B9: nem kötelező | C9: Egészségügyi labor | T9: =D9+F9+H9+J9+L9+N9+P9 -> 0 | U9: =E9+G9+I9+K9+M9+O9+Q9 -> 0 | V9: =E9+G9+I9+K9+M9+O9+Q9+S9 -> 0
A10: 7 | B10: kötelező | C10: Család és nővédelmi eü. gondozás | D10: 1032000 | T10: =D10+F10+H10+J10+L10+N10+P10 -> 1032000 | U10: =E10+G10+I10+K10+M10+O10+Q10 -> 0 | V10: =E10+G10+I10+K10+M10+O10+Q10+S10 -> 0
A11: 8 | B11: kötelező | C11: Ifjúsági- egészségügyi gondozás | T11: =D11+F11+H11+J11+L11+N11+P11 -> 0 | U11: =E11+G11+I11+K11+M11+O11+Q11 -> 0 | V11: =E11+G11+I11+K11+M11+O11+Q11+S11 -> 0
A12: 9 | B12: nem kötelező | C12: Időskorúak bentlakásos szoc. ell. | D12: 39794000 | T12: =D12+F12+H12+J12+L12+N12+P12 -> 39794000 | U12: =E12+G12+I12+K12+M12+O12+Q12 -> 0 | V12: =E12+G12+I12+K12+M12+O12+Q12+S12 -> 0
A13: 10 | B13: kötelező | C13: Idősek nappali ellátása | T13: =D13+F13+H13+J13+L13+N13+P13 -> 0 | U13: =E13+G13+I13+K13+M13+O13+Q13 -> 0 | V13: =E13+G13+I13+K13+M13+O13+Q13+S13 -> 0
A14: 11 | B14: kötelező | C14: Tanyagondok szolgáltatás | T14: =D14+F14+H14+J14+L14+N14+P14 -> 0 | U14: =E14+G14+I14+K14+M14+O14+Q14 -> 0 | V14: =E14+G14+I14+K14+M14+O14+Q14+S14 -> 0
A15: 12 | B15: kötelező | C15: Család és gyermekjóléti szolgáltatás | T15: =D15+F15+H15+J15+L15+N15+P15 -> 0 | U15: =E15+G15+I15+K15+M15+O15+Q15 -> 0 | V15: =E15+G15+I15+K15+M15+O15+Q15+S15 -> 0
A16: 13 | B16: kötelező | C16: Szociális étkeztetés | D16: 3909000 | T16: =D16+F16+H16+J16+L16+N16+P16 -> 3909000 | U16: =E16+G16+I16+K16+M16+O16+Q16 -> 0 | V16: =E16+G16+I16+K16+M16+O16+Q16+S16 -> 0
A17: 14 | B17: kötelező | C17: Házi segítségnyújtás | T17: =D17+F17+H17+J17+L17+N17+P17 -> 0 | U17: =E17+G17+I17+K17+M17+O17+Q17 -> 0 | V17: =E17+G17+I17+K17+M17+O17+Q17+S17 -> 0
A18: 15 | B18: kötelező | C18: Irányítószervi támogatás | P18: 231957784 | R18: 203216 | T18: =D18+F18+H18+J18+L18+N18+P18+R18 -> 232161000 | V18: =E18+G18+I18+K18+M18+O18+Q18+S18 -> 0
A19: 15 | C19: Alaptevékenység összesen | D19: =SUM(D6:D18) -> 44735000 | E19: =SUM(E6:E18) -> 0 | F19: =SUM(F6:F18) -> 0 | G19: =SUM(G6:G18) -> 0 | H19: =SUM(H6:H18) -> 0 | I19: =SUM(I6:I18) -> 0 | J19: =SUM(J6:J18) -> 0 | K19: =SUM(K6:K18) -> 0 | ... T19: =SUM(T6:T18) -> 276896000 | U19: =SUM(U6:U17) -> 0 | V19: =SUM(V6:V17) -> 0
A20: 16 | C20: Kötelező | D20: =D17+D16+D15+D13+D11+D10+D8+D7+D18 -> 4941000 | E20: =E17+E16+E15+E13+E11+E10+E8+E7+E18 -> 0 | F20: =F17+F16+F15+F13+F11+F10+F8+F7+F18 -> 0 | G20: =G17+G16+G15+G13+G11+G10+G8+G7+G18 -> 0 | H20: =H17+H16+H15+H13+H11+H10+H8+H7+H18 -> 0 | I20: =I17+I16+I15+I13+I11+I10+I8+I7+I18 -> 0 | J20: =J17+J16+J15+J13+J11+J10+J8+J7+J18 -> 0 | K20: =K17+K16+K15+K13+K11+K10+K8+K7+K18 -> 0 | ... T20: =T17+T16+T15+T13+T11+T10+T8+T7+T18 -> 237102000 | U20: =U17+U16+U15+U13+U11+U10+U8+U7 -> 0 | V20: =V17+V16+V15+V13+V11+V10+V8+V7 -> 0
A21: 17 | C21: Nem kötelező | D21: =D12+D9+D6 -> 39794000 | E21: =E12+E9+E6 -> 0 | F21: =F12+F9+F6 -> 0 | G21: =G12+G9+G6 -> 0 | H21: =H12+H9+H6 -> 0 | I21: =I12+I9+I6 -> 0 | J21: =J12+J9+J6 -> 0 | K21: =K12+K9+K6 -> 0 | ... V21: =V12+V9+V6 -> 0

Sheet 10. VE bev
L1: 10. melléklet a .../2026. (....) önkormányzati rendelethez
C2: Medgyesegyháza Város Önkormányzat 2026. évi bevételeinek alakulása - Varázserdő Óvoda forintban
A3: A | C3: B | D3: C | F3: D | H3: E | J3: F | L3: G | N3: H | P3: I | R3: J
A4: 1 | B4: Kötelező/nem kötelező | C4: Kiemelt előirányzatok | D4: Működési bevételek | F4: Közhatalmi bevételek | H4: Működési célú támogatások államháztartáson belülről | J4: Felhalmozási célú támogatások államháztartáson belülről | L4: Működési célra átvett pénzeszközök | N4: Költségvetési maradvány | P4: Finanszírozási bevételek - Támogatás működésre | R4: Bevételek összesen
A5: 2 | C5: Szakfeladat | D5: 2026. évi előirányzat | E5: 2026. évi mód. előir | F5: 2026. évi előirányzat | G5: 2026. évi mód. előir | H5: 2026. évi előirányzat | I5: 2026. évi mód. előir | J5: 2026. évi előirányzat | K5: 2026. évi mód. előir | L5: 2026. évi előirányzat | M5: 2026. évi mód. előir | N5: 2026. évi előirányzat | O5: 2026. évi mód. előir | P5: 2026. évi előirányzat | Q5: 2026. évi mód. előir | R5: 2026. évi előirányzat | S5: 2026. évi mód. előir
A6: 3 | B6: kötelező | C6: Óvodai nevelés, ellátás | D6: 10000 | R6: =D6+F6+H6+J6+L6+N6+P6 -> 10000 | S6: =E6+G6+I6+K6+M6+O6+Q6 -> 0
A7: 4 | B7: kötelező | C7: Minibölcsőde | R7: =D7+F7+H7+J7+L7+N7+P7 -> 0 | S7: =E7+G7+I7+K7+M7+O7+Q7 -> 0
A8: 5 | B8: kötelező | C8: Irányítószervi támogatás | N8: 219416 | P8: 235428584 | R8: =D8+F8+H8+J8+L8+N8+P8 -> 235648000 | S8: =E8+G8+I8+K8+M8+O8+Q8 -> 0
A9: 6 | C9: Alaptevékenység összesen | D9: =SUM(D6:D8) -> 10000 | E9: =SUM(E6:E8) -> 0 | F9: =SUM(F6:F8) -> 0 | G9: =SUM(G6:G8) -> 0 | H9: =SUM(H6:H8) -> 0 | I9: =SUM(I6:I8) -> 0 | J9: =SUM(J6:J8) -> 0 | K9: =SUM(K6:K8) -> 0 | ... Q9: =SUM(Q6:Q8) -> 0 | R9: =D9+F9+H9+J9+L9+N9+P9 -> 235658000 | S9: =E9+G9+I9+K9+M9+O9+Q9 -> 0
A10: 7 | C10: Kötelező | D10: =SUMIF($B6:$B8,"kötelező",D6:D8) -> 10000 | E10: =SUMIF($B6:$B8,"kötelező",E6:E8) -> 0 | F10: =SUMIF($B6:$B8,"kötelező",F6:F8) -> 0 | G10: =SUMIF($B6:$B8,"kötelező",G6:G8) -> 0 | H10: =SUMIF($B6:$B8,"kötelező",H6:H8) -> 0 | I10: =SUMIF($B6:$B8,"kötelező",I6:I8) -> 0 | J10: =SUMIF($B6:$B8,"kötelező",J6:J8) -> 0 | K10: =SUMIF($B6:$B8,"kötelező",K6:K8) -> 0 | ... S10: =SUMIF($B6:$B8,"kötelező",S6:S8) -> 0
A11: 8 | C11: Nem kötelező | D11: =SUMIF($B6:$B7,"nem kötelező",D6:D7) -> 0 | E11: =SUMIF($B6:$B7,"nem kötelező",E6:E7) -> 0 | F11: =SUMIF($B6:$B7,"nem kötelező",F6:F7) -> 0 | G11: =SUMIF($B6:$B7,"nem kötelező",G6:G7) -> 0 | H11: =SUMIF($B6:$B7,"nem kötelező",H6:H7) -> 0 | I11: =SUMIF($B6:$B7,"nem kötelező",I6:I7) -> 0 | J11: =SUMIF($B6:$B7,"nem kötelező",J6:J7) -> 0 | K11: =SUMIF($B6:$B7,"nem kötelező",K6:K7) -> 0 | ... S11: =SUMIF($B6:$B7,"nem kötelező",S6:S7) -> 0

Sheet 11. MH bev.
T1: 10. melléklet a .../2026. (....) önkormányzati rendelethez
D3: Medgyesegyháza Város Önkormányzat 2026. évi bevételeinek alakulása - Művelődési Ház és Könyvtár (forintban)
A5: A | B5: B | C5: C | D5: D | F5: E | H5: F | J5: G | L5: H | N5: I | P5: J | R5: K | T5: L
A6: 1. | B6: Kötelező/nem kötelező | C6: Kiemelt előirányzatok | D6: Működési bevételek | F6: Közhatalmi bevételek | H6: Működési célú támogatások államháztartáson belülről | J6: Felhalmozási célú támogatások államháztartáson belülről | L6: Működési célra átvett pénzeszközök | N6: Felhalmozási célra átvett pénzeszközök | P6: Előző évi költségvetési maradvány | R6: Finanszírozási bevételek - Támogatás működésre | T6: Bevételek összesen
A7: 2. | C7: Szakfeladat | D7: 2026. évi előirányzat | E7: 2026. évi mód. előir | F7: 2026. évi előirányzat | G7: 2026. évi mód. előir | H7: 2026. évi előirányzat | I7: 2026. évi mód. előir | J7: 2026. évi előirányzat | K7: 2026. évi mód. előir | L7: 2026. évi előirányzat | M7: 2026. évi mód. előir | N7: 2026. évi előirányzat | O7: 2026. évi mód. előir | P7: 2026. évi előirányzat | Q7: 2026. évi mód. előir | R7: 2026. évi előirányzat | S7: 2026. évi mód. előir | T7: 2026. évi előirányzat | U7: 2024. évi mód. előir | V7: 2026. évi mód. előir
A8: 3. | B8: kötelező | C8: Művelődési Ház | D8: 166000 | T8: =D8+F8+H8+J8+L8+N8+R8+P8 -> 166000 | U8: 350 | V8: =E8+G8+I8+K8+M8+O8+S8 -> 0
A9: 4. | B9: kötelező | C9: Könyvtár | D9: 1000 | T9: =D9+F9+H9+J9+L9+N9+R9+P9 -> 1000 | V9: =E9+G9+I9+K9+M9+O9+S9 -> 0
A10: 5. | B10: kötelező | C10: Irányítószervi támogatás | P10: 65835 | R10: 52055165 | T10: =D10+F10+H10+J10+L10+N10+R10+P10 -> 52121000 | V10: =E10+G10+I10+K10+M10+O10+S10 -> 0
A11: 6. | B11: nem kötelező | C11: Schéner ház | T11: =D11+F11+H11+J11+L11+N11+R11+P11 -> 0 | V11: =E11+G11+I11+K11+M11+O11+S11 -> 0
A12: 7. | B12: nem kötelező | C12: Civil ház | T12: =D12+F12+H12+J12+L12+N12+R12+P12 -> 0 | V12: =E12+G12+I12+K12+M12+O12+S12 -> 0
A13: 8. | B13: nem kötelező | C13: Medgyesi Napok | D13: 809000 | T13: =D13+F13+H13+J13+L13+N13+R13+P13 -> 809000 | V13: =E13+G13+I13+K13+M13+O13+S13 -> 0
A14: 9. | B14: nem kötelező | C14: Rendezvények | D14: 100000 | T14: =D14+F14+H14+J14+L14+N14+R14+P14 -> 100000 | V14: =E14+G14+I14+K14+M14+O14+S14 -> 0
A15: 10. | C15: Alaptevékenység összesen | D15: =SUM(D8:D14) -> 1076000 | E15: =SUM(E8:E14) -> 0 | F15: =SUM(F8:F14) -> 0 | G15: =SUM(G8:G14) -> 0 | H15: =SUM(H8:H14) -> 0 | I15: =SUM(I8:I14) -> 0 | J15: =SUM(J8:J14) -> 0 | K15: =SUM(K8:K14) -> 0 | ... S15: =SUM(S8:S14) -> 0 | T15: =D15+F15+H15+J15+L15+N15+R15+P15 -> 53197000 | U15: =SUM(U8:U9) -> 350 | V15: =E15+G15+I15+K15+M15+O15+S15 -> 0
A16: 11. | C16: Kötelező | D16: =SUMIF($B8:$B14,"kötelező",D8:D14) -> 167000 | E16: =SUMIF($B8:$B14,"kötelező",E8:E14) -> 0 | F16: =SUMIF($B8:$B14,"kötelező",F8:F14) -> 0 | G16: =SUMIF($B8:$B14,"kötelező",G8:G14) -> 0 | H16: =SUMIF($B8:$B14,"kötelező",H8:H14) -> 0 | I16: =SUMIF($B8:$B14,"kötelező",I8:I14) -> 0 | J16: =SUMIF($B8:$B14,"kötelező",J8:J14) -> 0 | K16: =SUMIF($B8:$B14,"kötelező",K8:K14) -> 0 | ... S16: =SUMIF($B8:$B14,"kötelező",S8:S14) -> 0 | T16: =D16+F16+H16+J16+L16+N16+R16+P16 -> 52288000 | U16: =SUMIF($B8:$B9,"kötelező",U8:U9) -> 350 | V16: =E16+G16+I16+K16+M16+O16+S16 -> 0
A17: 12. | C17: Nem kötelező | D17: =SUMIF($B8:$B14,"nem kötelező",D8:D14) -> 909000 | E17: =SUMIF($B8:$B14,"nem kötelező",E8:E14) -> 0 | F17: =SUMIF($B8:$B14,"nem kötelező",F8:F14) -> 0 | G17: =SUMIF($B8:$B14,"nem kötelező",G8:G14) -> 0 | H17: =SUMIF($B8:$B14,"nem kötelező",H8:H14) -> 0 | I17: =SUMIF($B8:$B14,"nem kötelező",I8:I14) -> 0 | J17: =SUMIF($B8:$B14,"nem kötelező",J8:J14) -> 0 | K17: =SUMIF($B8:$B14,"nem kötelező",K8:K14) -> 0 | ... S17: =SUMIF($B8:$B14,"nem kötelező",S8:S14) -> 0 | T17: =D17+F17+H17+J17+L17+N17+R17+P17 -> 909000 | U17: =SUMIF($B8:$B9,"nem kötelező",U8:U9) -> 0 | V17: =E17+G17+I17+K17+M17+O17+S17 -> 0

Sheet 13.PMH kiad
N1: 13. melléklet .../2025. (...) önkormányzati rendelethez
C2: Medgyesegyházi Polgármesteri Hivatal 2026. évi kiadások kiemelt előirányzatonként forintban
A3: A | B3: B | C3: C | D3: D | F3: E | H3: F | J3: G | L3: H | N3: I | P3: J | R3: K | T3: L | V3: M
A4: Sor szám | B4: Kötelező/ nem kötelező | C4: Kiemelt előirányzatok | D4: Személyi juttatások | F4: Szociális hozzájárulási adó | H4: Dologi kiadások | J4: Egyéb működési célú támogatás Áht-n belül | L4: Egyéb működési célú kiadások | N4: Beruházások | P4: Felújítások | R4: Tartalék | T4: Finanszírozási kiadások | V4: Összesen
A5: 1 | C5: Szakfeladat | D5: 2026. évi előirányzat | E5: 2026. évi mód. előir | F5: 2026. évi előirányzat | G5: 2026. évi mód. előir | H5: 2026. évi előirányzat | I5: 2026. évi mód. előir | J5: 2026. évi előirányzat | K5: 2026. évi mód. előir | L5: 2026. évi előirányzat | M5: 2026. évi mód. előir | N5: 2026. évi előirányzat | O5: 2026. évi mód. előir | P5: 2026. évi előirányzat | Q5: 2026. évi mód. előir | R5: 2026. évi előirányzat | S5: 2026. évi mód. előir | T5: 2026. évi előirányzat | U5: 2026. évi mód. előir | V5: 2026. évi előirányzat | W5: 2025. évi mód. előir | X5: 2025. évi előirányzat | Y5: 2026. évi mód. előir
A6: 2 | B6: államigazg | C6: Államigazgatási feladatok | V6: =D6+F6+H6+J6+L6+N6+P6+R6+T6 -> 0 | W6: =E6+G6+I6+K6+M6+O6+Q6+S6+U6 -> 0 | X6: =F6+H6+J6+L6+N6+P6+R6+T6+V6 -> 0 | Y6: =E6+G6+I6+K6+M6+O6+Q6+S6+U6 -> 0
A7: 3 | B7: kötelező | C7: Önkormányzati igazgatási tevékenység | D7: 193280000 | F7: 23892000 | H7: 15000000 | V7: =D7+F7+H7+J7+L7+N7+P7+R7+T7 -> 232172000 | W7: =E7+G7+I7+K7+M7+O7+Q7+S7+U7 -> 0 | X7: =F7+H7+J7+L7+N7+P7+R7+T7+V7 -> 271064000 | Y7: =E7+G7+I7+K7+M7+O7+Q7+S7+U7 -> 0
A8: 4 | B8: kötelező | C8: Adó igazgatás | D8: 11205000 | F8: 1426000 | H8: 64000 | V8: =D8+F8+H8+J8+L8+N8+P8+R8+T8 -> 12695000 | Y8: =E8+G8+I8+K8+M8+O8+Q8+S8+U8 -> 0
A9: 5 | B9: kötelező | C9: Önkományzati választás | V9: =D9+F9+H9+J9+L9+N9+P9+R9+T9 -> 0 | W9: =E9+G9+I9+K9+M9+O9+Q9+S9+U9 -> 0 | X9: =F9+H9+J9+L9+N9+P9+R9+T9+V9 -> 0 | Y9: =E9+G9+I9+K9+M9+O9+Q9+S9+U9 -> 0
A10: 6 | C10: Alaptevékenység összesen | D10: =SUM(D6:D9) -> 204485000 | E10: =SUM(E6:E9) -> 0 | F10: =SUM(F6:F9) -> 25318000 | G10: =SUM(G6:G9) -> 0 | H10: =SUM(H6:H9) -> 15064000 | I10: =SUM(I6:I9) -> 0 | J10: =SUM(J6:J9) -> 0 | K10: =SUM(K6:K9) -> 0 | ... U10: =SUM(U6:U9) -> 0 | V10: =D10+F10+H10+J10+L10+N10+P10+R10+T10 -> 244867000 | W10: =SUM(W6:W9) -> 0 | X10: =SUM(X6:X9) -> 271064000 | Y10: =E10+G10+I10+K10+M10+O10+Q10+S10+U10 -> 0
A11: 7 | C11: Kötelező | D11: =D7++D8+D9 -> 204485000 | E11: =E7++E8+E9 -> 0 | F11: =F7++F8+F9 -> 25318000 | G11: =G7++G8+G9 -> 0 | H11: =H7++H8+H9 -> 15064000 | I11: =I7++I8+I9 -> 0 | J11: =J7++J8+J9 -> 0 | K11: =K7++K8+K9 -> 0 | ... U11: =U7++U8+U9 -> 0 | V11: =D11+F11+H11+J11+L11+N11+P11+R11+T11 -> 244867000 | W11: =W7+W9 -> 0 | X11: =X7+X9 -> 271064000 | Y11: =E11+G11+I11+K11+M11+O11+Q11+S11+U11 -> 0
A12: 8 | C12: Államigazgatási feladatok | D12: =D6 -> 0 | E12: =E6 -> 0 | F12: =F6 -> 0 | G12: =G6 -> 0 | H12: =H6 -> 0 | I12: =I6 -> 0 | J12: =J6 -> 0 | K12: =K6 -> 0 | ... U12: =U6 -> 0 | V12: =D12+F12+H12+J12+L12+N12+P12+R12+T12 -> 0 | W12: =W6 -> 0 | X12: =X6 -> 0 | Y12: =E12+G12+I12+K12+M12+O12+Q12+S12+U12 -> 0
A13: 9 | C13: Engedélyezett létszám | V13: 17 | W13: 17 | X13: 17
A14: 10 | C14: ebből: közfoglalkoztatott: | V14: 0 | W14: 0 | X14: 0 | Y14: 0

Sheet 12.Önk kiad
X1: 12. melléklet a ..../2026. (....) önkormányzati rendelethez
C2: Az Önkormányzat 2026. évi kiadások kiemelt előirányzatonként forintban
A3: A | B3: B | C3: C | D3: D | F3: E | H3: F | J3: G | L3: H | N3: I | P3: J | R3: L | T3: M | V3: N | X3: O | Z3: P | AB3: R | AD3: S | AG3: T
A4: 1. | B4: kötelező/nem kötelező | C4: Kiemelt előirányzatok | D4: Személyi juttatások | F4: Szociális hozzájárulási adó | H4: Dologi kiadások | J4: Önkormányzat által folyósított ellátások | L4: Egyéb működési célú kiadások ÁH-n kívülre | N4: Egyéb működési célú kiadás ÁH-n belülre | P4: Egyéb Felhalmozási célú kiadás ÁH-n belülre | R4: Elvonások, befizetések | T4: Beruházások | V4: Felújítások | X4: Tartalék | Z4: Finanszírozási kiadások | AB4: Összesen | AD4: Finanszírozási kiadás Ktgvetési szerveknek | AF4: Kiadások összesen | AG4: Kiadások összesen
A5: 2. | C5: Szakfeladat/Feladat | D5: 2026. évi előirányzat | E5: 2026. évi mód. előir | F5: 2026. évi előirányzat | G5: 2026. évi mód. előir | H5: 2026. évi előirányzat | I5: 2026. évi mód. előir | J5: 2026. évi előirányzat | K5: 2026. évi mód. előir | L5: 2026. évi előirányzat | M5: 2026. évi mód. előir | N5: 2026. évi előirányzat | O5: 2026. évi mód. előir | P5: 2026. évi előirányzat | Q5: 2026. évi mód. előir | R5: 2026. évi előirányzat | S5: 2026. évi mód. előir | T5: 2026. évi előirányzat | U5: 2026. évi mód. előir | V5: 2026. évi előirányzat | W5: 2026. évi mód. előir | X5: 2026. évi előirányzat | Y5: 2026. évi mód. előir | Z5: 2026. évi előirányzat | AA5: 2026. évi mód. előir | AB5: 2026. évi előirányzat | AC5: 2026. évi mód. előir | AD5: 2026. évi előirányzat | AE5: 2026. évi mód. előir | AF5: 2026. évi előirányzat | AG5: 2026. évi mód. előir | AH5: 2020. évi bevétel | AI5: 2014. évi teljesítés
A6: 3. | B6: kötelező | C6: Képviselő-testület kiadásai | D6: 31772000 | F6: 4161000 | H6: 100000 | AB6: =D6+F6+H6+J6+L6+N6+P6+R6+T6+V6+X6+Z6 -> 36033000 | AC6: =E6+G6+I6+K6+M6+O6+Q6+S6+U6+W6+Y6+AA6 -> 0 | AF6: =AB6+AD6 -> 36033000 | AG6: =AC6+AE6 -> 0
A7: 4. | B7: kötelező | C7: Önkormányzati igazgatás | D7: 600000 | H7: 8200000 | T7: 2000000 | AB7: =D7+F7+H7+J7+L7+N7+P7+R7+T7+V7+X7+Z7 -> 10800000 | AC7: =E7+G7+I7+K7+M7+O7+Q7+S7+U7+W7+Y7+AA7 -> 0 | AF7: =AB7+AD7 -> 10800000 | AG7: =AC7+AE7 -> 0
A8: 5. | B8: kötelező | C8: Lakóingatlan bérbeadása | H8: 259000 | V8: 1000000 | AB8: =D8+F8+H8+J8+L8+N8+P8+R8+T8+V8+X8+Z8 -> 1259000 | AC8: =E8+G8+I8+K8+M8+O8+Q8+S8+U8+W8+Y8+AA8 -> 0 | AF8: =AB8+AD8 -> 1259000 | AG8: =AC8+AE8 -> 0
A9: 6. | B9: kötelező | C9: Nem lakó ingatlan bérbe adása, üzemelése | H9: 6000000 | V9: 8443000 | AB9: =D9+F9+H9+J9+L9+N9+P9+R9+T9+V9+X9+Z9 -> 14443000 | AC9: =E9+G9+I9+K9+M9+O9+Q9+S9+U9+W9+Y9+AA9 -> 0 | AF9: =AB9+AD9 -> 14443000 | AG9: =AC9+AE9 -> 0
A10: 7. | B10: kötelező | C10: Közvilágítás | H10: 26500000 | AB10: =D10+F10+H10+J10+L10+N10+P10+R10+T10+V10+X10+Z10 -> 26500000 | AC10: =E10+G10+I10+K10+M10+O10+Q10+S10+U10+W10+Y10+AA10 -> 0 | AF10: =AB10+AD10 -> 26500000 | AG10: =AC10+AE10 -> 0
A11: 8. | B11: kötelező | C11: Tartalék | X11: 5000000 | AB11: =D11+F11+H11+J11+L11+N11+P11+R11+T11+V11+X11+Z11 -> 5000000 | AC11: =E11+G11+I11+K11+M11+O11+Q11+S11+U11+W11+Y11+AA11 -> 0 | AF11: =AB11+AD11 -> 5000000 | AG11: =AC11+AE11 -> 0
A12: 9. | B12: kötelező | C12: Lakhatási támogatás | AB12: =D12+F12+H12+J12+L12+N12+P12+R12+T12+V12+X12+Z12 -> 0 | AC12: =E12+G12+I12+K12+M12+O12+Q12+S12+U12+W12+Y12+AA12 -> 0 | AF12: =AB12+AD12 -> 0 | AG12: =AC12+AE12 -> 0
A13: 10. | B13: kötelező | C13: Gyógyszer támogatás | J13: 300000 | AB13: =D13+F13+H13+J13+L13+N13+P13+R13+T13+V13+X13+Z13 -> 300000 | AC13: =E13+G13+I13+K13+M13+O13+Q13+S13+U13+W13+Y13+AA13 -> 0 | AF13: =AB13+AD13 -> 300000 | AG13: =AC13+AE13 -> 0
A14: 11. | B14: nem kötelező | C14: Bursa Támogatás | N14: 500000 | AB14: =D14+F14+H14+J14+L14+N14+P14+R14+T14+V14+X14+Z14 -> 500000 | AC14: =E14+G14+I14+K14+M14+O14+Q14+S14+U14+W14+Y14+AA14 -> 0 | AF14: =AB14+AD14 -> 500000 | AG14: =AC14+AE14 -> 0
A15: 12. | B15: kötelező | C15: Egyszeri támogatás | H15: 6000000 | J15: 2800000 | AB15: =D15+F15+H15+J15+L15+N15+P15+R15+T15+V15+X15+Z15 -> 8800000 | AC15: =E15+G15+I15+K15+M15+O15+Q15+S15+U15+W15+Y15+AA15 -> 0 | AF15: =AB15+AD15 -> 8800000 | AG15: =AC15+AE15 -> 0
A16: 13. | B16: kötelező | C16: Krízis | J16: 500000 | AB16: =D16+F16+H16+J16+L16+N16+P16+R16+T16+V16+X16+Z16 -> 500000 | AC16: =E16+G16+I16+K16+M16+O16+Q16+S16+U16+W16+Y16+AA16 -> 0 | AF16: =AB16+AD16 -> 500000 | AG16: =AC16+AE16 -> 0
A17: 14. | B17: kötelező | C17: Köztemetés | J17: 500000 | AB17: =D17+F17+H17+J17+L17+N17+P17+R17+T17+V17+X17+Z17 -> 500000 | AC17: =E17+G17+I17+K17+M17+O17+Q17+S17+U17+W17+Y17+AA17 -> 0 | AF17: =AB17+AD17 -> 500000 | AG17: =AC17+AE17 -> 0
A18: 15. | B18: kötelező | C18: Hulladék szállítási kedvezmény | J18: 50000 | AB18: =D18+F18+H18+J18+L18+N18+P18+R18+T18+V18+X18+Z18 -> 50000 | AC18: =E18+G18+I18+K18+M18+O18+Q18+S18+U18+W18+Y18+AA18 -> 0 | AF18: =AB18+AD18 -> 50000 | AG18: =AC18+AE18 -> 0
A19: 16. | B19: kötelező | C19: Hosszabb távú közfoglakoztatás | D19: 18321000 | F19: 1191000 | AB19: =D19+F19+H19+J19+L19+N19+P19+R19+T19+V19+X19+Z19 -> 19512000 | AC19: =E19+G19+I19+K19+M19+O19+Q19+S19+U19+W19+Y19+AA19 -> 0 | AF19: =AB19+AD19 -> 19512000 | AG19: =AC19+AE19 -> 0
A20: 17. | B20: kötelező | C20: Start mintaprogram | D20: 18434000 | F20: 1198000 | AB20: =D20+F20+H20+J20+L20+N20+P20+R20+T20+V20+X20+Z20 -> 19632000 | AC20: =E20+G20+I20+K20+M20+O20+Q20+S20+U20+W20+Y20+AA20 -> 0 | AF20: =AB20+AD20 -> 19632000 | AG20: =AC20+AE20 -> 0
A21: 18. | B21: nem kötelező | C21: Start porgram önerő | D21: 150000 | H21: 1850000 | T21: 13492000 | AB21: =D21+F21+H21+J21+L21+N21+P21+R21+T21+V21+X21+Z21 -> 15492000 | AC21: =E21+G21+I21+K21+M21+O21+Q21+S21+U21+W21+Y21+AA21 -> 0 | AF21: =AB21+AD21 -> 15492000 | AG21: =AC21+AE21 -> 0
A22: 19. | B22: kötelező | C22: Állami támogatások és megelőlegezések visszafizetése | H22: 5500000 | R22: 4000000 | Z22: 22381820 | AB22: =D22+F22+H22+J22+L22+N22+P22+R22+T22+V22+X22+Z22 -> 31881820 | AC22: =E22+G22+I22+K22+M22+O22+Q22+S22+U22+W22+Y22+AA22 -> 0 | AF22: =AB22+AD22 -> 31881820 | AG22: =AC22+AE22 -> 0
A23: 20. | B23: kötelező | C23: Önkormányzati üzemeltetési feladatok | D23: 33239000 | F23: 4799000 | H23: 56235000 | AB23: =D23+F23+H23+J23+L23+N23+P23+R23+T23+V23+X23+Z23 -> 94273000 | AC23: =E23+G23+I23+K23+M23+O23+Q23+S23+U23+W23+Y23+AA23 -> 0 | AF23: =AB23+AD23 -> 94273000 | AG23: =AC23+AE23 -> 0
A24: 21. | B24: kötelező | C24: Éven túli céllhitel törlesztése | H24: 8000000 | Z24: 11580000 | AB24: =D24+F24+H24+J24+L24+N24+P24+R24+T24+V24+X24+Z24 -> 19580000 | AC24: =E24+G24+I24+K24+M24+O24+Q24+S24+U24+W24+Y24+AA24 -> 0 | AF24: =AB24+AD24 -> 19580000 | AG24: =AC24+AE24 -> 0
A25: 22. | B25: kötelező | C25: Likvid hitel | H25: 4000000 | Z25: 500000000 | AB25: =D25+F25+H25+J25+L25+N25+P25+R25+T25+V25+X25+Z25 -> 504000000 | AC25: =E25+G25+I25+K25+M25+O25+Q25+S25+U25+W25+Y25+AA25 -> 0 | AF25: =AB25+AD25 -> 504000000 | AG25: =AC25+AE25 -> 0
A26: 23. | B26: kötelező | C26: Háziorvosi feladatok, alapellátás | H26: 2500000 | AB26: =D26+F26+H26+J26+L26+N26+P26+R26+T26+V26+X26+Z26 -> 2500000 | AC26: =E26+G26+I26+K26+M26+O26+Q26+S26+U26+W26+Y26+AA26 -> 0 | AF26: =AB26+AD26 -> 2500000 | AG26: =AC26+AE26 -> 0
A27: 24. | B27: kötelező | C27: Köztemető fenntartás | H27: 250000 | AB27: =D27+F27+H27+J27+L27+N27+P27+R27+T27+V27+X27+Z27 -> 250000 | AC27: =E27+G27+I27+K27+M27+O27+Q27+S27+U27+W27+Y27+AA27 -> 0 | AF27: =AB27+AD27 -> 250000 | AG27: =AC27+AE27 -> 0
A28: 25. | B28: kötelező | C28: Medgyesegyházi Energiaközösség Kft támogatása | L28: 7500000 | AB28: =D28+F28+H28+J28+L28+N28+P28+R28+T28+V28+X28+Z28 -> 7500000 | AC28: =E28+G28+I28+K28+M28+O28+Q28+S28+U28+W28+Y28+AA28 -> 0 | AF28: =AB28+AD28 -> 7500000 | AG28: =AC28+AE28 -> 0
A29: 26. | B29: kötelező | C29: Ipari Park Kft. Támogatása | L29: 2500000 | AB29: =D29+F29+H29+J29+L29+N29+P29+R29+T29+V29+X29+Z29 -> 2500000 | AC29: =E29+G29+I29+K29+M29+O29+Q29+S29+U29+W29+Y29+AA29 -> 0 | AF29: =AB29+AD29 -> 2500000 | AG29: =AC29+AE29 -> 0
A30: 27. | B30: kötelező | C30: Óvodai gyermekétkeztetés | H30: 32500000 | AB30: =D30+F30+H30+J30+L30+N30+P30+R30+T30+V30+X30+Z30 -> 32500000 | AC30: =E30+G30+I30+K30+M30+O30+Q30+S30+U30+W30+Y30+AA30 -> 0 | AF30: =AB30+AD30 -> 32500000 | AG30: =AC30+AE30 -> 0
A31: 28. | B31: kötelező | C31: Mini bölcsi, bölcsődei gyerekétkeztetés | H31: 3600000 | V31: 1000000 | AB31: =D31+F31+H31+J31+L31+N31+P31+R31+T31+V31+X31+Z31 -> 4600000 | AC31: =E31+G31+I31+K31+M31+O31+Q31+S31+U31+W31+Y31+AA31 -> 0 | AF31: =AB31+AD31 -> 4600000 | AG31: =AC31+AE31 -> 0
A32: 29. | B32: nem kötelező | C32: Kistérségi díjak | N32: 2000000 | AB32: =D32+F32+H32+J32+L32+N32+P32+R32+T32+V32+X32+Z32 -> 2000000 | AC32: =E32+G32+I32+K32+M32+O32+Q32+S32+U32+W32+Y32+AA32 -> 0 | AF32: =AB32+AD32 -> 2000000 | AG32: =AC32+AE32 -> 0
A33: 30. | B33: nem kötelező | C33: Tagdíjak | H33: 200000 | N33: 250000 | AB33: =D33+F33+H33+J33+L33+N33+P33+R33+T33+V33+X33+Z33 -> 450000 | AC33: =E33+G33+I33+K33+M33+O33+Q33+S33+U33+W33+Y33+AA33 -> 0 | AF33: =AB33+AD33 -> 450000 | AG33: =AC33+AE33 -> 0
A34: 31. | B34: kötelező | C34: Piac | H34: 700000 | AB34: =D34+F34+H34+J34+L34+N34+P34+R34+T34+V34+X34+Z34 -> 700000 | AC34: =E34+G34+I34+K34+M34+O34+Q34+S34+U34+W34+Y34+AA34 -> 0 | AF34: =AB34+AD34 -> 700000 | AG34: =AC34+AE34 -> 0
A35: 32. | B35: kötelező | C35: Közkifolyó kiadásai | H35: 500000 | AB35: =D35+F35+H35+J35+L35+N35+P35+R35+T35+V35+X35+Z35 -> 500000 | AC35: =E35+G35+I35+K35+M35+O35+Q35+S35+U35+W35+Y35+AA35 -> 0 | AF35: =AB35+AD35 -> 500000 | AG35: =AC35+AE35 -> 0
A36: 33. | B36: kötelező | C36: Szennyvíz és ivóvíz befizetési kötelezettség | L36: 14627058 | AB36: =D36+F36+H36+J36+L36+N36+P36+R36+T36+V36+X36+Z36 -> 14627058 | AC36: =E36+G36+I36+K36+M36+O36+Q36+S36+U36+W36+Y36+AA36 -> 0 | AF36: =AB36+AD36 -> 14627058 | AG36: =AC36+AE36 -> 0
A37: 34. | B37: kötelező | C37: Szünidei gyermekétkeztetés | H37: 1700000 | AB37: =D37+F37+H37+J37+L37+N37+P37+R37+T37+V37+X37+Z37 -> 1700000 | AC37: =E37+G37+I37+K37+M37+O37+Q37+S37+U37+W37+Y37+AA37 -> 0 | AF37: =AB37+AD37 -> 1700000 | AG37: =AC37+AE37 -> 0
A38: 35. | B38: nem kötelező | C38: Sportcsarnok | D38: 5651000 | F38: 301000 | H38: 20842000 | AB38: =D38+F38+H38+J38+L38+N38+P38+R38+T38+V38+X38+Z38 -> 26794000 | AC38: =E38+G38+I38+K38+M38+O38+Q38+S38+U38+W38+Y38+AA38 -> 0 | AF38: =AB38+AD38 -> 26794000 | AG38: =AC38+AE38 -> 0
A39: 36. | B39: nem kötelező | C39: Uszoda | H39: 24100000 | AB39: =D39+F39+H39+J39+L39+N39+P39+R39+T39+V39+X39+Z39 -> 24100000 | AC39: =E39+G39+I39+K39+M39+O39+Q39+S39+U39+W39+Y39+AA39 -> 0 | AF39: =AB39+AD39 -> 24100000 | AG39: =AC39+AE39 -> 0
A40: 37. | B40: nem kötelező | C40: Eszköz beszerzés (Sátor) | T40: 1540000 | AB40: =D40+F40+H40+J40+L40+N40+P40+R40+T40+V40+X40+Z40 -> 1540000 | AC40: =E40+G40+I40+K40+M40+O40+Q40+S40+U40+W40+Y40+AA40 -> 0 | AF40: =AB40+AD40 -> 1540000 | AG40: =AC40+AE40 -> 0
A41: 38. | B41: nem kötelező | C41: TOP Plusz -1.1.1 Helyi gazdasági fejlesztés | P41: 5916000 | AB41: =D41+F41+H41+J41+L41+N41+P41+R41+T41+V41+X41+Z41 -> 5916000 | AC41: =E41+G41+I41+K41+M41+O41+Q41+S41+U41+W41+Y41+AA41 -> 0 | AF41: =AB41+AD41 -> 5916000 | AG41: =AC41+AE41 -> 0
A42: 39. | B42: nem kötelező | C42: TOP Plusz -3.3.2-21 Háziorvosi ellátás | P42: 8542000 | AB42: =D42+F42+H42+J42+L42+N42+P42+R42+T42+V42+X42+Z42 -> 8542000 | AC42: =E42+G42+I42+K42+M42+O42+Q42+S42+U42+W42+Y42+AA42 -> 0 | AF42: =AB42+AD42 -> 8542000 | AG42: =AC42+AE42 -> 0
A43: 40. | B43: nem kötelező | C43: TOP Plusz -3.3.2-21 Idősek klubbja | H43: 7814000 | V43: 14111000 | AB43: =D43+F43+H43+J43+L43+N43+P43+R43+T43+V43+X43+Z43 -> 21925000 | AC43: =E43+G43+I43+K43+M43+O43+Q43+S43+U43+W43+Y43+AA43 -> 0 | AF43: =AB43+AD43 -> 21925000 | AG43: =AC43+AE43 -> 0
A44: 41. | B44: nem kötelező | C44: TOP Plusz -1.2.3 Belterületi utak | P44: 209000 | AB44: =D44+F44+H44+J44+L44+N44+P44+R44+T44+V44+X44+Z44 -> 209000 | AC44: =E44+G44+I44+K44+M44+O44+Q44+S44+U44+W44+Y44+AA44 -> 0 | AF44: =AB44+AD44 -> 209000 | AG44: =AC44+AE44 -> 0
A45: 42. | B45: nem kötelező | C45: TOP-Plusz 1.2.1-21 Élhető települések | H45: 3848000 | T45: 345389000 | AB45: =D45+F45+H45+J45+L45+N45+P45+R45+T45+V45+X45+Z45 -> 349237000 | AC45: =E45+G45+I45+K45+M45+O45+Q45+S45+U45+W45+Y45+AA45 -> 0 | AF45: =AB45+AD45 -> 349237000 | AG45: =AC45+AE45 -> 0
A46: 43. | B46: nem kötelező | C46: Top-Plusz 2.1.1-21 Önkormányzati épületek energetikai korszerűsítése | P46: 32721000 | V46: 17553000 | AB46: =D46+F46+H46+J46+L46+N46+P46+R46+T46+V46+X46+Z46 -> 50274000 | AC46: =E46+G46+I46+K46+M46+O46+Q46+S46+U46+W46+Y46+AA46 -> 0 | AF46: =AB46+AD46 -> 50274000 | AG46: =AC46+AE46 -> 0
A47: 44. | B47: nem kötelező | C47: MFP/OTIFB/2024 Idősek otthona hőközpont rekonstrukciója | P47: 647000 | V47: 7744000 | AB47: =D47+F47+H47+J47+L47+N47+P47+R47+T47+V47+X47+Z47 -> 8391000 | AC47: =E47+G47+I47+K47+M47+O47+Q47+S47+U47+W47+Y47+AA47 -> 0 | AF47: =AB47+AD47 -> 8391000 | AG47: =AC47+AE47 -> 0
A48: 45. | B48: nem kötelező | C48: Versenyképes pr. Energiaközösség | H48: 18000000 | AB48: =D48+F48+H48+J48+L48+N48+P48+R48+T48+V48+X48+Z48 -> 18000000 | AC48: =E48+G48+I48+K48+M48+O48+Q48+S48+U48+W48+Y48+AA48 -> 0 | AF48: =AB48+AD48 -> 18000000 | AG48: =AC48+AE48 -> 0
A49: 46. | B49: nem kötelező | C49: MFP-UHJ/2025 Útfelújítás | V49: 508000 | AB49: =D49+F49+H49+J49+L49+N49+P49+R49+T49+V49+X49+Z49 -> 508000 | AC49: =E49+G49+I49+K49+M49+O49+Q49+S49+U49+W49+Y49+AA49 -> 0 | AF49: =AB49+AD49 -> 508000 | AG49: =AC49+AE49 -> 0
A50: 47. | B50: nem kötelező | C50: TTP-KP-1-2025-1000187 Testvértelepülés pályázat | H50: 1400000 | AB50: =D50+F50+H50+J50+L50+N50+P50+R50+T50+V50+X50+Z50 -> 1400000 | AC50: =E50+G50+I50+K50+M50+O50+Q50+S50+U50+W50+Y50+AA50 -> 0 | AF50: =AB50+AD50 -> 1400000 | AG50: =AC50+AE50 -> 0
A51: 48. | B51: nem kötelező | C51: Magyar Falu Közvilágítás pályázat | T51: 25299000 | AB51: =D51+F51+H51+J51+L51+N51+P51+R51+T51+V51+X51+Z51 -> 25299000 | AC51: =E51+G51+I51+K51+M51+O51+Q51+S51+U51+W51+Y51+AA51 -> 0 | AF51: =AB51+AD51 -> 25299000 | AG51: =AC51+AE51 -> 0
A52: 49. | B52: nem kötelező | C52: 4034981504 Versenyképes pr. Térfigyelőrendszer | T52: 6264000 | AB52: =D52+F52+H52+J52+L52+N52+P52+R52+T52+V52+X52+Z52 -> 6264000 | AC52: =E52+G52+I52+K52+M52+O52+Q52+S52+U52+W52+Y52+AA52 -> 0 | AF52: =AB52+AD52 -> 6264000 | AG52: =AC52+AE52 -> 0
A53: 50. | B53: nem kötelező | C53: EFOP-3.9.2 visszafizetés (Medgyesegyháza) | AB53: =D53+F53+H53+J53+L53+N53+P53+R53+T53+V53+X53+Z53 -> 0 | AC53: =E53+G53+I53+K53+M53+O53+Q53+S53+U53+W53+Y53+AA53 -> 0 | AF53: =AB53+AD53 -> 0 | AG53: =AC53+AE53 -> 0
A54: 51. | B54: nem kötelező | C54: EFOP-3.9.2 visszafizetés (Kistérség) | AB54: =D54+F54+H54+J54+L54+N54+P54+R54+T54+V54+X54+Z54 -> 0 | AC54: =E54+G54+I54+K54+M54+O54+Q54+S54+U54+W54+Y54+AA54 -> 0 | AF54: =AB54+AD54 -> 0 | AG54: =AC54+AE54 -> 0
A55: 52. | C55: Alaptevékenység összesen | D55: =SUM(D6:D54) -> 108167000 | E55: =SUM(E6:E54) -> 0 | F55: =SUM(F6:F54) -> 11650000 | G55: =SUM(G6:G54) -> 0 | H55: =SUM(H6:H54) -> 240598000 | I55: =SUM(I6:I54) -> 0 | J55: =SUM(J6:J54) -> 4150000 | K55: =SUM(K6:K54) -> 0 | ... AA55: =SUM(AA6:AA54) -> 0 | AB55: =D55+F55+H55+J55+L55+N55+P55+R55+T55+V55+X55+Z55 -> 1427281878 | AC55: =E55+G55+I55+K55+M55+O55+Q55+S55+U55+W55+Y55+AA55 -> 0 | AD55: =SUM(AD6:AD54) -> 0 | AE55: =SUM(AE6:AE54) -> 0 | AF55: =SUM(AF6:AF54) -> 1427281878 | AG55: =SUM(AG6:AG54) -> 0 | AH55: =SUM(AH6:AH54) -> 0 | AI55: =SUM(AI6:AI54) -> 0
A56: 53. | C56: Önkormányzat létszáma
A57: 54. | C57: Polgármester | D57: 1
A58: 55. | C58: Képviselő | D58: 6
A59: 56. | C59: MT hatálya alá tartozó munkavállaló | D59: 6
A60: 57. | C60: Közmunkaprogramban részt vevő | D60: 41
A61: 58. | C61: Hosszabb távú közfoglalkoztatott | D61: 0
A62: 59. | C62: Hosszabb távú közfoglalkoztatott | D62: 14
A63: 60. | C63: Közalkalmazott | D63: 1
A64: 61. | C64: Összesen: | D64: =SUM(D57:D63) -> 69 | E64: =SUM(E57:E63) -> 0
A65: 62.
A66: 63. | C66: Kötelező | D66: =D6+D8+D9+D10+D11+D12+D13+D15+D16+D17+D18+D19+D20+D22+D24+D26+D27+D28+D30+D35+D37+D23+D31+D36+D34+D25+D7 -> 102366000 | E66: =E6+E8+E9+E10+E11+E12+E13+E15+E16+E17+E18+E19+E20+E22+E24+E26+E27+E28+E30+E35+E37+E23+E31+E36+E34+E25 -> 0 | F66: =F6+F8+F9+F10+F11+F12+F13+F15+F16+F17+F18+F19+F20+F22+F24+F26+F27+F28+F30+F35+F37+F23+F31+F36+F34+F25 -> 11349000 | G66: =G6+G8+G9+G10+G11+G12+G13+G15+G16+G17+G18+G19+G20+G22+G24+G26+G27+G28+G30+G35+G37+G23+G31+G36+G34+G25 -> 0 | H66: =H6+H8+H9+H10+H11+H12+H13+H15+H16+H17+H18+H19+H20+H22+H24+H26+H27+H28+H30+H35+H37+H23+H31+H36+H34+H25+H7 -> 162544000 | I66: =I6+I8+I9+I10+I11+I12+I13+I15+I16+I17+I18+I19+I20+I22+I24+I26+I27+I28+I30+I35+I37+I23+I31+I36+I34+I25 -> 0 | J66: =J6+J8+J9+J10+J11+J12+J13+J15+J16+J17+J18+J19+J20+J22+J24+J26+J27+J28+J30+J35+J37+J23+J31+J36+J34+J25 -> 4150000 | K66: =K6+K8+K9+K10+K11+K12+K13+K15+K16+K17+K18+K19+K20+K22+K24+K26+K27+K28+K30+K35+K37+K23+K31+K36+K34+K25 -> 0 | L66: =L6+L8+L9+L10+L11+L12+L13+L15+L16+L17+L18+L19+L20+L22+L24+L26+L27+L28+L30+L35+L37+L23+L31+L36+L34+L25+L29 -> 24627058 | M66: =M6+M8+M9+M10+M11+M12+M13+M15+M16+M17+M18+M19+M20+M22+M24+M26+M27+M28+M30+M35+M37+M23+M31+M36+M34+M25 -> 0 | N66: =N6+N8+N9+N10+N11+N12+N13+N15+N16+N17+N18+N19+N20+N22+N24+N26+N27+N28+N30+N35+N37+N23+N31+N36+N34+N25 -> 0 | O66: =O6+O8+O9+O10+O11+O12+O13+O15+O16+O17+O18+O19+O20+O22+O24+O26+O27+O28+O30+O35+O37+O23+O31+O36+O34+O25 -> 0 | P66: =P6+P8+P9+P10+P11+P12+P13+P15+P16+P17+P18+P19+P20+P22+P24+P26+P27+P28+P30+P35+P37+P23+P31+P36+P34+P25 -> 0 | Q66: =Q6+Q8+Q9+Q10+Q11+Q12+Q13+Q15+Q16+Q17+Q18+Q19+Q20+Q22+Q24+Q26+Q27+Q28+Q30+Q35+Q37+Q23+Q31+Q36+Q34+Q25 -> 0 | R66: =R6+R8+R9+R10+R11+R12+R13+R15+R16+R17+R18+R19+R20+R22+R24+R26+R27+R28+R30+R35+R37+R23+R31+R36+R34+R25 -> 4000000 | S66: =S6+S8+S9+S10+S11+S12+S13+S15+S16+S17+S18+S19+S20+S22+S24+S26+S27+S28+S30+S35+S37+S23+S31+S36+S34+S25 -> 0 | T66: =T6+T8+T9+T10+T11+T12+T13+T15+T16+T17+T18+T19+T20+T22+T24+T26+T27+T28+T30+T35+T37+T23+T31+T36+T34+T25+T7 -> 2000000 | U66: =U6+U8+U9+U10+U11+U12+U13+U15+U16+U17+U18+U19+U20+U22+U24+U26+U27+U28+U30+U35+U37+U23+U31+U36+U34+U25 -> 0 | V66: =V6+V8+V9+V10+V11+V12+V13+V15+V16+V17+V18+V19+V20+V22+V24+V26+V27+V28+V30+V35+V37+V23+V31+V36+V34+V25 -> 10443000 | W66: =W6+W8+W9+W10+W11+W12+W13+W15+W16+W17+W18+W19+W20+W22+W24+W26+W27+W28+W30+W35+W37+W23+W31+W36+W34+W25 -> 0 | X66: =X6+X8+X9+X10+X11+X12+X13+X15+X16+X17+X18+X19+X20+X22+X24+X26+X27+X28+X30+X35+X37+X23+X31+X36+X34+X25 -> 5000000 | Y66: =Y6+Y8+Y9+Y10+Y11+Y12+Y13+Y15+Y16+Y17+Y18+Y19+Y20+Y22+Y24+Y26+Y27+Y28+Y30+Y35+Y37+Y23+Y31+Y36+Y34+Y25 -> 0 | Z66: =Z6+Z8+Z9+Z10+Z11+Z12+Z13+Z15+Z16+Z17+Z18+Z19+Z20+Z22+Z24+Z26+Z27+Z28+Z30+Z35+Z37+Z23+Z31+Z36+Z34+Z25 -> 533961820 | AA66: =AA6+AA8+AA9+AA10+AA11+AA12+AA13+AA15+AA16+AA17+AA18+AA19+AA20+AA22+AA24+AA26+AA27+AA28+AA30+AA35+AA37+AA23+AA31+AA36+AA34+AA25 -> 0 | AB66: =AB6+AB8+AB9+AB10+AB11+AB12+AB13+AB15+AB16+AB17+AB18+AB19+AB20+AB22+AB24+AB26+AB27+AB28+AB30+AB35+AB37+AB23+AB31+AB36+AB34+AB25+AB7+AB29 -> 860440878 | AC66: =AC6+AC8+AC9+AC10+AC11+AC12+AC13+AC15+AC16+AC17+AC18+AC19+AC20+AC22+AC24+AC26+AC27+AC28+AC30+AC35+AC37+AC23+AC31+AC36+AC34+AC25+AC7+AC29 -> 0 | AD66: =AD6+AD8+AD9+AD10+AD11+AD12+AD13+AD15+AD16+AD17+AD18+AD19+AD20+AD22+AD24+AD26+AD27+AD28+AD30+AD35+AD37+AD23+AD31+AD36+AD34+AD25 -> 0 | AE66: =AE6+AE8+AE9+AE10+AE11+AE12+AE13+AE15+AE16+AE17+AE18+AE19+AE20+AE22+AE24+AE26+AE27+AE28+AE30+AE35+AE37+AE23+AE31+AE36+AE34+AE25 -> 0 | AF66: =AF6+AF8+AF9+AF10+AF11+AF12+AF13+AF15+AF16+AF17+AF18+AF19+AF20+AF22+AF24+AF26+AF27+AF28+AF30+AF35+AF37+AF23+AF31+AF36+AF34+AF25+AF7+AF29 -> 860440878 | AG66: =AG6+AG8+AG9+AG10+AG11+AG12+AG13+AG15+AG16+AG17+AG18+AG19+AG20+AG22+AG24+AG26+AG27+AG28+AG30+AG35+AG37+AG23+AG31+AG36+AG34+AG25 -> 0 | AH66: =AH6+AH8+AH9+AH10+AH11+AH12+AH13+AH15+AH16+#REF!+AH17+AH18+AH19+AH20+AH22+AH24+AH26+AH27+AH28+AH30+#REF!+AH35+AH37+AH23+AH31+AH36+AH34 -> #REF! | AI66: =AI6+AI8+AI9+AI10+AI11+AI12+AI13+AI15+AI16+#REF!+AI17+AI18+AI19+AI20+AI22+AI24+AI26+AI27+AI28+AI30+#REF!+AI35+AI37+AI23+AI31+AI36+AI34 -> #REF!
A67: 64. | C67: Nem kötelező | D67: =D14+D32+D38+D40+D41+D42+D43+D44+D45+D46+D53+D54+D21 -> 5801000 | E67: =E14+E32+E38+E40+E41+E42+E43+E44+E45+E46+E53+E54 -> 0 | F67: =F14+F32+F38+F40+F41+F42+F43+F44+F45+F46+F53+F54 -> 301000 | G67: =G14+G32+G38+G40+G41+G42+G43+G44+G45+G46+G53+G54 -> 0 | H67: =H14+H32+H38+H40+H41+H42+H43+H44+H45+H46+H53+H54+H48+H50+H39+H33+H21 -> 78054000 | I67: =I14+I32+I38+I40+I41+I42+I43+I44+I45+I46+I53+I54 -> 0 | J67: =J14+J32+J38+J40+J41+J42+J43+J44+J45+J46+J53+J54 -> 0 | K67: =K14+K32+K38+K40+K41+K42+K43+K44+K45+K46+K53+K54 -> 0 | L67: =L14+L32+L38+L40+L41+L42+L43+L44+L45+L46+L53+L54 -> 0 | M67: =M14+M32+M38+M40+M41+M42+M43+M44+M45+M46+M53+M54 -> 0 | N67: =N14+N32+N38+N40+N41+N42+N43+N44+N45+N46+N53+N54+N33 -> 2750000 | O67: =O14+O32+O38+O40+O41+O42+O43+O44+O45+O46+O53+O54 -> 0 | P67: =P14+P32+P38+P40+P41+P42+P43+P44+P45+P46+P53+P54+P47 -> 48035000 | Q67: =Q14+Q32+Q38+Q40+Q41+Q42+Q43+Q44+Q45+Q46+Q53+Q54 -> 0 | R67: =R14+R32+R38+R40+R41+R42+R43+R44+R45+R46+R53+R54 -> 0 | S67: =S14+S32+S38+S40+S41+S42+S43+S44+S45+S46+S53+S54 -> 0 | T67: =T14+T32+T38+T40+T41+T42+T43+T44+T45+T46+T53+T54+T51+T52+T21 -> 391984000 | U67: =U14+U32+U38+U40+U41+U42+U43+U44+U45+U46+U53+U54 -> 0 | V67: =V14+V32+V38+V40+V41+V42+V43+V44+V45+V46+V53+V54+V47+V49 -> 39916000 | W67: =W14+W32+W38+W40+W41+W42+W43+W44+W45+W46+W53+W54 -> 0 | X67: =X14+X32+X38+X40+X41+X42+X43+X44+X45+X46+X53+X54 -> 0 | Y67: =Y14+Y32+Y38+Y40+Y41+Y42+Y43+Y44+Y45+Y46+Y53+Y54 -> 0 | Z67: =Z14+Z32+Z38+Z40+Z41+Z42+Z43+Z44+Z45+Z46+Z53+Z54 -> 0 | AA67: =AA14+AA32+AA38+AA40+AA41+AA42+AA43+AA44+AA45+AA46+AA53+AA54 -> 0 | AB67: =AB14+AB32+AB38+AB40+AB41+AB42+AB43+AB44+AB45+AB46+AB53+AB54+AB47+AB21+AB33+AB39+AB48+AB49+AB50+AB51+AB52 -> 566841000 | AC67: =AC14+AC32+AC38+AC40+AC41+AC42+AC43+AC44+AC45+AC46+AC53+AC54+AC47+AC21+AC33+AC39+AC48+AC49+AC50+AC51+AC52 -> 0 | AD67: =AD14+AD32+AD38+AD40+AD41+AD42+AD43+AD44+AD45+AD46+AD53+AD54 -> 0 | AE67: =AE14+AE32+AE38+AE40+AE41+AE42+AE43+AE44+AE45+AE46+AE53+AE54 -> 0 | AF67: =AF14+AF32+AF38+AF40+AF41+AF42+AF43+AF44+AF45+AF46+AF53+AF54+AF47+AF21+AF33+AF39+AF48+AF49+AF50+AF51+AF52 -> 566841000 | AG67: =AG14+AG32+AG38+AG40+AG41+AG42+AG43+AG44+AG45+AG46+AG53+AG54 -> 0 | AH67: =AH14+AH32+AH38+#REF!+#REF!+#REF!++#REF!++AH40+AH45+AH46+#REF!+AH53 -> #REF! | AI67: =AI14+AI32+AI38+#REF!+#REF!+#REF!++#REF!++AI40+AI45+AI46+#REF!+AI53 -> #REF!
A68: 65. | C68: Medgyesegyházi Polgármesteri Hivatal | D68: =SUM(D69:D70) -> 204485000 | E68: =SUM(E69:E70) -> 0 | F68: =SUM(F69:F70) -> 25318000 | G68: =SUM(G69:G70) -> 0 | H68: =SUM(H69:H70) -> 15064000 | I68: =SUM(I69:I70) -> 0 | J68: =SUM(J69:J70) -> 0 | K68: =SUM(K69:K70) -> 0 | ... AE68: =SUM(AE69:AE70) -> 0
A69: 66. | B69: kötelező | C69: Kötelező | D69: ='[1]13.PMH kiad'!D11 -> 204485000 | E69: ='[1]13.PMH kiad'!E11 -> 0 | F69: ='[1]13.PMH kiad'!F11 -> 25318000 | G69: ='[1]13.PMH kiad'!G11 -> 0 | H69: ='[1]13.PMH kiad'!H11 -> 15064000 | I69: ='[1]13.PMH kiad'!I11 -> 0 | J69: ='[1]13.PMH kiad'!J11 -> 0 | K69: ='[1]13.PMH kiad'!K11 -> 0 | ... M69: ='[1]13.PMH kiad'!M11 -> 0 | N69: 0 | O69: 0 | P69: ='[1]13.PMH kiad'!P11 -> 0 | Q69: ='[1]13.PMH kiad'!Q11 -> 0 | R69: ='[1]13.PMH kiad'!R11 -> 0 | S69: ='[1]13.PMH kiad'!S11 -> 0 | T69: ='[1]13.PMH kiad'!N11 -> 0 | U69: ='[1]13.PMH kiad'!O11 -> 0 | AB69: =D69+F69+H69+J69+L69+N69+P69+R69+T69+V69+X69+Z69 -> 244867000 | AC69: =E69+G69+I69+K69+M69+O69+Q69+S69+U69+W69+Y69+AA69 -> 0 | AD69: ='[1]8. PMH bev.'!P10 -> 242678877 | AE69: ='[1]8. PMH bev.'!Q7 -> 0
A70: 67. | B70: Államigazgatási | C70: Államigazgatási feladatok | D70: ='[1]13.PMH kiad'!D6 -> 0 | E70: ='[1]13.PMH kiad'!E6 -> 0 | F70: ='[1]13.PMH kiad'!F6 -> 0 | G70: ='[1]13.PMH kiad'!G6 -> 0 | H70: ='[1]13.PMH kiad'!H6 -> 0 | AB70: =D70+F70+H70+J70+L70+N70+P70+R70+T70+V70+X70+Z70 -> 0 | AC70: =E70+G70+I70+K70+M70+O70+Q70+S70+U70+W70+Y70+AA70 -> 0 | AD70: ='[1]8. PMH bev.'!P6 -> 0 | AE70: ='[1]8. PMH bev.'!Q6 -> 0
A71: 68. | C71: Varázserdő Óvoda Medgyesegyháza | D71: =SUM(D72:D73) -> 187077000 | E71: =SUM(E72:E73) -> 0 | F71: =SUM(F72:F73) -> 22419000 | G71: =SUM(G72:G73) -> 0 | H71: =SUM(H72:H73) -> 21812000 | I71: =SUM(I72:I73) -> 0 | J71: =SUM(J72:J73) -> 0 | K71: =SUM(K72:K73) -> 0 | ... AA71: =SUM(AA72:AA73) -> 0 | AB71: =D71+F71+H71+J71+L71+N71+P71+R71+T71+V71+X71+Z71 -> 235658000 | AC71: =SUM(AC72:AC73) -> 0 | AD71: =SUM(AD72:AD73) -> 235428584 | AE71: =SUM(AE72:AE73) -> 0
A72: 69. | B72: kötelező | C72: Kötelező | D72: ='[1]15. VE kiad'!D9 -> 187077000 | E72: ='[1]15. VE kiad'!E9 -> 0 | F72: ='[1]15. VE kiad'!F9 -> 22419000 | G72: ='[1]15. VE kiad'!G9 -> 0 | H72: ='[1]15. VE kiad'!H9 -> 21812000 | I72: ='[1]15. VE kiad'!I9 -> 0 | T72: ='[1]15. VE kiad'!N9 -> 0 | U72: ='[1]15. VE kiad'!O9 -> 0 | V72: ='[1]15. VE kiad'!P9 -> 4350000 | W72: ='[1]15. VE kiad'!Q9 -> 0 | AB72: =D72+F72+H72+J72+L72+N72+P72+R72+T72+V72+X72+Z72 -> 235658000 | AC72: =E72+G72+I72+K72+M72+O72+Q72+S72+U72+W72+Y72+AA72 -> 0 | AD72: ='[1]10. VE bev'!P10 -> 235428584 | AE72: ='[1]10. VE bev'!Q10 -> 0
A73: 70. | B73: nem kötelező | C73: Nem kötelező | AB73: =D73+F73+H73+J73+L73+N73+P73+R73+T73+V73+X73+Z73 -> 0
A74: 71. | C74: Gondozási Központ Medgyesegyháza | D74: =SUM(D75:D76) -> 147692000 | E74: =SUM(E75:E76) -> 0 | F74: =SUM(F75:F76) -> 19081000 | G74: =SUM(G75:G76) -> 0 | H74: =SUM(H75:H76) -> 107007000 | I74: =SUM(I75:I76) -> 0 | J74: =SUM(J75:J76) -> 0 | K74: =SUM(K75:K76) -> 0 | ... Q74: =SUM(Q75:Q76) -> 0 | R74: 0 | S74: 0 | T74: =SUM(T75:T76) -> 3116000 | U74: =SUM(U75:U76) -> 0 | V74: =SUM(V75:V76) -> 0 | X74: =SUM(X75:X76) -> 0 | Z74: =SUM(Z75:Z76) -> 0 | AB74: =D74+F74+H74+J74+L74+N74+P74+R74+T74+V74+X74+Z74 -> 276896000 | AC74: =SUM(AC75:AC76) -> 0 | AD74: =SUM(AD75:AD76) -> 231957784 | AE74: =SUM(AE75:AE76) -> 0
A75: 72. | B75: kötelező | C75: Kötelező | D75: ='[1]14. GKP kiad'!D18 -> 48075000 | E75: ='[1]14. GKP kiad'!E18 -> 0 | F75: ='[1]14. GKP kiad'!F18 -> 6252000 | G75: ='[1]14. GKP kiad'!G18 -> 0 | H75: ='[1]14. GKP kiad'!H18 -> 26161000 | I75: ='[1]14. GKP kiad'!I18 -> 0 | T75: ='[1]14. GKP kiad'!N18 -> 2116000 | U75: ='[1]14. GKP kiad'!O18 -> 0 | AB75: =D75+F75+H75+J75+L75+N75+P75+R75+T75+V75+X75+Z75 -> 82604000 | AC75: =E75+G75+I75+K75+M75+O75+Q75+S75+U75+W75+Y75+AA75 -> 0 | AD75: ='[1]9. GKP bev'!P20 -> 231957784 | AE75: ='[1]9. GKP bev'!Q20 -> 0
A76: 73. | B76: nem kötelező | C76: Nem kötelező | D76: ='[1]14. GKP kiad'!D19 -> 99617000 | E76: ='[1]14. GKP kiad'!E19 -> 0 | F76: ='[1]14. GKP kiad'!F19 -> 12829000 | G76: ='[1]14. GKP kiad'!G19 -> 0 | H76: ='[1]14. GKP kiad'!H19 -> 80846000 | I76: ='[1]14. GKP kiad'!I19 -> 0 | T76: ='[1]14. GKP kiad'!N19 -> 1000000 | U76: ='[1]14. GKP kiad'!O19 -> 0 | AB76: =D76+F76+H76+J76+L76+N76+P76+R76+T76+V76+X76+Z76 -> 194292000 | AC76: =E76+G76+I76+K76+M76+O76+Q76+S76+U76+W76+Y76+AA76 -> 0 | AD76: ='[1]9. GKP bev'!P21 -> 0 | AE76: ='[1]9. GKP bev'!Q21 -> 0
A77: 74. | C77: Művelődési Ház és Könyvtár | D77: =SUM(D78:D79) -> 28680000 | E77: =SUM(E78:E79) -> 0 | F77: =SUM(F78:F79) -> 3847000 | G77: =SUM(G78:G79) -> 0 | H77: =SUM(H78:H79) -> 19670000 | I77: =SUM(I78:I79) -> 0 | J77: =SUM(J78:J79) -> 0 | K77: =SUM(K78:K79) -> 0 | ... AA77: =SUM(AA78:AA79) -> 0 | AB77: =D77+F77+H77+J77+L77+N77+P77+R77+T77+V77+X77+Z77 -> 53197000 | AC77: =SUM(AC78:AC79) -> 0 | AD77: =SUM(AD78:AD79) -> 52055165 | AE77: =SUM(AE78:AE79) -> 0
A78: 75. | B78: kötelező | C78: Kötelező | D78: ='[1]16. MH kiad'!D13 -> 28118000 | E78: ='[1]16. MH kiad'!E13 -> 0 | F78: ='[1]16. MH kiad'!F13 -> 3788000 | G78: ='[1]16. MH kiad'!G13 -> 0 | H78: ='[1]16. MH kiad'!H13 -> 12209000 | I78: ='[1]16. MH kiad'!I13 -> 0 | T78: ='[1]16. MH kiad'!N13 -> 1000000 | U78: ='[1]16. MH kiad'!O13 -> 0 | AB78: =D78+F78+H78+J78+L78+N78+P78+R78+T78+V78+X78+Z78 -> 45115000 | AC78: =E78+G78+I78+K78+M78+O78+Q78+S78+U78+W78+Y78+AA78 -> 0 | AD78: ='[1]11. MH bev.'!R16 -> 52055165 | AE78: ='[1]11. MH bev.'!S16 -> 0
A79: 76. | B79: nem kötelező | C79: Nem kötelező | D79: ='[1]16. MH kiad'!D14 -> 562000 | E79: ='[1]16. MH kiad'!E14 -> 0 | F79: ='[1]16. MH kiad'!F14 -> 59000 | G79: ='[1]16. MH kiad'!G14 -> 0 | H79: ='[1]16. MH kiad'!H14 -> 7461000 | I79: ='[1]16. MH kiad'!I14 -> 0 | T79: ='[1]16. MH kiad'!N14 -> 0 | U79: ='[1]16. MH kiad'!O14 -> 0 | AB79: =D79+F79+H79+J79+L79+N79+P79+R79+T79+V79+X79+Z79 -> 8082000 | AC79: =E79+G79+I79+K79+M79+O79+Q79+S79+U79+W79+Y79+AA79 -> 0 | AD79: ='[1]11. MH bev.'!R17 -> 0 | AE79: ='[1]11. MH bev.'!S17 -> 0
A80: 77. | C80: Összesen | D80: =D55+D68+D71+D74+D77 -> 676101000 | E80: =E55+E68+E71+E74+E77 -> 0 | F80: =F55+F68+F71+F74+F77 -> 82315000 | G80: =G55+G68+G71+G74+G77 -> 0 | H80: =H55+H68+H71+H74+H77 -> 404151000 | I80: =I55+I68+I71+I74+I77 -> 0 | J80: =J55+J68+J71+J74+J77 -> 4150000 | K80: =K55+K68+K71+K74+K77 -> 0 | ... AE80: =AE55+AE68+AE71+AE74+AE77 -> 0 | AF80: =AB55+AD80 -> 2189402288 | AG80: =AC55+AE80 -> 0
A81: 78.
A82: 79. | C82: Kötelező mindösszesen: | D82: =D66+D69+D72+D75+D78 -> 570121000 | E82: =E66+E69+E72+E75+E78 -> 0 | F82: =F66+F69+F72+F75+F78 -> 69126000 | G82: =G66+G69+G72+G75+G78 -> 0 | H82: =H66+H69+H72+H75+H78 -> 237790000 | I82: =I66+I69+I72+I75+I78 -> 0 | J82: =J66+J69+J72+J75+J78 -> 4150000 | K82: =K66+K69+K72+K75+K78 -> 0 | ... AE82: =AE66+AE69+AE72+AE75+AE78 -> 0
A83: 80. | C83: Államigazgatási feladatok | D83: =D70 -> 0 | E83: =E70 -> 0 | F83: =F70 -> 0 | G83: =G70 -> 0 | H83: =H70 -> 0 | I83: =I70 -> 0 | J83: =J70 -> 0 | K83: =K70 -> 0 | ... AE83: =AE70 -> 0
A84: 81. | C84: Nem kötelező mindösszesen: | D84: =D67+D73+D76+D79 -> 105980000 | E84: =E67+E73+E76+E79 -> 0 | F84: =F67+F73+F76+F79 -> 13189000 | G84: =G67+G73+G76+G79 -> 0 | H84: =H67+H73+H76+H79 -> 166361000 | I84: =I67+I73+I76+I79 -> 0 | J84: =J67+J73+J76+J79 -> 0 | K84: =K67+K73+K76+K79 -> 0 | ... AE84: =AE67+AE73+AE76+AE79 -> 0
A85: 82. | C85: Mindösszesen: | D85: =SUM(D82:D84) -> 676101000 | E85: =SUM(E82:E84) -> 0 | F85: =SUM(F82:F84) -> 82315000 | G85: =SUM(G82:G84) -> 0 | H85: =SUM(H82:H84) -> 404151000 | I85: =SUM(I82:I84) -> 0 | J85: =SUM(J82:J84) -> 4150000 | K85: =SUM(K82:K84) -> 0 | ... AF85: =SUM(AF82:AF84) -> 0
D86: =D80-D85 -> 0 | E86: =E80-E85 -> 0 | F86: =F80-F85 -> 0 | G86: =G80-G85 -> 0 | H86: =H80-H85 -> 0 | I86: =I80-I85 -> 0 | J86: =J80-J85 -> 0 | K86: =K80-K85 -> 0 | ... AG86: =AG80-AG85 -> 0 | AH86: =AH55-AH66-AH67 -> #REF! | AI86: =AI55-AI66-AI67 -> #REF!
AI87: 13142

Sheet 14. GKP kiad
P1: 14. melléklet a .../2025. (....) önkormányzati rendelethez
C2: Gondozási Központ 2026. évi kiadások kiemelt előirányzatonként forintban
A3: A | B3: B | C3: C | D3: D | F3: E | H3: F | J3: G | L3: H | N3: I | P3: J | R3: K | T3: L | V3: M
A4: Sor szám | B4: Kötelező/nem kötelező | C4: Kiemelt előirányzatok | D4: Személyi juttatások | F4: Szociális hozzájárulási adó | H4: Dologi kiadások | J4: Önkormányzat által folyósított ellátások | L4: Egyéb működési célú kiadások Áht-n kívülre | N4: Beruházások | P4: Felújítások | R4: Tartalék | T4: Finanszíroszási kiadások | V4: Összesen
A5: 1. | C5: Szakfeladat | D5: 2026. évi előirányzat | E5: 2026. évi mód. előir | F5: 2026. évi előirányzat | G5: 2026. évi mód. előir | H5: 2026. évi előirányzat | I5: 2026. évi mód. előir | J5: 2026. évi előirányzat | K5: 2026. évi mód. előir | L5: 2026. évi előirányzat | M5: 2026. évi mód. előir | N5: 2026. évi előirányzat | O5: 2026. évi mód. előir | P5: 2026. évi előirányzat | Q5: 2026. évi mód. előir | R5: 2026. évi előirányzat | S5: 2026. évi mód. előir | T5: 2026. évi előirányzat | U5: 2026. évi mód. előir | V5: 2026. évi előirányzat | W5: 2026. évi mód. előir
A6: 2. | B6: kötelező | C6: Háziorvosi alapellátás | H6: 4705000 | V6: =T6+R6+P6+N6+L6+J6+H6+F6+D6 -> 4705000 | W6: =E6+G6+I6+K6+M6+O6+Q6+S6+U6 -> 0
A7: 3. | B7: kötelező | C7: Fogorvosi alapellátás | H7: 800000 | V7: =T7+R7+P7+N7+L7+J7+H7+F7+D7 -> 800000 | W7: =E7+G7+I7+K7+M7+O7+Q7+S7+U7 -> 0
A8: 4. | B8: nem kötelező | C8: Egészségügyi labor | D8: 1109000 | F8: 145000 | H8: 2056000 | V8: =T8+R8+P8+N8+L8+J8+H8+F8+D8 -> 3310000 | W8: =E8+G8+I8+K8+M8+O8+Q8+S8+U8 -> 0
A9: 5. | B9: kötelező | C9: Család és nővédelmi eü. gondozás | H9: 635000 | V9: =T9+R9+P9+N9+L9+J9+H9+F9+D9 -> 635000 | W9: =E9+G9+I9+K9+M9+O9+Q9+S9+U9 -> 0
A10: 6. | B10: kötelező | C10: Ifjúsági- egészségügyi gondozás | H10: 2121000 | V10: =T10+R10+P10+N10+L10+J10+H10+F10+D10 -> 2121000 | W10: =E10+G10+I10+K10+M10+O10+Q10+S10+U10 -> 0
A11: 7. | B11: nem kötelező | C11: Időskorúak bentlakásos szoc. ell. | D11: 98508000 | F11: 12684000 | H11: 78790000 | N11: 1000000 | V11: =T11+R11+P11+N11+L11+J11+H11+F11+D11 -> 190982000 | W11: =E11+G11+I11+K11+M11+O11+Q11+S11+U11 -> 0
A12: 8. | B12: kötelező | C12: Idősek nappali ellátása | D12: 9150000 | F12: 1190000 | H12: 4265000 | N12: 1500000 | V12: =T12+R12+P12+N12+L12+J12+H12+F12+D12 -> 16105000 | W12: =E12+G12+I12+K12+M12+O12+Q12+S12+U12 -> 0
A13: 9. | B13: kötelező | C13: Tanyagondnoki szolgáltatás | D13: 5357000 | F13: 697000 | H13: 3675000 | V13: =T13+R13+P13+N13+L13+J13+H13+F13+D13 -> 9729000 | W13: =E13+G13+I13+K13+M13+O13+Q13+S13+U13 -> 0
A14: 10. | B14: kötelező | C14: Család és gyermekjóléti szolgáltatás | D14: 13050000 | F14: 1697000 | H14: 2445000 | N14: 100000 | V14: =T14+R14+P14+N14+L14+J14+H14+F14+D14 -> 17292000 | W14: =E14+G14+I14+K14+M14+O14+Q14+S14+U14 -> 0
A15: 11. | B15: kötelező | C15: Szociális étkeztetés | D15: 2320000 | F15: 302000 | H15: 7310000 | V15: =T15+R15+P15+N15+L15+J15+H15+F15+D15 -> 9932000 | W15: =E15+G15+I15+K15+M15+O15+Q15+S15+U15 -> 0
A16: 12. | B16: kötelező | C16: Házi segítségnyújtás | D16: 18198000 | F16: 2366000 | H16: 205000 | N16: 516000 | V16: =T16+R16+P16+N16+L16+J16+H16+F16+D16 -> 21285000 | W16: =E16+G16+I16+K16+M16+O16+Q16+S16+U16 -> 0
A17: 13. | C17: Alaptevékenység összesen | D17: =SUM(D6:D16) -> 147692000 | E17: =SUM(E6:E16) -> 0 | F17: =SUM(F6:F16) -> 19081000 | G17: =SUM(G6:G16) -> 0 | H17: =SUM(H6:H16) -> 107007000 | I17: =SUM(I6:I16) -> 0 | J17: =SUM(J6:J16) -> 0 | K17: =SUM(K6:K16) -> 0 | ... W17: =SUM(W6:W16) -> 0
A18: 14. | C18: Kötelező | D18: =SUMIF($B6:$B16,"kötelező",D6:D16) -> 48075000 | E18: =SUMIF($B6:$B16,"kötelező",E6:E16) -> 0 | F18: =SUMIF($B6:$B16,"kötelező",F6:F16) -> 6252000 | G18: =SUMIF($B6:$B16,"kötelező",G6:G16) -> 0 | H18: =SUMIF($B6:$B16,"kötelező",H6:H16) -> 26161000 | I18: =SUMIF($B6:$B16,"kötelező",I6:I16) -> 0 | J18: =SUMIF($B6:$B16,"kötelező",J6:J16) -> 0 | K18: =SUMIF($B6:$B16,"kötelező",K6:K16) -> 0 | ... W18: =SUMIF($B6:$B16,"kötelező",W6:W16) -> 0
A19: 15. | C19: Nem kötelező | D19: =SUMIF($B6:$B16,"nem kötelező",D6:D16) -> 99617000 | E19: =SUMIF($B6:$B16,"nem kötelező",E6:E16) -> 0 | F19: =SUMIF($B6:$B16,"nem kötelező",F6:F16) -> 12829000 | G19: =SUMIF($B6:$B16,"nem kötelező",G6:G16) -> 0 | H19: =SUMIF($B6:$B16,"nem kötelező",H6:H16) -> 80846000 | I19: =SUMIF($B6:$B16,"nem kötelező",I6:I16) -> 0 | J19: =SUMIF($B6:$B16,"nem kötelező",J6:J16) -> 0 | K19: =SUMIF($B6:$B16,"nem kötelező",K6:K16) -> 0 | ... W19: =SUMIF($B6:$B16,"nem kötelező",W6:W16) -> 0
A20: 16. | C20: Engedélyezett létszám | V20: 28.56
A21: 17. | C21: ebből: közfoglalkoztatott: | V21: 0 | W21: 0

Sheet 15. VE kiad
P1: 15. melléklet a .../2025. (....) önkormányzati rendelethez
C2: Varázserdő Óvoda 2026. évi kiadások kiemelt előirányzatonként forintban
A3: A | B3: B | C3: C | D3: D | F3: E | H3: F | J3: G | L3: H | N3: I | P3: J | R3: K | T3: L | V3: M
A4: Sor szám | B4: Kötelező/nem kötelező | C4: Kiemelt előirányzatok | D4: Személyi juttatások | F4: Szociális hozzájárulási adó | H4: Dologi kiadások | J4: Önkormányzat által folyósított ellátások | L4: Egyéb működési célú kiadások | N4: Beruházások | P4: Felújítások | R4: Tartalék | T4: Finanszíroszási kiadások | V4: Összesen
A5: 1. | C5: Szakfeladat | D5: 2026. évi előirányzat | E5: 2026. évi mód. előir | F5: 2026. évi előirányzat | G5: 2026. évi mód. előir | H5: 2026. évi előirányzat | I5: 2026. évi mód. előir | J5: 2026. évi előirányzat | K5: 2026. évi mód. előir | L5: 2026. évi előirányzat | M5: 2026. évi mód. előir | N5: 2026. évi előirányzat | O5: 2026. évi mód. előir | P5: 2026. évi előirányzat | Q5: 2026. évi mód. előir | R5: 2026. évi előirányzat | S5: 2026. évi mód. előir | T5: 2026. évi előirányzat | U5: 2026. évi mód. előir | V5: 2026. évi előirányzat | W5: 2025. évi mód. előir | X5: 2025. évi előirányzat | Y5: 2026. évi mód. előir
A6: 2. | B6: kötelező | C6: Óvodai nevelés, ellátás | D6: 156361000 | F6: 18440000 | H6: 13817000 | P6: 4350000 | V6: =D6+F6+H6+J6+L6+N6+P6+R6 -> 192968000 | W6: =E6+G6+I6+K6+M6+O6+Q6+S6 -> 0 | X6: =F6+H6+J6+L6+N6+P6+R6+T6 -> 36607000 | Y6: =E6+G6+I6+K6+M6+O6+Q6+S6 -> 0
A7: 3. | B7: kötelező | C7: Mini bölcsőde | D7: 30716000 | F7: 3979000 | H7: 7995000 | V7: =D7+F7+H7+J7+L7+N7+P7+R7 -> 42690000 | Y7: =E7+G7+I7+K7+M7+O7+Q7+S7 -> 0
A8: 4. | C8: Alaptevékenység összesen | D8: =SUM(D6:D7) -> 187077000 | E8: =SUM(E6:E7) -> 0 | F8: =SUM(F6:F7) -> 22419000 | G8: =SUM(G6:G7) -> 0 | H8: =SUM(H6:H7) -> 21812000 | I8: =SUM(I6:I7) -> 0 | J8: =SUM(J6:J7) -> 0 | K8: =SUM(K6:K7) -> 0 | ... V8: =SUM(V6:V7) -> 235658000 | W8: =SUM(W6:W6) -> 0 | X8: =SUM(X6:X6) -> 36607000 | Y8: =SUM(Y6:Y7) -> 0
A9: 5. | C9: Kötelező | D9: =SUMIF($B6:$B7,"kötelező",D6:D7) -> 187077000 | E9: =SUMIF($B6:$B7,"kötelező",E6:E7) -> 0 | F9: =SUMIF($B6:$B7,"kötelező",F6:F7) -> 22419000 | G9: =SUMIF($B6:$B7,"kötelező",G6:G7) -> 0 | H9: =SUMIF($B6:$B7,"kötelező",H6:H7) -> 21812000 | I9: =SUMIF($B6:$B7,"kötelező",I6:I7) -> 0 | J9: =SUMIF($B6:$B7,"kötelező",J6:J7) -> 0 | K9: =SUMIF($B6:$B7,"kötelező",K6:K7) -> 0 | ... Y9: =SUMIF($B6:$B7,"kötelező",Y6:Y7) -> 0
A10: 6. | C10: Nem kötelező | D10: =SUMIF($B6:$B7,"nem kötelező",D6:D7) -> 0 | E10: =SUMIF($B6:$B7,"nem kötelező",E6:E7) -> 0 | F10: =SUMIF($B6:$B7,"nem kötelező",F6:F7) -> 0 | G10: =SUMIF($B6:$B7,"nem kötelező",G6:G7) -> 0 | H10: =SUMIF($B6:$B7,"nem kötelező",H6:H7) -> 0 | I10: =SUMIF($B6:$B7,"nem kötelező",I6:I7) -> 0 | J10: =SUMIF($B6:$B7,"nem kötelező",J6:J7) -> 0 | K10: =SUMIF($B6:$B7,"nem kötelező",K6:K7) -> 0 | ... Y10: =SUMIF($B6:$B7,"nem kötelező",Y6:Y7) -> 0
A11: 7. | C11: Engedélyezett létszám | V11: 24 | W11: 23 | X11: 23
A12: 8. | C12: ebből: közfoglalkoztatott: | V12: 0 | W12: 0 | X12: 0 | Y12: 0

Sheet 16. MH kiad
P1: 16.melléklet a .../2025. (....) önkormányzati rendelethez
B2: Művelődési Ház és Könyvtár 2026. évi kiadások kiemelt előirányzatonként forintban
A3: A | B3: B | C3: C | D3: D | F3: E | H3: F | J3: G | L3: H | N3: I | P3: J | R3: K | T3: L | V3: M
A4: Sor szám | B4: Kötelező/nem kötelező | C4: Kiemelt előirányzatok | D4: Személyi juttatások | F4: Szociális hozzájárulási adó | H4: Dologi kiadások | J4: Önkormányzat által folyósított ellátások | L4: Egyéb működési célú kiadások Áht-n kívülre | N4: Beruházások | P4: Felújítások | R4: Tartalék | T4: Finanszíroszási kiadások | V4: Összesen
A5: 1 | C5: Szakfeladat | D5: 2025. évi előirányzat | E5: 2026. évi mód. előir | F5: 2026. évi előirányzat | G5: 2026. évi mód. előir | H5: 2026. évi előirányzat | I5: 2026. évi mód. előir | J5: 2026. évi előirányzat | K5: 2026. évi mód. előir | L5: 2026. évi előirányzat | M5: 2026. évi mód. előir | N5: 2026. évi előirányzat | O5: 2026. évi mód. előir | P5: 2026. évi előirányzat | Q5: 2026. évi mód. előir | R5: 2026. évi előirányzat | S5: 2026. évi mód. előir | T5: 2026. évi előirányzat | U5: 2026. évi mód. előir | V5: 2026. évi előirányzat | W5: 2025. évi mód. előir | X5: 2025. évi előirányzat | Y5: 2026. évi mód. előir
A6: 2 | B6: kötelező | C6: Művelődési Ház | D6: 14484000 | F6: 2015000 | H6: 10589000 | V6: =T6+R6+P6+N6+L6+J6+H6+F6+D6 -> 27088000 | W6: 173 | X6: 211 | Y6: =E6+G6+I6+K6+M6+O6+Q6+S6+U6 -> 0
A7: 3 | B7: kötelező | C7: Könyvtár | D7: 13634000 | F7: 1773000 | H7: 1620000 | N7: 1000000 | V7: =T7+R7+P7+N7+L7+J7+H7+F7+D7 -> 18027000 | Y7: =E7+G7+I7+K7+M7+O7+Q7+S7+U7 -> 0
A8: 4 | B8: nem kötelező | C8: Schéner ház | D8: 0 | F8: 0 | H8: 208000 | V8: =T8+R8+P8+N8+L8+J8+H8+F8+D8 -> 208000 | W8: =C8+E8+G8+I8+K8+M8+O8+Q8+S8 -> #VALUE! | X8: =D8+F8+H8+J8+L8+N8+P8+R8+T8 -> 208000 | Y8: =E8+G8+I8+K8+M8+O8+Q8+S8+U8 -> 0
A9: 5 | B9: nem kötelező | C9: Civil ház | D9: 502000 | F9: 59000 | H9: 313000 | V9: =T9+R9+P9+N9+L9+J9+H9+F9+D9 -> 874000 | Y9: =E9+G9+I9+K9+M9+O9+Q9+S9+U9 -> 0
A10: 6 | B10: nem kötelező | C10: Medgyesi napok | D10: 60000 | F10: 0 | H10: 5940000 | V10: =T10+R10+P10+N10+L10+J10+H10+F10+D10 -> 6000000 | Y10: =E10+G10+I10+K10+M10+O10+Q10+S10+U10 -> 0
A11: 7 | B11: nem kötelező | C11: Rendezvények | D11: 0 | F11: 0 | H11: 1000000 | V11: =T11+R11+P11+N11+L11+J11+H11+F11+D11 -> 1000000 | W11: 6614 | X11: 6801 | Y11: =E11+G11+I11+K11+M11+O11+Q11+S11+U11 -> 0
A12: 8 | C12: Alaptevékenység összesen | D12: =SUM(D6:D11) -> 28680000 | E12: =SUM(E6:E11) -> 0 | F12: =SUM(F6:F11) -> 3847000 | G12: =SUM(G6:G11) -> 0 | H12: =SUM(H6:H11) -> 19670000 | I12: =SUM(I6:I11) -> 0 | J12: =SUM(J6:J11) -> 0 | K12: =SUM(K6:K11) -> 0 | ... X12: =SUM(X6:X11) -> 215012 | Y12: =E12+G12+I12+K12+M12+O12+Q12+S12+U12 -> 0
A13: 9 | C13: Kötelező | D13: =SUMIF(B6:B11,"kötelező",D6:D11) -> 28118000 | E13: =SUMIF($B6:$B11,"kötelező",E6:E11) -> 0 | F13: =SUMIF($B6:$B11,"kötelező",F6:F11) -> 3788000 | G13: =SUMIF($B6:$B11,"kötelező",G6:G11) -> 0 | H13: =SUMIF($B6:$B11,"kötelező",H6:H11) -> 12209000 | I13: =SUMIF($B6:$B11,"kötelező",I6:I11) -> 0 | J13: =SUMIF($B6:$B11,"kötelező",J6:J11) -> 0 | K13: =SUMIF($B6:$B11,"kötelező",K6:K11) -> 0 | L13: =SUMIF($B6:$B11,"kötelező",L6:L11) -> 0 | ... Y13: =SUMIF($B6:$B11,"kötelező",Y6:Y11) -> 0
A14: 10 | C14: Nem kötelező | D14: =SUMIF($B6:$B11,"nem kötelező",D6:D11) -> 562000 | E14: =SUMIF($B6:$B11,"nem kötelező",E6:E11) -> 0 | F14: =SUMIF($B6:$B11,"nem kötelező",F6:F11) -> 59000 | G14: =SUMIF($B6:$B11,"nem kötelező",G6:G11) -> 0 | H14: =SUMIF($B6:$B11,"nem kötelező",H6:H11) -> 7461000 | I14: =SUMIF($B6:$B11,"nem kötelező",I6:I11) -> 0 | J14: =SUMIF($B6:$B11,"nem kötelező",J6:J11) -> 0 | K14: =SUMIF($B6:$B11,"nem kötelező",K6:K11) -> 0 | ... Y14: =SUMIF($B6:$B11,"nem kötelező",Y6:Y11) -> 0
A15: 11 | C15: Engedélyezett létszám | V15: 5

Sheet 17.Beruh
B1: 17. melléklet a ……/2026.(…………) önkormányzati rendelethez
B3: Beruházási (felhalmozási) kiadások előírányzata beruházásonként
C4: forintban
A5: Sor szám | B5: Beruházás megnevezése | C5: 2026. évi előirányzat | D5: 2026. évi mód. előir
A6: 1 | B6: Könyvtár szekrény beszerzés | C6: 1000000 | E6: beruházás
A7: 2 | B7: Nappali ellátás bútorok | C7: 1500000 | E7: beruházás
A8: 3 | B8: Családsegítés irodai szék | C8: 100000 | E8: beruházás
A9: 4 | B9: Házi segítségnyújtás 4 db kerékpár beszerzés | C9: 516000 | E9: beruházás
A10: 5 | B10: Idősek otthona konyhai felszerelések, ápolást segítő eszközök | C10: 1000000 | E10: beruházás
A11: 6 | B11: Önkormányzat informatikai eszközbeszerzés | C11: 1500000 | E11: beruházás
A12: 7 | B12: Önkormányzat Bútorok beszerzése | C12: 500000 | E12: beruházás
A13: 8 | B13: Start közmunka program eszközbeszerzés | C13: 13492000 | E13: beruházás
A14: 9 | B14: Sátor beszerzése | C14: 1540000 | E14: beruházás
A15: 10 | B15: TOP Plusz -1.1.1 Helyi gazdasági fejlesztés pály. visszafizetés | C15: 5916000 | E15: felh. C. átadás
A16: 11 | B16: TOP Plusz -3.3.2-21 Háziorvosi ellátás pály. Visszafizetés | C16: 8542000 | E16: felh. C. átadás
A17: 12 | B17: TOP Plusz -1.2.3 Belterületi utak pály. Visszafizetés | C17: 209000 | E17: felh. C. átadás
... A22: 17 | B22: 4034981504 Versenyképes pr. Térfigyelőrendszer | C22: 6264000 | E22: beruházás
A23: 18 | B23: ÖSSZESEN: | C23: =SUM(C6:C22) -> 446135000 | D23: =SUM(D6:D22) -> 0

Sheet 18.Felújít
B1: 18. melléklet a ……/2026.(…………) önkormányzati rendelethez
B3: Felújítási kiadások előírányzata felújításonként
D4: forintban
A5: Sor szám | B5: Felújítás megnevezése | C5: 2026. évi előirányzat | D5: 2026. évi mód. előir
A6: 1 | B6: Önkormányzat
A7: 2 | B7: Varázserdő Óvoda és Bölcsőde padlóburkoló csere 3 csoportszobában | C7: 3000000
A8: 3 | B8: Varázserdő Óvoda és Bölcsőde villanyszerelés 3 csoportszobában | C8: 1350000
A9: 4 | B9: Lakóingatlan felújítás | C9: 1000000
A10: 5 | B10: Nem lakóingatlan felújítás (Dózsa u. 2. nyomda épülete) | C10: 8443000
A11: 6 | B11: Top-Plusz 2.1.1-21 Önkormányzati épületek energetikai korszerűsítése | C11: 17553000
A12: 7 | B12: MFP/OTIFB/2024 Idősek otthona hőközpont rekonstrukciója | C12: 7744000
A13: 8 | B13: MFP-UHJ/2025 Útfelújítás | C13: 508000
A14: 9 | B14: Mini Bölcsi padlásfödém szigetelés | C14: 1000000
A15: 10 | B15: TOP Plusz -3.3.2-21 Idősek klubbja | C15: 14111000
A16: 11 | B16: Összesen: | C16: =SUM(C7:C15) -> 54709000 | D16: =SUM(D7:D13) -> 0

Sheet 19. adósságot keltk köt
A1: 19. számú melléklet a ……../2026.(………..) önkormányzati rendelethez
A3: Medgyesegyháza Városi Önkormányzat adósságot keletkeztető ügyletekből és kötelezettségvállalásokból fennálló kötelezettségei
F5: Forintban!
A6: Sor- szám | B6: Megnevezés | C6: Évek
C7: 2026. | D7: 2027. | E7: 2028. | F7: Összesen F=(C+D+E)
A8: A | B8: B | C8: C | D8: D | E8: E | F8: F
A9: 1. | B9: Éven túli célhitel törlesztő részlete + kamat | C9: 19580000 | D9: 17580000 | E9: 16580000 | F9: =SUM(C9:E9) -> 53740000
A10: 2.
A11: 3.
A12: 4.
A13: 5.
A14: 6. | B14: ÖSSZES KÖTELEZETTSÉG: | C14: =SUM(C9:C13) -> 19580000 | D14: =SUM(D9:D13) -> 17580000 | E14: =SUM(E9:E13) -> 16580000 | F14: =SUM(C14:E14) -> 53740000

Sheet 20. Önkormányzat saját bev
A1: 20. számú melléklet a ………/2026.(………) önkormányzati rendelethez
A3: Medgyesegyháza Városi Önkormányzat saját bevételeinek részletezése az adósságot keletkeztető ügyletekből származó tárgyévi fizetési kötelezettség megállapításához
C5: Forintban
A6: Sor- szám | B6: Bevételi jogcímek | C6: 2026. évi előirányzat | D6: 2026. évi mód. előir
A7: A | B7: B | C7: C | D7: C
A8: 1. | B8: Helyi adóból és a települési adóból származó bevétel | C8: 225860000
A9: 2. | B9: Az önkormányzati vagyon és az önkormányzatot megillető vagyoni értékű jog értékesítéséből és hasznosításából származó bevétel | C9: 38699000
A10: 3. | B10: Osztalék, koncessziós díj és hozambevétel
A11: 4. | B11: Tárgyi eszköz és az immateriális jószág, részvény, részesedés, vállalat értékesítéséből származó bevétel | C11: 21457000
A12: 5. | B12: Bírság-, pótlék- díjbevétel | C12: 1400000
A13: 6. | B13: Kezesség,- illetve garanciavállalással kapcsolatos megtérülés
A14: 7. | B14: SAJÁT BEVÉTELEK ÖSSZESEN: | C14: =SUM(C8:C12) -> 287416000 | D14: =SUM(D8:D12) -> 0

Sheet 21. adóss. fejl
A1: 21. melléklet a ………/2026.(…………..) önkormányzati rendelethet
A3: Medgyesegyháza Városi Önkormányzat 2026. évi adósságot keletkeztető fejlesztési céljai
C5: Ezer forintban
A6: Sor- szám | B6: Fejlesztési cél leírása | C6: Fejlesztés várható kiadása
A7: A | B7: B | C7: C
A8: 1.
A9: 2.
A10: 3.
A11: 4.
A12: 5.
A13: 6.
A14: 7. | B14: ADÓSSÁGOT KELETKEZTETŐ ÜGYLETEK VÁRHATÓ EGYÜTTES ÖSSZEGE

Sheet 22. EU-s
A1: 22. melléklet a ……../2026.(…………) önkormányzati rendelethez
A3: Európai Uniós támogatással megvalósuló porjektek bevételei, kiadásai, hozzájárulások
A5: EU-s projekt neve, azonosítója: TOP-Plusz 1.2.1-21 Élhető települések
A6: Források | B6: 2026. | C6: 2027. | D6: 2027. után | E6: Összesen:
A7: Saját erő | B7: 571547 | E7: =SUM(B7:D7) -> 571547
A8: saját erőből központi támogatás | E8: =SUM(B8:D8) -> 0
A9: EU-s forrás | B9: 343055000 | E9: =SUM(B9:D9) -> 343055000
A10: Társfinanszírozás | E10: =SUM(B10:D10) -> 0
A11: Hitel | E11: =SUM(B11:D11) -> 0
A12: Költségvetési maradvány | B12: 5610453 | E12: =SUM(B12:D12) -> 5610453
E13: =SUM(B13:D13) -> 0
A14: Források összesen: | B14: =SUM(B7:B13) -> 349237000 | C14: =SUM(C7:C13) -> 0 | E14: =SUM(B14:D14) -> 349237000
A16: Kiadások, költségek | B16: 2026. | C16: 2027. | D16: 2027. után | E16: Összesen:
A17: Személyi jellegű | E17: =SUM(B17:D17) -> 0
A18: Beruházások, beszerzések | B18: 345389000 | E18: =SUM(B18:D18) -> 345389000
A19: Szolgáltatások igénybe vétele | B19: 3848000 | E19: =SUM(B19:D19) -> 3848000
A20: Adminisztratív költségek | E20: =SUM(B20:D20) -> 0
A21: Tartalék | E21: =SUM(B21:D21) -> 0
A22: Kiadások, költségek összesen: | B22: =SUM(B17:B21) -> 349237000 | C22: =SUM(C17:C21) -> 0 | D22: =SUM(D17:D21) -> 0 | E22: =SUM(E17:E21) -> 349237000
A25: EU-s projekt neve, azonosítója: Top-Plusz 2.1.1-21 Önkormányzati épületek energetikai korszerűsítése
A26: Források | B26: 2026. | C26: 2027. | D26: 2027. után | E26: Összesen:
A27: Saját erő | B27: 21243415 | E27: =SUM(B27:D27) -> 21243415
A28: saját erőből központi támogatás | E28: =SUM(B28:D28) -> 0
A29: EU-s forrás | E29: =SUM(B29:D29) -> 0
A30: Társfinanszírozás | E30: =SUM(B30:D30) -> 0
A31: Hitel | E31: =SUM(B31:D31) -> 0
A32: Költségvetési maradvány | B32: 29030585 | E32: =SUM(B32:D32) -> 29030585
E33: =SUM(B33:D33) -> 0
A34: Források összesen: | B34: =SUM(B27:B33) -> 50274000 | C34: =SUM(C27:C33) -> 0 | E34: =SUM(B34:D34) -> 50274000
A36: Kiadások, költségek | B36: 2026. | C36: 2027. | D36: 2027. után | E36: Összesen:
A37: Személyi jellegű | E37: =SUM(B37:D37) -> 0
A38: Beruházások, beszerzések | E38: =SUM(B38:D38) -> 0
A39: Felújítás | B39: 17553000 | E39: =SUM(B39:D39) -> 17553000
A40: Szolgáltatások igénybe vétele | E40: =SUM(B40:D40) -> 0
A41: Adminisztratív költségek | E41: =SUM(B41:D41) -> 0
A42: Felhalmozási célú kiadás áht-n belülre | B42: 32721000 | E42: =SUM(B42:D42) -> 32721000
A43: Tartalék | E43: =SUM(B43:D43) -> 0
A44: Kiadások, költségek összesen: | B44: =SUM(B37:B43) -> 50274000 | C44: =SUM(C37:C43) -> 0 | D44: =SUM(D37:D43) -> 0 | E44: =SUM(E37:E43) -> 50274000
A46: EU-s projekt neve, azonosítója: Top-Plusz 1.1.1-21 Helyi gazdasági fejlesztés
A47: Források | B47: 2026. | C47: 2027. | D47: 2027. után | E47: Összesen:
A48: Saját erő | B48: 5916000 | E48: =SUM(B48:D48) -> 5916000
A49: saját erőből központi támogatás | E49: =SUM(B49:D49) -> 0
A50: EU-s forrás | E50: =SUM(B50:D50) -> 0
A51: Társfinanszírozás | E51: =SUM(B51:D51) -> 0
A52: Hitel | E52: =SUM(B52:D52) -> 0
A53: Költségvetési maradvány | E53: =SUM(B53:D53) -> 0
E54: =SUM(B54:D54) -> 0
A55: Források összesen: | B55: =SUM(B48:B54) -> 5916000 | C55: =SUM(C48:C54) -> 0 | E55: =SUM(B55:D55) -> 5916000
A57: Kiadások, költségek | B57: 2026. | C57: 2027. | D57: 2027. után | E57: Összesen:
A58: Személyi jellegű | E58: =SUM(B58:D58) -> 0
A59: Beruházások, beszerzések | E59: =SUM(B59:D59) -> 0
A60: Szolgáltatások igénybe vétele | E60: =SUM(B60:D60) -> 0
A61: Adminisztratív költségek | E61: =SUM(B61:D61) -> 0
A62: Felhalmozási célú kiadás áht-n belülre | B62: 5916000 | E62: =SUM(B62:D62) -> 5916000
A63: Tartalék | E63: =SUM(B63:D63) -> 0
A64: Kiadások, költségek összesen: | B64: =SUM(B58:B63) -> 5916000 | C64: =SUM(C58:C63) -> 0 | D64: =SUM(D58:D63) -> 0 | E64: =SUM(E58:E63) -> 5916000
A66: EU-s projekt neve, azonosítója: Top-Plusz 3.3.2.-21 Háziorvosi ellátás
A67: Források | B67: 2026. | C67: 2027. | D67: 2027. után | E67: Összesen:
A68: Saját erő | B68: 51070 | E68: =SUM(B68:D68) -> 51070
A69: saját erőből központi támogatás | E69: =SUM(B69:D69) -> 0
A70: EU-s forrás | E70: =SUM(B70:D70) -> 0
A71: Társfinanszírozás | E71: =SUM(B71:D71) -> 0
A72: Hitel | E72: =SUM(B72:D72) -> 0
A73: Költségvetési maradvány | B73: 8490930 | E73: =SUM(B73:D73) -> 8490930
E74: =SUM(B74:D74) -> 0
A75: Források összesen: | B75: =SUM(B68:B74) -> 8542000 | C75: =SUM(C68:C74) -> 0 | E75: =SUM(B75:D75) -> 8542000
A77: Kiadások, költségek | B77: 2026. | C77: 2027. | D77: 2027. után | E77: Összesen:
A78: Személyi jellegű | E78: =SUM(B78:D78) -> 0
A79: Beruházások, beszerzések | E79: =SUM(B79:D79) -> 0
A80: Szolgáltatások igénybe vétele | E80: =SUM(B80:D80) -> 0
A81: Adminisztratív költségek | E81: =SUM(B81:D81) -> 0
A82: Felhalmozási célú kiadás áht-n belülre | B82: 8542000 | E82: =SUM(B82:D82) -> 8542000
A83: Tartalék | E83: =SUM(B83:D83) -> 0
A84: Kiadások, költségek összesen: | B84: =SUM(B78:B83) -> 8542000 | C84: =SUM(C78:C83) -> 0 | D84: =SUM(D78:D83) -> 0 | E84: =SUM(E78:E83) -> 8542000
A86: EU-s projekt neve, azonosítója: Top-Plusz 3.3.2.-21 Idősek klubja
A87: Források | B87: 2026. | C87: 2027. | D87: 2027. után | E87: Összesen:
A88: Saját erő | B88: 4714684 | E88: =SUM(B88:D88) -> 4714684
A89: saját erőből központi támogatás | E89: =SUM(B89:D89) -> 0
A90: EU-s forrás | E90: =SUM(B90:D90) -> 0
A91: Társfinanszírozás | E91: =SUM(B91:D91) -> 0
A92: Hitel | E92: =SUM(B92:D92) -> 0
A93: Költségvetési maradvány | B93: 17210316 | E93: =SUM(B93:D93) -> 17210316
E94: =SUM(B94:D94) -> 0
A95: Források összesen: | B95: =SUM(B88:B94) -> 21925000 | C95: =SUM(C88:C94) -> 0 | E95: =SUM(B95:D95) -> 21925000
A97: Kiadások, költségek | B97: 2026. | C97: 2027. | D97: 2027. után | E97: Összesen:
A98: Személyi jellegű | E98: =SUM(B98:D98) -> 0
A99: Beruházások, beszerzések | E99: =SUM(B99:D99) -> 0
A100: Felújítás | B100: 14111000 | E100: =SUM(B100:D100) -> 14111000
A101: Szolgáltatások igénybe vétele | B101: 7814000 | E101: =SUM(B101:D101) -> 7814000
A102: Adminisztratív költségek | E102: =SUM(B102:D102) -> 0
A103: Tartalék | E103: =SUM(B103:D103) -> 0
A104: Kiadások, költségek összesen: | B104: =SUM(B98:B103) -> 21925000 | C104: =SUM(C98:C103) -> 0 | D104: =SUM(D98:D103) -> 0 | E104: =SUM(E98:E103) -> 21925000
A106: EU-s projekt neve, azonosítója: Top-Plusz 1.2.3.-21 Belterületi utak
A107: Források | B107: 2026. | C107: 2027. | D107: 2027. után | E107: Összesen:
A108: Saját erő | B108: 544 | E108: =SUM(B108:D108) -> 544
A109: saját erőből központi támogatás | E109: =SUM(B109:D109) -> 0
A110: EU-s forrás | E110: =SUM(B110:D110) -> 0
A111: Társfinanszírozás | E111: =SUM(B111:D111) -> 0
A112: Hitel | E112: =SUM(B112:D112) -> 0
A113: Költségvetési maradvány | B113: 208456 | E113: =SUM(B113:D113) -> 208456
...
